BEGIN:VCALENDAR
VERSION:2.0
PRODID:-//Alaska Democrats - ECPv6.15.20//NONSGML v1.0//EN
CALSCALE:GREGORIAN
METHOD:PUBLISH
X-ORIGINAL-URL:https://alaskademocrats.org
X-WR-CALDESC:Events for Alaska Democrats
REFRESH-INTERVAL;VALUE=DURATION:PT1H
X-Robots-Tag:noindex
X-PUBLISHED-TTL:PT1H
BEGIN:VTIMEZONE
TZID:America/Anchorage
BEGIN:DAYLIGHT
TZOFFSETFROM:-0900
TZOFFSETTO:-0800
TZNAME:AKDT
DTSTART:20220313T110000
END:DAYLIGHT
BEGIN:STANDARD
TZOFFSETFROM:-0800
TZOFFSETTO:-0900
TZNAME:AKST
DTSTART:20221106T100000
END:STANDARD
BEGIN:DAYLIGHT
TZOFFSETFROM:-0900
TZOFFSETTO:-0800
TZNAME:AKDT
DTSTART:20230312T110000
END:DAYLIGHT
BEGIN:STANDARD
TZOFFSETFROM:-0800
TZOFFSETTO:-0900
TZNAME:AKST
DTSTART:20231105T100000
END:STANDARD
BEGIN:DAYLIGHT
TZOFFSETFROM:-0900
TZOFFSETTO:-0800
TZNAME:AKDT
DTSTART:20240310T110000
END:DAYLIGHT
BEGIN:STANDARD
TZOFFSETFROM:-0800
TZOFFSETTO:-0900
TZNAME:AKST
DTSTART:20241103T100000
END:STANDARD
END:VTIMEZONE
BEGIN:VEVENT
DTSTART;VALUE=DATE:20230810
DTEND;VALUE=DATE:20230814
DTSTAMP:20260421T014934
CREATED:20230620T175800Z
LAST-MODIFIED:20230620T194636Z
UID:5338-1691704800-1691963999@alaskademocrats.org
SUMMARY:COMMUNITY EVENT: Kenai Peninsula Fair
DESCRIPTION:*This community event is not hosted by the AK Dems.
URL:https://alaskademocrats.org/event/community-event-kenai-peninsula-fair/
LOCATION:Ninilchik
END:VEVENT
BEGIN:VEVENT
DTSTART;TZID=America/Anchorage:20230811T100000
DTEND;TZID=America/Anchorage:20230811T110000
DTSTAMP:20260421T014934
CREATED:20230209T202756Z
LAST-MODIFIED:20230619T194612Z
UID:2293-1691748000-1691751600@alaskademocrats.org
SUMMARY:Interior Democrats Fahrenkamp Lunch
DESCRIPTION:In honor of Sen. Bettye Fahrenkamp\, join us for a monthly lunch with a community speaker. Every 2nd Friday @ Noon on Zoom\n\nJoin via Zoom at this link\n\nLearn more on the Interior Democrats FaceBook Page
URL:https://alaskademocrats.org/event/interior-democrats-fahrenkamp-lunch-7/
LOCATION:AK
END:VEVENT
BEGIN:VEVENT
DTSTART;TZID=America/Anchorage:20230811T183000
DTEND;TZID=America/Anchorage:20230811T203000
DTSTAMP:20260421T014934
CREATED:20230607T160543Z
LAST-MODIFIED:20230619T194605Z
UID:4949-1691778600-1691785800@alaskademocrats.org
SUMMARY:AKYD Happy Hour
DESCRIPTION:Join the Alaska Young Democrats for happy hour!
URL:https://alaskademocrats.org/event/akyd-happy-hour-3/
LOCATION:Zoom
ORGANIZER;CN="Alaska Young Democrats":MAILTO:youngdems49@gmail.com
END:VEVENT
BEGIN:VEVENT
DTSTART;VALUE=DATE:20230811
DTEND;VALUE=DATE:20230813
DTSTAMP:20260421T014934
CREATED:20230620T175903Z
LAST-MODIFIED:20230620T175903Z
UID:5340-1691791200-1691877599@alaskademocrats.org
SUMMARY:COMMUNITY EVENT: Galway Days Irish Festival
DESCRIPTION:*This community event is not hosted by the AK Dems.
URL:https://alaskademocrats.org/event/community-event-galway-days-irish-festival/
LOCATION:Anchorage
END:VEVENT
BEGIN:VEVENT
DTSTART;VALUE=DATE:20230811
DTEND;VALUE=DATE:20230813
DTSTAMP:20260421T014934
CREATED:20230620T175959Z
LAST-MODIFIED:20230620T175959Z
UID:5342-1691791200-1691877599@alaskademocrats.org
SUMMARY:COMMUNITY EVENT: Ester Fest
DESCRIPTION:*This community event is not hosted by the AK Dems.
URL:https://alaskademocrats.org/event/community-event-ester-fest/
LOCATION:Fairbanks
END:VEVENT
BEGIN:VEVENT
DTSTART;TZID=America/Anchorage:20230812T130000
DTEND;TZID=America/Anchorage:20230812T143000
DTSTAMP:20260421T014934
CREATED:20230607T160713Z
LAST-MODIFIED:20230619T194559Z
UID:4951-1691845200-1691850600@alaskademocrats.org
SUMMARY:AKYD Monthly Meeting
DESCRIPTION:Join the Alaska Young Democrats for their monthly meeting. You must register in advance for this meeting: https://us06web.zoom.us/meeting/register/tZYkf-GvqD4iEtDdZvUQ2lhpk5OaZN1Txwq0\n\n\nAfter registering\, you will receive a confirmation email containing information about joining the meeting.
URL:https://alaskademocrats.org/event/akyd-monthly-meeting-3/
LOCATION:Zoom
ORGANIZER;CN="Alaska Young Democrats":MAILTO:youngdems49@gmail.com
END:VEVENT
BEGIN:VEVENT
DTSTART;TZID=America/Anchorage:20230813T140000
DTEND;TZID=America/Anchorage:20230813T170000
DTSTAMP:20260421T014934
CREATED:20230811T200130Z
LAST-MODIFIED:20230811T200130Z
UID:5702-1691935200-1691946000@alaskademocrats.org
SUMMARY:Auction/Potluck Fundraiser to support Liz Reeves-Ramos for Borough Assembly
DESCRIPTION:Enjoy a potluck and auction to help Liz Reeves-Ramos for Assembly!
URL:https://alaskademocrats.org/event/auction-potluck-fundraiser-to-support-liz-reeves-ramos-for-borough-assembly/
LOCATION:159 Kniffen Rd\, 159 Kniffen Rd\, Fairbanks\, Alaska
CATEGORIES:Candidate Event
END:VEVENT
BEGIN:VEVENT
DTSTART;VALUE=DATE:20230817
DTEND;VALUE=DATE:20230821
DTSTAMP:20260421T014934
CREATED:20230620T180056Z
LAST-MODIFIED:20230620T180056Z
UID:5344-1692309600-1692568799@alaskademocrats.org
SUMMARY:COMMUNITY EVENT: Alaska Greek Festival
DESCRIPTION:*This community event is not hosted by the AK Dems.
URL:https://alaskademocrats.org/event/community-event-alaska-greek-festival/
LOCATION:Anchorage
END:VEVENT
BEGIN:VEVENT
DTSTART;VALUE=DATE:20230817
DTEND;VALUE=DATE:20230905
DTSTAMP:20260421T014934
CREATED:20230607T161436Z
LAST-MODIFIED:20230619T194554Z
UID:4964-1692313200-1693868399@alaskademocrats.org
SUMMARY:Mat-Su Democrats Booth at the Alaska State Fair
DESCRIPTION:Join the Mat-Su Dems at the Alaska State Fair. Look for their booth on the Green Trail!
URL:https://alaskademocrats.org/event/mat-su-democrats-booth-at-the-alaska-state-fair/
LOCATION:Alaska State Fair Inc\, 2075 Glenn Hwy\, Palmer\, AK\, AK\, 99645\, United States
END:VEVENT
BEGIN:VEVENT
DTSTART;TZID=America/Anchorage:20230819T100000
DTEND;TZID=America/Anchorage:20230819T130000
DTSTAMP:20260421T014934
CREATED:20230607T161159Z
LAST-MODIFIED:20230619T194540Z
UID:4961-1692439200-1692450000@alaskademocrats.org
SUMMARY:Tongass Democrats Annual Picnic
DESCRIPTION:Join the Tongass Dems for their annual get-together – come and visit with your fellow Democrats\, and maybe we’ll have some candidates to meet as well.\n\nThey’ll have burgers\, but bring a side dish to share\, if you can!
URL:https://alaskademocrats.org/event/tongass-democrats-annual-picnic-2/
LOCATION:Sandy Beach\, 1031 Sandy Beach Loop Road\, Petersburg\, AK\, 99833\, United States
ORGANIZER;CN="Tongass Democrats":MAILTO:tongassdemocrats@gmail.com
END:VEVENT
BEGIN:VEVENT
DTSTART;TZID=America/Anchorage:20230822T153000
DTEND;TZID=America/Anchorage:20230822T170000
DTSTAMP:20260421T014934
CREATED:20230817T015818Z
LAST-MODIFIED:20230817T015818Z
UID:5722-1692718200-1692723600@alaskademocrats.org
SUMMARY:Meet & Greet BBQ Fundraiser with Les Gara & Carl Jacobs
DESCRIPTION:Prepare yourself for an incredible evening with Les Gara serving as grillmaster for this event! He’ll be joined by a remarkable ensemble of 35 cohosts at the charming southside home of Janice Park for a sizzling soirée like no other—a Meat & Greet BBQ fundraiser with all of the trimmings to help re-elect Carl Jacobs to the Anchorage School Board!Host: Janice Park / Cohosts: Eric Croft\, Forrest Dunbar\, Andrew Gray\, Elvi Gray-Jackson\, Donna Mears\, Calvin Schrage\, Jane Angvik\, Molua Smith Becke\, Irene Boll\, Deborah Bonito\, Kay Brown\, Harriet Drummond\, Vic Fischer\, Chelsea Foster\, Mike Gault\, Barbara Gazaway\, Hal Gazaway\, Patrick Higgins\, Patricia Higgins\, Tasha Hotch\, Lindsay Kavanaugh\, Rachael Lalki\, Elstun Lauesen\, Lizzie Newell\, Neil O’Donnell\, Patricia O’Hara\, Katherine Pfeiffer\, MacKenzie Pope\, April Rochford\, Marilyn Russell\, Caitlin Shortell\, Susan Soule\, Margaret Stock\, and Roz’lyn Grady-Wyche.
URL:https://alaskademocrats.org/event/meet-greet-bbq-fundraiser-with-les-gara-carl-jacobs/
LOCATION:2930 E 84th Ave\, 2930 E 84th Ave\, Anchorage\, AK\, 99507\, United States
CATEGORIES:Candidate Event,Fundraiser
END:VEVENT
BEGIN:VEVENT
DTSTART;TZID=America/Anchorage:20230822T170000
DTEND;TZID=America/Anchorage:20230822T180000
DTSTAMP:20260421T014934
CREATED:20230607T161317Z
LAST-MODIFIED:20230619T194529Z
UID:4966-1692723600-1692727200@alaskademocrats.org
SUMMARY:AKYD Finance Committee
DESCRIPTION:Join the Alaska Young Democrats for their monthly finance meeting!\n\nFinance meetings are every fourth Tuesday of the month.
URL:https://alaskademocrats.org/event/akyd-finance-committee-3/
LOCATION:AK
ORGANIZER;CN="Alaska Young Democrats":MAILTO:youngdems49@gmail.com
END:VEVENT
BEGIN:VEVENT
DTSTART;TZID=America/Anchorage:20230823T163000
DTEND;TZID=America/Anchorage:20230823T180000
DTSTAMP:20260421T014934
CREATED:20230526T021210Z
LAST-MODIFIED:20230619T194525Z
UID:4852-1692808200-1692813600@alaskademocrats.org
SUMMARY:Interior Democrats Monthly Meeting
DESCRIPTION:Join the Interior Democrats for our monthly meeting!\nThe Interior Democrats are currently meeting online. \nMonthly Business Meetings: This meeting is an update on committee work\, upcoming events\, finances and the business matters of the organization. \n 
URL:https://alaskademocrats.org/event/interior-democrats-monthly-meeting-3/
LOCATION:Zoom
CATEGORIES:Monthly Meeting
ORGANIZER;CN="Interior Democrats":MAILTO:interiordems@gmail.com
END:VEVENT
BEGIN:VEVENT
DTSTART;TZID=America/Anchorage:20230824T143000
DTEND;TZID=America/Anchorage:20230824T163000
DTSTAMP:20260421T014934
CREATED:20230817T013749Z
LAST-MODIFIED:20230817T013749Z
UID:5716-1692887400-1692894600@alaskademocrats.org
SUMMARY:Peltola Victory Fund Fundraiser
DESCRIPTION:Join Congresswoman Mary Peltola and many wonderful co-hosts including Representative Andrew Gray and Vice Chair Jessica Cook to fundraise for 2024! Contributions to the Peltola Victory Fund will be allocated to Mary Peltola for Alaska and designated for the general election and to the Alaska Democratic Party in accordance with agreed to terms.
URL:https://alaskademocrats.org/event/peltola-victory-fund-fundraiser/
LOCATION:6320 W. Dimond Blvd.\, 6320 W. Dimond Blvd.\, Anchorage\, AK\, 99502\, United States
CATEGORIES:Candidate Event,Fundraiser
END:VEVENT
BEGIN:VEVENT
DTSTART;TZID=America/Anchorage:20230826T120000
DTEND;TZID=America/Anchorage:20230826T170000
DTSTAMP:20260421T014934
CREATED:20230628T195841Z
LAST-MODIFIED:20230628T195841Z
UID:5495-1693051200-1693069200@alaskademocrats.org
SUMMARY:Donna Spragg Pegues' Celebration of Life
DESCRIPTION:Having moved to Alaska to complete research with the Territorial Legislative Council\, Donna continued to help the state as a staff member in the state legislature and the Legislative Affairs Agency. Donna helped to found the League of Women Voters in Juneau. Before retiring\, Donna worked as the Clerk of the Alaska Supreme Court and Co-revisor of Statutes for Legislative Affairs. Please join us to celebrate the amazing life of Donna Spragg Pegues\, a lifelong Democrat and generous supporter of the Party. 
URL:https://alaskademocrats.org/event/donna-spragg-pegues-celebration-of-life/
LOCATION:Juneau Yacht Club\, 1301 Harbor Way\, Juneau\, AK\, 99801\, United States
END:VEVENT
BEGIN:VEVENT
DTSTART;VALUE=DATE:20230826
DTEND;VALUE=DATE:20230828
DTSTAMP:20260421T014934
CREATED:20230620T180208Z
LAST-MODIFIED:20230620T180208Z
UID:5352-1693087200-1693173599@alaskademocrats.org
SUMMARY:COMMUNITY EVENT: Fairbanks Fungi Fest
DESCRIPTION:*This community event is not hosted by the AK Dems.
URL:https://alaskademocrats.org/event/community-event-fairbanks-fungi-fest/
LOCATION:Fairbanks
END:VEVENT
BEGIN:VEVENT
DTSTART;TZID=America/Anchorage:20230828T153000
DTEND;TZID=America/Anchorage:20230828T173000
DTSTAMP:20260421T014934
CREATED:20230526T015812Z
LAST-MODIFIED:20230619T194456Z
UID:4842-1693236600-1693243800@alaskademocrats.org
SUMMARY:Anchorage Democrats Monthly Meeting
DESCRIPTION:Join the Anchorage Democrats for our monthly meeting!\n\nhttps://us02web.zoom.us/j/89217991722?pwd=RkhuMWNVNkhQaTBpcGlSVFgzM0hTUT09 \n\nMeeting ID: 892 1799 1722 \n\nPasscode: 533928
URL:https://alaskademocrats.org/event/anchorage-democrats-monthly-meeting-4/
LOCATION:Zoom
ORGANIZER;CN="Anchorage Democrats":MAILTO:info@anchoragedems.org
END:VEVENT
BEGIN:VEVENT
DTSTART;TZID=America/Anchorage:20230828T220000
DTEND;TZID=America/Anchorage:20230828T220000
DTSTAMP:20260421T014934
CREATED:20230829T195025Z
LAST-MODIFIED:20230829T195025Z
UID:5731-1693260000-1693260000@alaskademocrats.org
SUMMARY:Meet Mary Peltola in the Mat-Su
DESCRIPTION:Join the Mat-Su Democrats as they host Congresswoman Peltola for a meet and greet at Moonstone Farm!
URL:https://alaskademocrats.org/event/meet-mary-peltola-in-the-mat-su/
LOCATION:Moonstone Farm\, 2141 S Church St\, Gateway\, Alaska\, 99645
CATEGORIES:Event
END:VEVENT
BEGIN:VEVENT
DTSTART;TZID=America/Anchorage:20230901T130000
DTEND;TZID=America/Anchorage:20230901T150000
DTSTAMP:20260421T014934
CREATED:20230724T181356Z
LAST-MODIFIED:20230724T181356Z
UID:5630-1693573200-1693580400@alaskademocrats.org
SUMMARY:University of Alaska Southeast Juneau Campus Kickoff with the Tongass Democrats
DESCRIPTION:Join the Tongass Democrats in welcoming UAS Juneau back to campus on the UAS Juneau Mourant Courtyard! 
URL:https://alaskademocrats.org/event/university-of-alaska-southeast-juneau-campus-kickoff-with-the-tongass-democrats/
LOCATION:University of Alaska Juneau\, 11066 Auke Lake Way\, Juneau\, AK\, 99801\, United States
CATEGORIES:Event
ORGANIZER;CN="Tongass Democrats":MAILTO:tongassdemocrats@gmail.com
END:VEVENT
BEGIN:VEVENT
DTSTART;VALUE=DATE:20230901
DTEND;VALUE=DATE:20230904
DTSTAMP:20260421T014934
CREATED:20230620T180322Z
LAST-MODIFIED:20230620T180322Z
UID:5354-1693605600-1693778399@alaskademocrats.org
SUMMARY:COMMUNITY EVENT: Fungus Fair
DESCRIPTION:*This community event is not hosted by the AK Dems.
URL:https://alaskademocrats.org/event/community-event-fungus-fair/
LOCATION:Girdwood
END:VEVENT
BEGIN:VEVENT
DTSTART;TZID=America/Anchorage:20230902T090000
DTEND;TZID=America/Anchorage:20230902T110000
DTSTAMP:20260421T014934
CREATED:20230607T161444Z
LAST-MODIFIED:20230619T194449Z
UID:4968-1693645200-1693652400@alaskademocrats.org
SUMMARY:Mat-Su Dems Monthly Meeting
DESCRIPTION:Join the Mat-Su Dems as they invite all “Lefters” to our monthly meetings. You don’t have to be a Democrat or live in the Mat-Su!\n\nThis month will be a hybrid – in-person and Zoom.\n\nIf you want to participate in person\, just come to the above address.\n\nIf you want to join by Zoom register here.\nhttps://us02web.zoom.us/j/89131721691?pwd=RDRRb3RzSHlrcEovU0pHODgwa05uZz09
URL:https://alaskademocrats.org/event/mat-su-dems-monthly-meeting-3/
LOCATION:Zoom
END:VEVENT
BEGIN:VEVENT
DTSTART;TZID=America/Anchorage:20230903T120000
DTEND;TZID=America/Anchorage:20230903T133000
DTSTAMP:20260421T014934
CREATED:20230817T014203Z
LAST-MODIFIED:20230817T014203Z
UID:5719-1693742400-1693747800@alaskademocrats.org
SUMMARY:Constituent Coffee with Rep. Andrew Gray
DESCRIPTION:Catch up with Rep. Gray at the Den at UAA Student Union to learn about his plan for the upcoming session. 
URL:https://alaskademocrats.org/event/constituent-coffee-with-rep-andrew-gray/
LOCATION:The Den at UAA Student Union\, 2921 Spirit Way\, Anchorage\, AK\, 99508\, United States
CATEGORIES:Event
END:VEVENT
BEGIN:VEVENT
DTSTART;TZID=America/Anchorage:20230906T163000
DTEND;TZID=America/Anchorage:20230906T183000
DTSTAMP:20260421T014934
CREATED:20230905T192843Z
LAST-MODIFIED:20230905T192843Z
UID:5755-1694017800-1694025000@alaskademocrats.org
SUMMARY:Meet Mary with the Tongass Democrats
DESCRIPTION:Join the Tongass Democrats with Rep. Mike Thompson (CA)\, Rep. Eric Swalwell (CA)\, and Rep. Dan Kildee (MI) to fundraise to re-elect Representative Mary Peltola!
URL:https://alaskademocrats.org/event/meet-mary-with-the-tongass-democrats/
LOCATION:3220 Douglas Hwy\, 3220 Douglas Hwy\, Juneau\, AK\, 99801\, United States
CATEGORIES:Event,Fundraiser
ORGANIZER;CN="Tongass Democrats":MAILTO:tongassdemocrats@gmail.com
END:VEVENT
BEGIN:VEVENT
DTSTART;TZID=America/Anchorage:20230907T161500
DTEND;TZID=America/Anchorage:20230907T171500
DTSTAMP:20260421T014934
CREATED:20230607T161751Z
LAST-MODIFIED:20230619T194444Z
UID:4973-1694103300-1694106900@alaskademocrats.org
SUMMARY:Tongass Democrats Business Meeting
DESCRIPTION:Join the Tongass Democrats for their business meeting!
URL:https://alaskademocrats.org/event/tongass-democrats-business-meeting-3/
LOCATION:IBEW\, 2000 Airport Way\, Anchorage\, Fairbanks\, 99701
ORGANIZER;CN="Tongass Democrats":MAILTO:tongassdemocrats@gmail.com
END:VEVENT
BEGIN:VEVENT
DTSTART;VALUE=DATE:20230907
DTEND;VALUE=DATE:20230911
DTSTAMP:20260421T014934
CREATED:20230620T180439Z
LAST-MODIFIED:20230620T194843Z
UID:5356-1694124000-1694383199@alaskademocrats.org
SUMMARY:COMMUNITY EVENT: Fungus Festival
DESCRIPTION:*This community event is not hosted by the AK Dems.
URL:https://alaskademocrats.org/event/community-event-fungus-festival/
LOCATION:Cordova
END:VEVENT
BEGIN:VEVENT
DTSTART;VALUE=DATE:20230907
DTEND;VALUE=DATE:20230911
DTSTAMP:20260421T014934
CREATED:20230620T180546Z
LAST-MODIFIED:20230620T180546Z
UID:5358-1694124000-1694383199@alaskademocrats.org
SUMMARY:COMMUNITY EVENT: Sacred Acre
DESCRIPTION:*This community event is not hosted by the AK Dems.
URL:https://alaskademocrats.org/event/community-event-sacred-acre/
LOCATION:Ninilchik
END:VEVENT
BEGIN:VEVENT
DTSTART;TZID=America/Anchorage:20230908T100000
DTEND;TZID=America/Anchorage:20230908T110000
DTSTAMP:20260421T014934
CREATED:20230209T202829Z
LAST-MODIFIED:20230619T194435Z
UID:2295-1694167200-1694170800@alaskademocrats.org
SUMMARY:Interior Democrats Fahrenkamp Lunch
DESCRIPTION:In honor of Sen. Bettye Fahrenkamp\, join us for a monthly lunch with a community speaker. Every 2nd Friday @ Noon on Zoom\n\nJoin via Zoom at this link\n\nLearn more on the Interior Democrats FaceBook Page
URL:https://alaskademocrats.org/event/interior-democrats-fahrenkamp-lunch-8/
LOCATION:AK
END:VEVENT
BEGIN:VEVENT
DTSTART;TZID=America/Anchorage:20230908T183000
DTEND;TZID=America/Anchorage:20230908T203000
DTSTAMP:20260421T014934
CREATED:20230607T161930Z
LAST-MODIFIED:20230619T194407Z
UID:4977-1694197800-1694205000@alaskademocrats.org
SUMMARY:AKYD Happy Hour
DESCRIPTION:Join the Alaska Young Democrats for happy hour!
URL:https://alaskademocrats.org/event/akyd-happy-hour-4/
LOCATION:Zoom
ORGANIZER;CN="Alaska Young Democrats":MAILTO:youngdems49@gmail.com
END:VEVENT
BEGIN:VEVENT
DTSTART;TZID=America/Anchorage:20230909T080000
DTEND;TZID=America/Anchorage:20230909T100000
DTSTAMP:20260421T014934
CREATED:20230907T190137Z
LAST-MODIFIED:20230907T190137Z
UID:5775-1694246400-1694253600@alaskademocrats.org
SUMMARY:Mat-Su Dems Monthly Meeting
DESCRIPTION:Join the Mat-Su Democrats and learn about upcoming election of officers and changes to the bylaws! You don’t have to be a registered Democrat or in the Mat-Su. We welcome lefters from across the state and beyond to come join us!And\, of course\, we will discuss recent political issues. Register here. https://mobilize.us/s/IYDtPU
URL:https://alaskademocrats.org/event/mat-su-dems-monthly-meeting-7/
LOCATION:Zoom
CATEGORIES:Event
END:VEVENT
BEGIN:VEVENT
DTSTART;TZID=America/Anchorage:20230909T130000
DTEND;TZID=America/Anchorage:20230909T143000
DTSTAMP:20260421T014934
CREATED:20230607T162124Z
LAST-MODIFIED:20230619T194403Z
UID:4981-1694264400-1694269800@alaskademocrats.org
SUMMARY:AKYD Monthly Meeting
DESCRIPTION:Join the Alaska Young Democrats for their monthly meeting. You must register in advance for this meeting: https://us06web.zoom.us/meeting/register/tZYkf-GvqD4iEtDdZvUQ2lhpk5OaZN1Txwq0\n\n\nAfter registering\, you will receive a confirmation email containing information about joining the meeting.
URL:https://alaskademocrats.org/event/akyd-monthly-meeting-4/
LOCATION:Zoom
ORGANIZER;CN="Alaska Young Democrats":MAILTO:youngdems49@gmail.com
END:VEVENT
END:VCALENDAR