BEGIN:VCALENDAR
VERSION:2.0
PRODID:-//Alaska Democrats - ECPv6.15.20//NONSGML v1.0//EN
CALSCALE:GREGORIAN
METHOD:PUBLISH
X-WR-CALNAME:Alaska Democrats
X-ORIGINAL-URL:https://alaskademocrats.org
X-WR-CALDESC:Events for Alaska Democrats
REFRESH-INTERVAL;VALUE=DURATION:PT1H
X-Robots-Tag:noindex
X-PUBLISHED-TTL:PT1H
BEGIN:VTIMEZONE
TZID:America/Anchorage
BEGIN:DAYLIGHT
TZOFFSETFROM:-0900
TZOFFSETTO:-0800
TZNAME:AKDT
DTSTART:20240310T110000
END:DAYLIGHT
BEGIN:STANDARD
TZOFFSETFROM:-0800
TZOFFSETTO:-0900
TZNAME:AKST
DTSTART:20241103T100000
END:STANDARD
BEGIN:DAYLIGHT
TZOFFSETFROM:-0900
TZOFFSETTO:-0800
TZNAME:AKDT
DTSTART:20250309T110000
END:DAYLIGHT
BEGIN:STANDARD
TZOFFSETFROM:-0800
TZOFFSETTO:-0900
TZNAME:AKST
DTSTART:20251102T100000
END:STANDARD
BEGIN:DAYLIGHT
TZOFFSETFROM:-0900
TZOFFSETTO:-0800
TZNAME:AKDT
DTSTART:20260308T110000
END:DAYLIGHT
BEGIN:STANDARD
TZOFFSETFROM:-0800
TZOFFSETTO:-0900
TZNAME:AKST
DTSTART:20261101T100000
END:STANDARD
END:VTIMEZONE
BEGIN:VEVENT
DTSTART;TZID=America/Anchorage:20250729T164500
DTEND;TZID=America/Anchorage:20250729T180000
DTSTAMP:20260421T112401
CREATED:20250717T163600Z
LAST-MODIFIED:20250717T163600Z
UID:19322-1753807500-1753812000@alaskademocrats.org
SUMMARY:Sign Waving with Mat-Su Democrats
DESCRIPTION:Join the Mat-Su Democrats for sign-waving at the corner of Glenn Hwy & E Palmer Wasilla Hwy.
URL:https://alaskademocrats.org/event/sign-waving-with-mat-su-democrats-2/
LOCATION:Corner of Glenn Hwy & E Palmer Wasilla Hwy\, Palmer
CATEGORIES:Event
END:VEVENT
BEGIN:VEVENT
DTSTART;TZID=America/Anchorage:20250726T090000
DTEND;TZID=America/Anchorage:20250726T110000
DTSTAMP:20260421T112401
CREATED:20250717T160137Z
LAST-MODIFIED:20250717T160137Z
UID:19285-1753520400-1753527600@alaskademocrats.org
SUMMARY:Coffee Chat with Anchorage Democrats
DESCRIPTION:Start your morning off right with good coffee\, good food\, and great conversation! Come connect with fellow Anchorage Democrats for a casual breakfast chat — no agenda\, just a chance to share ideas\, build community\, and get energized for the work ahead.
URL:https://alaskademocrats.org/event/coffee-chat-with-anchorage-democrats-2/
LOCATION:Heidi’s Family Restaurant\, 5121 Arctic Blvd\, Anchorage\, AK\, 99503\, United States
CATEGORIES:Event
ATTACH;FMTTYPE=image/jpeg:https://alaskademocrats.org/wp-content/uploads/2025/07/20250726_AnchorageDems_CoffeeChat.jpg
ORGANIZER;CN="Anchorage Democrats":MAILTO:info@anchoragedems.org
END:VEVENT
BEGIN:VEVENT
DTSTART;TZID=America/Anchorage:20250725T180000
DTEND;TZID=America/Anchorage:20250725T200000
DTSTAMP:20260421T112401
CREATED:20250717T155829Z
LAST-MODIFIED:20250717T155839Z
UID:19283-1753466400-1753473600@alaskademocrats.org
SUMMARY:Monthly Egan Dinner with Mat-Su Democrats
DESCRIPTION:Join the Mat-Su Democrats for a monthly dinner\, featuring a different special guest speaker every time!
URL:https://alaskademocrats.org/event/monthly-egan-dinner-with-mat-su-democrats/
LOCATION:Turkey Red\, 550 S Alaska St\, Palmer\, AK\, 99645\, United States
CATEGORIES:Event
END:VEVENT
BEGIN:VEVENT
DTSTART;TZID=America/Anchorage:20250725T120000
DTEND;TZID=America/Anchorage:20250803T220000
DTSTAMP:20260421T112401
CREATED:20250717T155646Z
LAST-MODIFIED:20250717T155646Z
UID:19280-1753444800-1754258400@alaskademocrats.org
SUMMARY:Stop by the Interior Democrats' Booth at the Tanana Valley Fair
DESCRIPTION:Stop by the Interior Democrats’ booth to learn more about candidates and how to get involved with the Interior Democrats!
URL:https://alaskademocrats.org/event/stop-by-the-interior-democrats-booth-at-the-tanana-valley-fair/
LOCATION:Tanana Valley State Fair\, 1800 College Road\, Fairbanks\, AK\, 99709\, United States
CATEGORIES:Event
ORGANIZER;CN="Interior Democrats":MAILTO:interiordems@gmail.com
END:VEVENT
BEGIN:VEVENT
DTSTART;TZID=America/Anchorage:20250724T164500
DTEND;TZID=America/Anchorage:20250724T180000
DTSTAMP:20260421T112401
CREATED:20250717T171334Z
LAST-MODIFIED:20250717T171334Z
UID:19355-1753375500-1753380000@alaskademocrats.org
SUMMARY:Sign Waving with Mat-Su Democrats
DESCRIPTION:Join the Mat-Su Democrats for sign-waving at the corner of old Trunk Road & E Palmer Wasilla Hwy.
URL:https://alaskademocrats.org/event/sign-waving-with-mat-su-democrats-14/
LOCATION:Corner of old Trunk Road & E Palmer Wasilla Hwy\, Palmer
CATEGORIES:Event
END:VEVENT
BEGIN:VEVENT
DTSTART;TZID=America/Anchorage:20250723T164500
DTEND;TZID=America/Anchorage:20250723T180000
DTSTAMP:20260421T112401
CREATED:20250717T165521Z
LAST-MODIFIED:20250717T170543Z
UID:19332-1753289100-1753293600@alaskademocrats.org
SUMMARY:Sign Waving with Mat-Su Democrats
DESCRIPTION:Join the Mat-Su Democrats for sign-waving at the corner of Newcomb Park & Parks Hwy.
URL:https://alaskademocrats.org/event/sign-waving-with-mat-su-democrats-7/
LOCATION:Corner of Newcomb Park & Parks Hwy\, Wasilla\, AK 99654
CATEGORIES:Event
END:VEVENT
BEGIN:VEVENT
DTSTART;TZID=America/Anchorage:20250722T180000
DTEND;TZID=America/Anchorage:20250722T193000
DTSTAMP:20260421T112401
CREATED:20250717T154257Z
LAST-MODIFIED:20250717T154310Z
UID:19264-1753207200-1753212600@alaskademocrats.org
SUMMARY:Pizza in the Park with Rep. Mears\, Rep. Eischeid\, and Sen. Wielechowski
DESCRIPTION:Join Rep. Donna Mears\, Rep. Ted Eischeid\, and Sen. Bill Wielechowski on Tuesday\, July 22nd at 6 PM for Pizza in the Park with your Muldoon Representatives!
URL:https://alaskademocrats.org/event/pizza-in-the-park-with-rep-mears-rep-eischeid-and-sen-wielechowski/
LOCATION:Chanshtnu Muldoon Park\, Anchorage\, Alaska
CATEGORIES:Event
ATTACH;FMTTYPE=image/jpeg:https://alaskademocrats.org/wp-content/uploads/2025/07/PizzaInThePark_RepMearsRepEischeidSenWielechowski.jpg
END:VEVENT
BEGIN:VEVENT
DTSTART;TZID=America/Anchorage:20250722T164500
DTEND;TZID=America/Anchorage:20250722T180000
DTSTAMP:20260421T112401
CREATED:20250717T163427Z
LAST-MODIFIED:20250717T163427Z
UID:19319-1753202700-1753207200@alaskademocrats.org
SUMMARY:Sign Waving with Mat-Su Democrats
DESCRIPTION:Join the Mat-Su Democrats for sign-waving at the corner of Glenn Hwy & E Palmer Wasilla Hwy.
URL:https://alaskademocrats.org/event/sign-waving-with-mat-su-democrats/
LOCATION:Corner of Glenn Hwy & E Palmer Wasilla Hwy\, Palmer
CATEGORIES:Event
END:VEVENT
BEGIN:VEVENT
DTSTART;TZID=America/Anchorage:20250720T120000
DTEND;TZID=America/Anchorage:20250720T160000
DTSTAMP:20260421T112401
CREATED:20250717T155404Z
LAST-MODIFIED:20250717T155437Z
UID:19277-1753012800-1753027200@alaskademocrats.org
SUMMARY:Celebration of Life/Annual Picnic with Mat-Su Democrats
DESCRIPTION:This is a celebration of life for Sarah Welton and Jerry Rexrode\, Sarah’s husband\, who died before COVID. There will be music\, tributes\, and reflections! Fill up on hamburgers and hot dogs that will be provided. Bring a side dish to share\, beverages\, chairs\, blankets\, and stories to tell about these two. Sarah has requested NO gifts and NO alcohol. She would also appreciate any help with set-up and take-down. Come celebrate our friend and fellow Dem as she celebrates her life and that of her late husband!
URL:https://alaskademocrats.org/event/celebration-of-life-annual-picnic-mat-su/
LOCATION:Wonderland Park\, 594 W. Nelson Ave\, Wasilla\, AK\, 99654\, United States
CATEGORIES:Event
END:VEVENT
BEGIN:VEVENT
DTSTART;TZID=America/Anchorage:20250719T093000
DTEND;TZID=America/Anchorage:20250719T110000
DTSTAMP:20260421T112401
CREATED:20250717T153951Z
LAST-MODIFIED:20250717T153951Z
UID:19259-1752917400-1752922800@alaskademocrats.org
SUMMARY:Coffee Chat with Rep. Donna Mears
DESCRIPTION:Join Representative Donna Mears for a coffee and a chat!
URL:https://alaskademocrats.org/event/coffee-chat-with-rep-donna-mears/
LOCATION:Kaladi Brothers Coffee\, 6901 East Tudor\, Anchorage\, AK\, 99507\, United States
CATEGORIES:Event
ATTACH;FMTTYPE=image/jpeg:https://alaskademocrats.org/wp-content/uploads/2025/07/CoffeeChat_RepMears.jpg
END:VEVENT
BEGIN:VEVENT
DTSTART;TZID=America/Anchorage:20250719T090000
DTEND;TZID=America/Anchorage:20250719T170000
DTSTAMP:20260421T112401
CREATED:20250717T155112Z
LAST-MODIFIED:20250717T155112Z
UID:19274-1752915600-1752944400@alaskademocrats.org
SUMMARY:Stop by the Interior Democrats' Booth at the Golden Days Street Fair
DESCRIPTION:Stop by the Interior Democrats’ table to learn more about candidates and how to get involved with the Interior Democrats!Stop by the Interior Democrats’ table to learn more about candidates and how to get involved with the Interior Democrats!
URL:https://alaskademocrats.org/event/stop-by-the-interior-democrats-booth-at-the-golden-days-street-fair/
LOCATION:Golden Heart Plaza and 1st Ave\, Fairbanks\, AK
CATEGORIES:Event
ORGANIZER;CN="Interior Democrats":MAILTO:interiordems@gmail.com
END:VEVENT
BEGIN:VEVENT
DTSTART;TZID=America/Anchorage:20250717T180000
DTEND;TZID=America/Anchorage:20250717T190000
DTSTAMP:20260421T112401
CREATED:20250716T161053Z
LAST-MODIFIED:20250716T161205Z
UID:19229-1752775200-1752778800@alaskademocrats.org
SUMMARY:Northern Lights\, Liberal Nights with Mat-Su Democrats and ADP Chair Eric Croft
DESCRIPTION:Enjoy the company of fellow progressives in the Mat-Su for eats\, beverages\, and great and lively conversation. Alaska Democratic Party Chair Eric Croft will be joining Mat-Su Dems this week!
URL:https://alaskademocrats.org/event/northern-lights-liberal-nights/
LOCATION:Bleeding Heart Brewery\, 562 S Denali St\, Palmer\, AK 99645\, USA
CATEGORIES:Event
END:VEVENT
BEGIN:VEVENT
DTSTART;TZID=America/Anchorage:20250717T170000
DTEND;TZID=America/Anchorage:20250717T180000
DTSTAMP:20260421T112401
CREATED:20250717T153556Z
LAST-MODIFIED:20250717T153617Z
UID:19256-1752771600-1752775200@alaskademocrats.org
SUMMARY:Good Trouble\, National Day of Action\, with Mat-Su Democrats
DESCRIPTION:Join the Mat-Su Democrats for a peaceful rally following in the footsteps of former Rep. John Lewis who coined the phrase “Good Trouble”. Join together with signs and determination to confront injustice and demand change.
URL:https://alaskademocrats.org/event/good-trouble-national-day-of-action/
LOCATION:Corner of Glenn and Palmer Wasilla Highway
CATEGORIES:Event
END:VEVENT
BEGIN:VEVENT
DTSTART;TZID=America/Anchorage:20250717T164500
DTEND;TZID=America/Anchorage:20250717T180000
DTSTAMP:20260421T112401
CREATED:20250717T171134Z
LAST-MODIFIED:20250717T171134Z
UID:19345-1752770700-1752775200@alaskademocrats.org
SUMMARY:Sign Waving with Mat-Su Democrats
DESCRIPTION:Join the Mat-Su Democrats for sign-waving at the corner of old Trunk Road & E Palmer Wasilla Hwy.
URL:https://alaskademocrats.org/event/sign-waving-with-mat-su-democrats-13/
LOCATION:Corner of old Trunk Road & E Palmer Wasilla Hwy\, Palmer
CATEGORIES:Event
END:VEVENT
BEGIN:VEVENT
DTSTART;TZID=America/Anchorage:20250717T120000
DTEND;TZID=America/Anchorage:20250717T120000
DTSTAMP:20260421T112401
CREATED:20250717T152649Z
LAST-MODIFIED:20250717T152649Z
UID:19245-1752753600-1752753600@alaskademocrats.org
SUMMARY:Barttlet Community Forum with Sen. Elvi Gray-Jackson
DESCRIPTION:You’re invited to join me this Thursday\, July 17th at 12:00 PM at the Senior Activities Center\, located at 1300 East 19th Avenue\, where I will be speaking at the Bartlett Community Forum. It’s an honor to participate in this meaningful event\, and I look forward to connecting with members of our community.
URL:https://alaskademocrats.org/event/barttlet-community-forum-with-sen-elvi-gray-jackson/
LOCATION:Senior Activities Center\, 1300 East 19th Avenue\, Anchorage\, AK\, United States
CATEGORIES:Event
ATTACH;FMTTYPE=image/jpeg:https://alaskademocrats.org/wp-content/uploads/2025/07/20250717_SenGrayJackson_BartlettCommunityForum.jpg
END:VEVENT
BEGIN:VEVENT
DTSTART;TZID=America/Anchorage:20250717T110000
DTEND;TZID=America/Anchorage:20250717T190000
DTSTAMP:20260421T112401
CREATED:20250717T153131Z
LAST-MODIFIED:20250717T153234Z
UID:19250-1752750000-1752778800@alaskademocrats.org
SUMMARY:John Lewis Memorial Good Trouble Food Drive and Community Celebration
DESCRIPTION:Celebrate the legacy of John Lewis by coming together for a community-focused day full of care\, unity\, and inspiration. This fun-filled\, family-friendly event combines making a difference with enjoying music and connection\, all while honoring a civil rights icon. Drop off non-perishable canned foods (can or case) between 11 AM – 7 PM at the church. Join the celebration from 5 – 7 PM at the Parkstrip across from church with music and guest speakers. Disclaimer: This event is not associated with or hosted by the Alaska Democratic Party.
URL:https://alaskademocrats.org/event/john-lewis-food-drive-celebration/
LOCATION:First Presbyterian Church\, 616 W 10th Ave\, Anchorage\, AK\, 99501\, United States
CATEGORIES:Event
ATTACH;FMTTYPE=image/png:https://alaskademocrats.org/wp-content/uploads/2025/07/20250717_FoodDrive.png
END:VEVENT
BEGIN:VEVENT
DTSTART;TZID=America/Anchorage:20250712T090000
DTEND;TZID=America/Anchorage:20250712T130000
DTSTAMP:20260421T112402
CREATED:20250709T001723Z
LAST-MODIFIED:20250709T001723Z
UID:19207-1752310800-1752325200@alaskademocrats.org
SUMMARY:ADP Summer State Central Committee Meeting
DESCRIPTION:Join us for our Summer State Central Committee Meeting on Saturday\, July 12 from 9 AM – 1 PM via Zoom.If you would like to attend\, please email daniella@alaskademocrats.org for the Zoom link.
URL:https://alaskademocrats.org/event/adp-summer-state-central-committee-meeting/
LOCATION:Zoom
CATEGORIES:Event
ORGANIZER;CN="Alaska Democratic Party":MAILTO:info@anchoragedems.org
END:VEVENT
BEGIN:VEVENT
DTSTART;TZID=America/Anchorage:20250710T173000
DTEND;TZID=America/Anchorage:20250710T193000
DTSTAMP:20260421T112402
CREATED:20250710T004848Z
LAST-MODIFIED:20250710T004848Z
UID:19215-1752168600-1752175800@alaskademocrats.org
SUMMARY:Summer Re-election Fundraiser for Donna Mears
DESCRIPTION:Please join Donna Mears and host\, Rachel Morse\, for a re-election campaign fundraiser.Co-hosts include: Senator Bill Wielechowski\, Representative Ted Eischeid\, Representative Andrew Gray\, Representative Genevieve Mina\, Assembly member George Martinez\, Assembly Member Yarrow Silvers\, ASD School Board President Carl Jacobs\, Kevin Groh\, Daniel Clift\, James K Brown III\, Nelta Edwards\, Tyler Watson\, Mark Wiggin\, Sam Cason\, and Donovan Russoniello.Donna is representing her South Muldoon House district in the Alaska State Legislature and is looking forward to continuing the work for her neighbors in the district and across the state. She is a consistent supporter of public education\, workforce development\, and as co-chair of the House Energy Committee she is committed to long-term solutions for Alaskan energy throughout the state.RSVP HERE.
URL:https://alaskademocrats.org/event/summer-re-election-fundraiser-for-donna-mears/
LOCATION:3312 Robin Street\, 3312 Robin Street\, Anchorage\, AK\, 99504\, United States
CATEGORIES:Candidate Event
END:VEVENT
BEGIN:VEVENT
DTSTART;TZID=America/Anchorage:20250702T173000
DTEND;TZID=America/Anchorage:20250702T183000
DTSTAMP:20260421T112402
CREATED:20250627T223944Z
LAST-MODIFIED:20250702T223434Z
UID:19162-1751477400-1751481000@alaskademocrats.org
SUMMARY:People's Town Hall: Alaska Democratic Party
DESCRIPTION:Alaska’s federal delegation are failing Alaska. The “Big Beautiful Bill” is inching one step closer to Trump’s desk. If Rep. Nick Begich doesn’t act now\, many Alaskans will be at risk of losing their access to health care and food assistance. The time for action is now. If the delegation refuses to hear our voices\, we will raise them in unison. This is about more than politics – this is about defending our way of life. ➡️ It’s time to take a stand. Join us\, our panel of State Legislators\, and special guest\, U.S. Sen. Reuben Gallego\, at our emergency town hall TODAY\, July 2nd\, from 5:30 PM – 6:30 PM.Register for the webinar here.
URL:https://alaskademocrats.org/event/town-hall/
LOCATION:Zoom
CATEGORIES:Event
ORGANIZER;CN="Alaska Democratic Party":MAILTO:info@anchoragedems.org
END:VEVENT
BEGIN:VEVENT
DTSTART;TZID=America/Anchorage:20250701T163000
DTEND;TZID=America/Anchorage:20250701T193000
DTSTAMP:20260421T112402
CREATED:20250701T212011Z
LAST-MODIFIED:20250702T000722Z
UID:19171-1751387400-1751398200@alaskademocrats.org
SUMMARY:⚠️ Mobilize Against Trump's Budget Bill ⚠️
DESCRIPTION:Our Congressional delegation has cast a huge\, ugly shadow over our state by voting to pass the “Big Beautiful Bill.”Trump’s Bill was approved by the Senate in the early hours of the morning. This bill is deeply dangerous to Alaskans and Americans alike.Murkowski has falsely claimed that this bill is a good deal for our communities\, but it is only good for the ultra-wealthy elites. But what’s really happening is a political sleight of hand; it’s nothing more than a cover-up while they gut critical programs like SNAP and Medicaid for tens of thousands of people across our state.Now\, Trump’s bill is headed back to the House of Representatives to be voted on again — and it’s time that we hold Rep. Nick Begich. Sen. Lisa Murkowski\, and Sen. Dan Sullivan accountable.There’s still time to stop this\, but only if we speak out right now. Every call matters.You don’t have to go it alone – take a stand with us today at 4:30 AKDT – we will be running a phone bank calling the offices of the Alaska Federal Delegation. Join us tonight!REGISTER FOR THE ZOOM HERE.
URL:https://alaskademocrats.org/event/bbb/
CATEGORIES:Event
END:VEVENT
BEGIN:VEVENT
DTSTART;TZID=America/Anchorage:20250612T173000
DTEND;TZID=America/Anchorage:20250612T190000
DTSTAMP:20260421T112402
CREATED:20250508T203110Z
LAST-MODIFIED:20250508T203110Z
UID:18318-1749749400-1749754800@alaskademocrats.org
SUMMARY:Progressive Pints with Anchorage Democrats
DESCRIPTION:Join the Anchorage Democrats for a beverage at Ravens Ring Brewery to connect with like-minded individuals who share a love for good conversation and great company.
URL:https://alaskademocrats.org/event/progressive-pints-with-anchorage-democrats-2/
LOCATION:Ravens Ring Brewing Company\, 12150 Industry Way\, Anchorage\, AK\, 99515\, United States
CATEGORIES:Monthly Meeting
ORGANIZER;CN="Anchorage Democrats":MAILTO:info@anchoragedems.org
END:VEVENT
BEGIN:VEVENT
DTSTART;TZID=America/Anchorage:20250607T110000
DTEND;TZID=America/Anchorage:20250607T140000
DTSTAMP:20260421T112402
CREATED:20250509T012018Z
LAST-MODIFIED:20250509T012237Z
UID:18323-1749294000-1749304800@alaskademocrats.org
SUMMARY:Tongass Democrats Annual Picnic
DESCRIPTION:Join the Tongass Democrats for their annual picnic. Burgers\, hot dogs\, and condiments will be provided. Please bring a salad\, side dish\, or dessert to share with a beverage of your choice. Water will also be provided.
URL:https://alaskademocrats.org/event/tongass-democrats-annual-picnic-3/
LOCATION:Savikko Park #2 at Sandy Beach\, 101 Savikko Road\, Douglas\, AK\, 99824\, United States
CATEGORIES:Event
ORGANIZER;CN="Tongass Democrats":MAILTO:tongassdemocrats@gmail.com
END:VEVENT
BEGIN:VEVENT
DTSTART;TZID=America/Anchorage:20250531T090000
DTEND;TZID=America/Anchorage:20250531T110000
DTSTAMP:20260421T112402
CREATED:20250508T202856Z
LAST-MODIFIED:20250508T202856Z
UID:18314-1748682000-1748689200@alaskademocrats.org
SUMMARY:Coffee Chat with Anchorage Democrats
DESCRIPTION:Join the Anchorage Democrats for their monthly coffee\, breakfast\, and conversations.
URL:https://alaskademocrats.org/event/coffee-chat-with-anchorage-democrats/
LOCATION:Heidi’s Family Restaurant\, 5121 Arctic Blvd\, Anchorage\, AK\, 99503\, United States
CATEGORIES:Monthly Meeting
ORGANIZER;CN="Anchorage Democrats":MAILTO:info@anchoragedems.org
END:VEVENT
BEGIN:VEVENT
DTSTART;TZID=America/Anchorage:20250528T183000
DTEND;TZID=America/Anchorage:20250528T200000
DTSTAMP:20260421T112402
CREATED:20250509T011345Z
LAST-MODIFIED:20250509T011345Z
UID:18321-1748457000-1748462400@alaskademocrats.org
SUMMARY:Interior Democrats Monthly Meeting
DESCRIPTION:Join the Interior Democrats for their hybrid monthly meeting via Zoom or in person at the IBEW Hall at Airport Way Frontage Road and Wilbur St. The Interior Democrats invite you to a scheduled Zoom meeting.Join Zoom Meetinghttps://us02web.zoom.us/j/86444243969?pwd=oPVlwIhDetX99bag1i2J2FmQpeL0aY.1Please Note:On entering the meeting\, please use your first and last name on your profile so we know who you are.
URL:https://alaskademocrats.org/event/interior-democrats-monthly-meeting-7/
LOCATION:IBEW Hall Fairbanks\, 2000 Airport Way\, Fairbanks
CATEGORIES:Monthly Meeting
ORGANIZER;CN="Interior Democrats":MAILTO:interiordems@gmail.com
END:VEVENT
BEGIN:VEVENT
DTSTART;TZID=America/Anchorage:20250526T173000
DTEND;TZID=America/Anchorage:20250526T193000
DTSTAMP:20260421T112402
CREATED:20250508T201957Z
LAST-MODIFIED:20250508T201957Z
UID:18308-1748280600-1748287800@alaskademocrats.org
SUMMARY:Anchorage Democrats Monthly Meeting
DESCRIPTION:Join the Anchorage Democrats for the monthly business meeting via Zoom. Join Zoom Meeting:https://us02web.zoom.us/j/89917334100?pwd=KNBzaihJeIyNoxvYV8MhL481N6yab8.1Meeting ID: 899 1733 4100Passcode: 263386
URL:https://alaskademocrats.org/event/anchorage-democrats-monthly-meeting-12/
LOCATION:Zoom
CATEGORIES:Monthly Meeting
ORGANIZER;CN="Anchorage Democrats":MAILTO:info@anchoragedems.org
END:VEVENT
BEGIN:VEVENT
DTSTART;TZID=America/Anchorage:20250508T173000
DTEND;TZID=America/Anchorage:20250508T190000
DTSTAMP:20260421T112402
CREATED:20250508T202602Z
LAST-MODIFIED:20250508T202602Z
UID:18310-1746725400-1746730800@alaskademocrats.org
SUMMARY:Progressive Pints with Anchorage Democrats
DESCRIPTION:Join the Anchorage Democrats for a beverage at Ravens Ring Brewery to connect with like-minded individuals who share a love for good conversation and great company.
URL:https://alaskademocrats.org/event/progressive-pints-with-anchorage-democrats/
LOCATION:Ravens Ring Brewing Company\, 12150 Industry Way\, Anchorage\, AK\, 99515\, United States
CATEGORIES:Monthly Meeting
ORGANIZER;CN="Anchorage Democrats":MAILTO:info@anchoragedems.org
END:VEVENT
BEGIN:VEVENT
DTSTART;TZID=America/Anchorage:20250401T063000
DTEND;TZID=America/Anchorage:20250401T090000
DTSTAMP:20260421T112402
CREATED:20250326T225551Z
LAST-MODIFIED:20250326T225943Z
UID:18096-1743489000-1743498000@alaskademocrats.org
SUMMARY:Morning Sign Waving with Kameron Perez-Verdia and Kelly Lessens
DESCRIPTION:Join Team Kameron and Team Kelly to sign wave in support of Kameron for Assembly and Kelly for School Board! They will meet at the corner of Minnesota and Northern Lights and will have signs for you to wave. Just bring yourself and dress for the weather.You can RSVP here.
URL:https://alaskademocrats.org/event/morning-sign-waving-with-kameron-perez-verdia-and-kelly-lessens/
LOCATION:Corner of Minnesota and Northern Lights
CATEGORIES:Candidate Event
END:VEVENT
BEGIN:VEVENT
DTSTART;TZID=America/Anchorage:20250331T173000
DTEND;TZID=America/Anchorage:20250331T193000
DTSTAMP:20260421T112402
CREATED:20250326T222148Z
LAST-MODIFIED:20250326T222148Z
UID:18091-1743442200-1743449400@alaskademocrats.org
SUMMARY:Make Calls to GOTV for the Anchorage Municipal Election
DESCRIPTION:Join the candidates running for Anchorage Assembly and School Board to Get Out the Vote on March 31 at 5:30 PM at 721 Depot Dr\, Anchorage\, AK.You can RSVP at either link below:Make Calls with Kameron Perez-VerdiaMake Calls with Kelly Lessens
URL:https://alaskademocrats.org/event/make-calls-to-gotv-for-the-anchorage-municipal-election/
LOCATION:721 Depot Dr\, 721 Depot Drive\, Anchorage\, AK\, 99501\, United States
CATEGORIES:Candidate Event
END:VEVENT
BEGIN:VEVENT
DTSTART;TZID=America/Anchorage:20250329T170000
DTEND;TZID=America/Anchorage:20250329T193000
DTSTAMP:20260421T112402
CREATED:20250326T220634Z
LAST-MODIFIED:20250326T220634Z
UID:18076-1743267600-1743276600@alaskademocrats.org
SUMMARY:Call for Daniel Volland: Anchorage Phone Bank
DESCRIPTION:Help re-elect Daniel Volland to the Anchorage Assembly—from the comfort of your home! Join the virtual (or in-person) phone bank to connect with voters\, share Daniel’s vision\, and ensure our community turns out to vote. No experience needed! Team Volland will provide training\, scripts\, and a call list—all you need is a phone\, a laptop or tablet\, and a commitment to making a difference.You can RSVP here.
URL:https://alaskademocrats.org/event/call-for-daniel-volland-anchorage-phone-bank/
LOCATION:1432 Ingra St\, 1432 Ingra St\, Anchorage\, AK\, 99501\, United States
CATEGORIES:Candidate Event
END:VEVENT
BEGIN:VEVENT
DTSTART;TZID=America/Anchorage:20250329T110000
DTEND;TZID=America/Anchorage:20250329T160000
DTSTAMP:20260421T112402
CREATED:20250326T221717Z
LAST-MODIFIED:20250326T221717Z
UID:18087-1743246000-1743264000@alaskademocrats.org
SUMMARY:Knock Doors with Kelly Lessens
DESCRIPTION:Get Out The Vote for Kelly Lessens! Kelly has been working hard to improve learning outcomes from the School Board while also being a responsible steward of public dollars. We need her continued leadership on ASD School Board.Team Kelly will start with a brief training and then you can begin knocking doors to remind people to turn in their ballots! Someone from the campaign will be available to assist you if needed.You can RSVP here.
URL:https://alaskademocrats.org/event/knock-doors-with-kelly-lessens/
LOCATION:The Writer’s Block Bookstore & Cafe\, 3956 Spenard Rd\, Anchorage\, AK\, 99517\, United States
CATEGORIES:Candidate Event
END:VEVENT
END:VCALENDAR