BEGIN:VCALENDAR
VERSION:2.0
PRODID:-//Alaska Democrats - ECPv6.15.20//NONSGML v1.0//EN
CALSCALE:GREGORIAN
METHOD:PUBLISH
X-ORIGINAL-URL:https://alaskademocrats.org
X-WR-CALDESC:Events for Alaska Democrats
REFRESH-INTERVAL;VALUE=DURATION:PT1H
X-Robots-Tag:noindex
X-PUBLISHED-TTL:PT1H
BEGIN:VTIMEZONE
TZID:America/Anchorage
BEGIN:DAYLIGHT
TZOFFSETFROM:-0900
TZOFFSETTO:-0800
TZNAME:AKDT
DTSTART:20250309T110000
END:DAYLIGHT
BEGIN:STANDARD
TZOFFSETFROM:-0800
TZOFFSETTO:-0900
TZNAME:AKST
DTSTART:20251102T100000
END:STANDARD
BEGIN:DAYLIGHT
TZOFFSETFROM:-0900
TZOFFSETTO:-0800
TZNAME:AKDT
DTSTART:20260308T110000
END:DAYLIGHT
BEGIN:STANDARD
TZOFFSETFROM:-0800
TZOFFSETTO:-0900
TZNAME:AKST
DTSTART:20261101T100000
END:STANDARD
BEGIN:DAYLIGHT
TZOFFSETFROM:-0900
TZOFFSETTO:-0800
TZNAME:AKDT
DTSTART:20270314T110000
END:DAYLIGHT
BEGIN:STANDARD
TZOFFSETFROM:-0800
TZOFFSETTO:-0900
TZNAME:AKST
DTSTART:20271107T100000
END:STANDARD
END:VTIMEZONE
BEGIN:VEVENT
DTSTART;TZID=America/Anchorage:20260119T171500
DTEND;TZID=America/Anchorage:20260119T200000
DTSTAMP:20260421T081700
CREATED:20251124T035007Z
LAST-MODIFIED:20260114T020805Z
UID:21912-1768842900-1768852800@alaskademocrats.org
SUMMARY:HDCC/SDCC Fundraiser in Juneau
DESCRIPTION:Join the House Democratic Campaign Committee and Senate Democratic Campaign Committee for a fundraiser in Juneau!Alaska Democratic Party Chair Eric Croft will be joining the HDCC and SDCC in Juneau for this event.
URL:https://alaskademocrats.org/event/hdcc-sdcc-fundraiser/
LOCATION:Home of Sun and Mark Choate\, 230 W 8th St\, Juneau\, AK\, 99801\, United States
CATEGORIES:Event
END:VEVENT
BEGIN:VEVENT
DTSTART;VALUE=DATE:20260120
DTEND;VALUE=DATE:20260121
DTSTAMP:20260421T081700
CREATED:20251211T235347Z
LAST-MODIFIED:20251211T235347Z
UID:22023-1768867200-1768953599@alaskademocrats.org
SUMMARY:First Day of Legislative Session
DESCRIPTION:
URL:https://alaskademocrats.org/event/first-day-of-legislative-session/
END:VEVENT
BEGIN:VEVENT
DTSTART;TZID=America/Anchorage:20260120T170000
DTEND;TZID=America/Anchorage:20260120T190000
DTSTAMP:20260421T081700
CREATED:20260120T233807Z
LAST-MODIFIED:20260120T233940Z
UID:22767-1768928400-1768935600@alaskademocrats.org
SUMMARY:Mary Peltola Meet & Greet
DESCRIPTION:Join Mary Peltola for a campaign launch celebration in Fairbanks!
URL:https://alaskademocrats.org/event/mary-peltola-meet-greet/
LOCATION:Trail Breaker Kennel\, 5880 Airport Industrial Rd\, Fairbanks\, AK\, 99709\, United States
CATEGORIES:Event
ATTACH;FMTTYPE=image/webp:https://alaskademocrats.org/wp-content/uploads/2026/01/MeetandGreet_1_20_Social.webp
END:VEVENT
BEGIN:VEVENT
DTSTART;TZID=America/Anchorage:20260120T180000
DTEND;TZID=America/Anchorage:20260120T190000
DTSTAMP:20260421T081700
CREATED:20260119T164354Z
LAST-MODIFIED:20260119T164428Z
UID:22709-1768932000-1768935600@alaskademocrats.org
SUMMARY:Virtual Listening Session with Matt Schultz
DESCRIPTION:Listening session hosted by Matt Schultz for Haines\, Ketchikan\, Wrangell\, and Petersburg.Attend the session via zoom:https://us06web.zoom.us/meeting/register/uC5zN14iSCOVL6YbPzYm2g
URL:https://alaskademocrats.org/event/virtual-listening-session-with-matt-schultz/
CATEGORIES:Event
END:VEVENT
BEGIN:VEVENT
DTSTART;TZID=America/Anchorage:20260122T170000
DTEND;TZID=America/Anchorage:20260122T190000
DTSTAMP:20260421T081700
CREATED:20251124T035239Z
LAST-MODIFIED:20251124T035342Z
UID:21914-1769101200-1769108400@alaskademocrats.org
SUMMARY:Cliff Groh - Fundraiser
DESCRIPTION:
URL:https://alaskademocrats.org/event/cliff-groh-fundraiser/
LOCATION:1725 Laurence Ct\, 1725 Laurence Ct\, Anchorage\, AK\, 99501\, United States
CATEGORIES:Event
END:VEVENT
BEGIN:VEVENT
DTSTART;TZID=America/Anchorage:20260123T170000
DTEND;TZID=America/Anchorage:20260123T190000
DTSTAMP:20260421T081700
CREATED:20260120T234217Z
LAST-MODIFIED:20260120T234245Z
UID:22770-1769187600-1769194800@alaskademocrats.org
SUMMARY:Mary Peltola Meet & Greet
DESCRIPTION:Join Mary Peltola for a campaign launch celebration in Juneau!
URL:https://alaskademocrats.org/event/mary-peltola-meet-greet-2/
LOCATION:The Crystal Saloon\, 218 Front Street\, Juneau\, AK\, United States
CATEGORIES:Event
ATTACH;FMTTYPE=image/webp:https://alaskademocrats.org/wp-content/uploads/2026/01/MeetandGreet_1_23_Social.webp
END:VEVENT
BEGIN:VEVENT
DTSTART;TZID=America/Anchorage:20260126T173000
DTEND;TZID=America/Anchorage:20260126T183000
DTSTAMP:20260421T081700
CREATED:20251106T010043Z
LAST-MODIFIED:20251106T010043Z
UID:21590-1769448600-1769452200@alaskademocrats.org
SUMMARY:Anchorage Democrats Monthly Meeting
DESCRIPTION:Join the Anchorage Democrats for the monthly business meeting via Zoom. Join Zoom Meeting:https://us02web.zoom.us/j/89917334100?pwd=KNBzaihJeIyNoxvYV8MhL481N6yab8.1 Meeting ID: 899 1733 4100Passcode: 263386
URL:https://alaskademocrats.org/event/anchorage-democrats-monthly-meeting-16/
CATEGORIES:Event
ORGANIZER;CN="Anchorage Democrats":MAILTO:info@anchoragedems.org
END:VEVENT
BEGIN:VEVENT
DTSTART;TZID=America/Anchorage:20260127T180000
DTEND;TZID=America/Anchorage:20260127T190000
DTSTAMP:20260421T081700
CREATED:20260119T164953Z
LAST-MODIFIED:20260119T164953Z
UID:22715-1769536800-1769540400@alaskademocrats.org
SUMMARY:Virtual Listening Session with Matt Schultz
DESCRIPTION:Listening session hosted by Matt Schultz for Bethel & Dillingham.Attend the session via zoom:https://us06web.zoom.us/meeting/register/aejEedl7SZ28MEt0J2rvnQ
URL:https://alaskademocrats.org/event/virtual-listening-session-with-matt-schultz-2/
CATEGORIES:Event
END:VEVENT
BEGIN:VEVENT
DTSTART;TZID=America/Anchorage:20260128T173000
DTEND;TZID=America/Anchorage:20260128T190000
DTSTAMP:20260421T081700
CREATED:20260119T164656Z
LAST-MODIFIED:20260119T164656Z
UID:22711-1769621400-1769626800@alaskademocrats.org
SUMMARY:Sydney for Assembly Fundraiser
DESCRIPTION:
URL:https://alaskademocrats.org/event/sydney-for-assembly-fundraiser/
LOCATION:133 E Harvard Ave\, 133 E Harvard Ave\, Anchorage\, AK\, 99501\, United States
CATEGORIES:Event
END:VEVENT
BEGIN:VEVENT
DTSTART;TZID=America/Anchorage:20260129T170000
DTEND;TZID=America/Anchorage:20260129T190000
DTSTAMP:20260421T081700
CREATED:20260128T202904Z
LAST-MODIFIED:20260128T202932Z
UID:22839-1769706000-1769713200@alaskademocrats.org
SUMMARY:Anna Brawley Cynosure Fundraiser
DESCRIPTION:
URL:https://alaskademocrats.org/event/anna-brawley-cynosure-fundraiser/
LOCATION:Cynosure Brewing\, 144 East Potter Dr.\, Anchorage\, 99518\, United States
CATEGORIES:Event
END:VEVENT
BEGIN:VEVENT
DTSTART;TZID=America/Anchorage:20260129T173000
DTEND;TZID=America/Anchorage:20260129T193000
DTSTAMP:20260421T081700
CREATED:20260128T203337Z
LAST-MODIFIED:20260128T203337Z
UID:22842-1769707800-1769715000@alaskademocrats.org
SUMMARY:Virtual Community Conversation\, Ketchikan Young Alaskans
DESCRIPTION:Attend this meeting via zoom:https://us06web.zoom.us/j/89279361104?pwd=0J286slAb7Nr4ctgNTfE8u5AHQfjQk.1Meeting ID: 892 7936 1104Passcode: 916522
URL:https://alaskademocrats.org/event/virtual-community-conversation-ketchikan-young-alaskans/
CATEGORIES:Event
END:VEVENT
BEGIN:VEVENT
DTSTART;TZID=America/Anchorage:20260203T183000
DTEND;TZID=America/Anchorage:20260203T193000
DTSTAMP:20260421T081700
CREATED:20260119T165158Z
LAST-MODIFIED:20260119T165158Z
UID:22717-1770143400-1770147000@alaskademocrats.org
SUMMARY:Virtual Listening Session with Matt Schultz
DESCRIPTION:Listening session hosted by Matt Schultz for Sitka.Attend the session via zoom:https://us06web.zoom.us/meeting/register/eJi5pUNrSqeat4NMm-cOJQ
URL:https://alaskademocrats.org/event/virtual-listening-session-with-matt-schultz-3/
CATEGORIES:Event
END:VEVENT
BEGIN:VEVENT
DTSTART;TZID=America/Anchorage:20260205T170000
DTEND;TZID=America/Anchorage:20260205T183000
DTSTAMP:20260421T081700
CREATED:20251015T195649Z
LAST-MODIFIED:20251015T195649Z
UID:20791-1770310800-1770316200@alaskademocrats.org
SUMMARY:Tongass Democrats Monthly Meeting
DESCRIPTION:Join the Tongass Democrats for their business meeting!
URL:https://alaskademocrats.org/event/tongass-democrats-monthly-meeting-12/
LOCATION:International Brotherhood of Electrical Workers\, 813 W 12th St\, Juneau\, AK\, 99801\, United States
CATEGORIES:Event
ORGANIZER;CN="Tongass Democrats":MAILTO:tongassdemocrats@gmail.com
END:VEVENT
BEGIN:VEVENT
DTSTART;TZID=America/Anchorage:20260205T170000
DTEND;TZID=America/Anchorage:20260205T193000
DTSTAMP:20260421T081700
CREATED:20260128T203712Z
LAST-MODIFIED:20260223T161540Z
UID:22845-1770310800-1770319800@alaskademocrats.org
SUMMARY:Lisa Keller Fundraiser
DESCRIPTION:
URL:https://alaskademocrats.org/event/lisa-keller-fundraiser/
LOCATION:Cynosure Brewing\, 144 East Potter Dr.\, Anchorage\, 99518\, United States
CATEGORIES:Event
END:VEVENT
BEGIN:VEVENT
DTSTART;TZID=America/Anchorage:20260206T173000
DTEND;TZID=America/Anchorage:20260206T190000
DTSTAMP:20260421T081700
CREATED:20260128T204108Z
LAST-MODIFIED:20260206T181339Z
UID:22847-1770399000-1770404400@alaskademocrats.org
SUMMARY:Rachel Blakeslee's Fundraiser for School Board
DESCRIPTION:
URL:https://alaskademocrats.org/event/blakeslee-fundraiser-for-school-board/
LOCATION:12840 Johns Rd\, 12840 Johns Rd\, Anchorage\, AK\, 99515\, United States
CATEGORIES:Event
ATTACH;FMTTYPE=image/png:https://alaskademocrats.org/wp-content/uploads/2026/01/1177_RBL_FR-graphic-2826_Nov25-1-1.png
END:VEVENT
BEGIN:VEVENT
DTSTART;TZID=America/Anchorage:20260210T173000
DTEND;TZID=America/Anchorage:20260210T193000
DTSTAMP:20260421T081700
CREATED:20260209T195657Z
LAST-MODIFIED:20260209T195657Z
UID:22927-1770744600-1770751800@alaskademocrats.org
SUMMARY:Tom Begich RSBC reception
DESCRIPTION:
URL:https://alaskademocrats.org/event/tom-begich-rsbc-reception/
LOCATION:Sheraton Anchorage Hotel\, 401 E 6th Ave\, Anchorage\, AK\, 99501\, United States
CATEGORIES:Event
END:VEVENT
BEGIN:VEVENT
DTSTART;TZID=America/Anchorage:20260210T180000
DTEND;TZID=America/Anchorage:20260210T190000
DTSTAMP:20260421T081700
CREATED:20260119T171645Z
LAST-MODIFIED:20260119T171709Z
UID:22719-1770746400-1770750000@alaskademocrats.org
SUMMARY:Virtual Listening Session with Matt Schultz
DESCRIPTION:Listening session hosted by Matt Schultz for Kodiak and Gulf Coast Communities.Attend the session via zoom:https://us06web.zoom.us/meeting/register/eJi5pUNrSqeat4NMm-cOJQ
URL:https://alaskademocrats.org/event/virtual-listening-session-with-matt-schultz-4/
CATEGORIES:Event
END:VEVENT
BEGIN:VEVENT
DTSTART;TZID=America/Anchorage:20260211T130000
DTEND;TZID=America/Anchorage:20260211T150000
DTSTAMP:20260421T081700
CREATED:20260211T194456Z
LAST-MODIFIED:20260211T194456Z
UID:22938-1770814800-1770822000@alaskademocrats.org
SUMMARY:Community Conversations with Tom: RSBC
DESCRIPTION:
URL:https://alaskademocrats.org/event/community-conversations-with-tom-rsbc/
LOCATION:Sheraton Anchorage Hotel\, 401 E 6th Ave\, Anchorage\, AK\, 99501\, United States
CATEGORIES:Event
END:VEVENT
BEGIN:VEVENT
DTSTART;TZID=America/Anchorage:20260212T180000
DTEND;TZID=America/Anchorage:20260212T210000
DTSTAMP:20260421T081700
CREATED:20260209T200515Z
LAST-MODIFIED:20260209T200515Z
UID:22930-1770919200-1770930000@alaskademocrats.org
SUMMARY:Tom Begich Fundraiser With Hosts: Barbara Norton-Cruz and Brad Cruz
DESCRIPTION:Co-Hosts: Claire Norton-Cruz and Laura Norton-Cruz
URL:https://alaskademocrats.org/event/tom-begich-fundraiser-with-hosts-barbara-norton-cruz-and-brad-cruz/
LOCATION:1964 Loussac Dr\, Anchorage\, AK 99517
END:VEVENT
BEGIN:VEVENT
DTSTART;VALUE=DATE:20260213
DTEND;VALUE=DATE:20260216
DTSTAMP:20260421T081700
CREATED:20251211T235528Z
LAST-MODIFIED:20251215T175710Z
UID:22025-1770940800-1771199999@alaskademocrats.org
SUMMARY:Winter State Central Committee Meeting
DESCRIPTION:
URL:https://alaskademocrats.org/event/winter-state-central-committee-meeting/
LOCATION:Juneau
CATEGORIES:Event
END:VEVENT
BEGIN:VEVENT
DTSTART;TZID=America/Anchorage:20260213T173000
DTEND;TZID=America/Anchorage:20260213T193000
DTSTAMP:20260421T081700
CREATED:20260128T222035Z
LAST-MODIFIED:20260209T200656Z
UID:22878-1771003800-1771011000@alaskademocrats.org
SUMMARY:AK Dems Legislative Welcome in Juneau
DESCRIPTION:Legislative Welcome in Juneau in the Capital Room at the Baranof Hotel.
URL:https://alaskademocrats.org/event/ak-dems-legislative-welcome-in-juneau/
LOCATION:Baranof Downtown\, 127 N Franklin St\, Juneau\, AK\, 99801\, United States
CATEGORIES:Event
ORGANIZER;CN="Alaska Democratic Party":MAILTO:info@anchoragedems.org
END:VEVENT
BEGIN:VEVENT
DTSTART;TZID=America/Anchorage:20260214T180000
DTEND;TZID=America/Anchorage:20260214T200000
DTSTAMP:20260421T081700
CREATED:20260209T200839Z
LAST-MODIFIED:20260209T200926Z
UID:22933-1771092000-1771099200@alaskademocrats.org
SUMMARY:Tongass Democrats Winter Auction
DESCRIPTION:Tongass Democrats Annual Winter Auction following the SCC meeting in the Treadwell Room of the Baranof Hotel.
URL:https://alaskademocrats.org/event/tongass-democrats-winter-auction-2/
LOCATION:Baranof Downtown\, 127 N Franklin St\, Juneau\, AK\, 99801\, United States
CATEGORIES:Event
END:VEVENT
BEGIN:VEVENT
DTSTART;TZID=America/Anchorage:20260217T180000
DTEND;TZID=America/Anchorage:20260217T190000
DTSTAMP:20260421T081700
CREATED:20260119T181404Z
LAST-MODIFIED:20260119T181404Z
UID:22722-1771351200-1771354800@alaskademocrats.org
SUMMARY:Virtual Listening Session with Matt Schultz
DESCRIPTION:Listening session hosted by Matt Schultz for Nome and Bering Strait communities.Attend the session via zoom:https://us06web.zoom.us/meeting/register/G6-9-wLjR_C4nsIKOvJUtg
URL:https://alaskademocrats.org/event/virtual-listening-session-with-matt-schultz-5/
CATEGORIES:Event
END:VEVENT
BEGIN:VEVENT
DTSTART;TZID=America/Anchorage:20260220T180000
DTEND;TZID=America/Anchorage:20260220T200000
DTSTAMP:20260421T081700
CREATED:20260209T201121Z
LAST-MODIFIED:20260209T201121Z
UID:22936-1771610400-1771617600@alaskademocrats.org
SUMMARY:Mat-Su Egan Dinner featuring Tom Begich
DESCRIPTION:
URL:https://alaskademocrats.org/event/mat-su-egan-dinner-featuring-tom-begich/
LOCATION:Turkey Red\, 550 S Alaska St\, Palmer\, AK\, 99645\, United States
CATEGORIES:Event
END:VEVENT
BEGIN:VEVENT
DTSTART;TZID=America/Anchorage:20260223T173000
DTEND;TZID=America/Anchorage:20260223T183000
DTSTAMP:20260421T081700
CREATED:20251106T010348Z
LAST-MODIFIED:20251106T010348Z
UID:21592-1771867800-1771871400@alaskademocrats.org
SUMMARY:Anchorage Democrats Monthly Meeting
DESCRIPTION:Join the Anchorage Democrats for the monthly business meeting via Zoom. Join Zoom Meeting:https://us02web.zoom.us/j/89917334100?pwd=KNBzaihJeIyNoxvYV8MhL481N6yab8.1 Meeting ID: 899 1733 4100Passcode: 263386
URL:https://alaskademocrats.org/event/anchorage-democrats-monthly-meeting-17/
CATEGORIES:Event
ORGANIZER;CN="Anchorage Democrats":MAILTO:info@anchoragedems.org
END:VEVENT
BEGIN:VEVENT
DTSTART;TZID=America/Anchorage:20260224T180000
DTEND;TZID=America/Anchorage:20260224T190000
DTSTAMP:20260421T081700
CREATED:20260119T181701Z
LAST-MODIFIED:20260119T181737Z
UID:22724-1771956000-1771959600@alaskademocrats.org
SUMMARY:Virtual Listening Session with Matt Schultz
DESCRIPTION:Listening session hosted by Matt Schultz for Utqiagvik and North Slope communities. Attend the session via zoom:https://us06web.zoom.us/meeting/register/uA7HgK3PS5uSgwBHaBzBaA#/registration
URL:https://alaskademocrats.org/event/virtual-listening-session-with-matt-schultz-6/
CATEGORIES:Event
END:VEVENT
BEGIN:VEVENT
DTSTART;TZID=America/Anchorage:20260225T173000
DTEND;TZID=America/Anchorage:20260225T190000
DTSTAMP:20260421T081700
CREATED:20260128T204726Z
LAST-MODIFIED:20260216T153429Z
UID:22850-1772040600-1772046000@alaskademocrats.org
SUMMARY:Anna Brawley Fundraiser
DESCRIPTION:
URL:https://alaskademocrats.org/event/anna-brawley-fundraiser/
LOCATION:Thea AB’s House\, 3332 Illiamna Ave\, Anchorage\, AK\, 99517\, United States
CATEGORIES:Event
END:VEVENT
BEGIN:VEVENT
DTSTART;TZID=America/Anchorage:20260225T180000
DTEND;TZID=America/Anchorage:20260225T193000
DTSTAMP:20260421T081700
CREATED:20260223T161131Z
LAST-MODIFIED:20260223T161131Z
UID:23051-1772042400-1772047800@alaskademocrats.org
SUMMARY:Tom Begich Community Conversations: Bethel
DESCRIPTION:Room 118
URL:https://alaskademocrats.org/event/tom-begich-community-conversations-bethel/
LOCATION:Kuskokwim Campus UAF\, 201 Akiak Dr\, Bethel\, AK\, 99559\, United States
CATEGORIES:Candidate Event,Event
END:VEVENT
BEGIN:VEVENT
DTSTART;TZID=America/Anchorage:20260226T173000
DTEND;TZID=America/Anchorage:20260226T190000
DTSTAMP:20260421T081700
CREATED:20260216T153657Z
LAST-MODIFIED:20260216T153907Z
UID:22968-1772127000-1772132400@alaskademocrats.org
SUMMARY:Blakeslee & Groh Joint Fundraiser
DESCRIPTION:Join Rachel Blakeslee for Anchorage School Board and Cliff Groh for State House at Deborah Bonito and Mark Begich’s home for a fundraiser!Blakeslee and Groh are the team that will deliver meaningful increases to public education funding and value community driven policy. Blakeslee is a mother in the Anchorage School District and has worked as a teacher\, and Groh has served as a representative in the House previously and helped create the Permanent Dividend Fund.
URL:https://alaskademocrats.org/event/blakeslee-groh-joint-fundraiser/
LOCATION:6447 Colgate\, 6447 Colgate Dr\, Anchorage\, Alaska\, 99504
CATEGORIES:Candidate Event,Event
END:VEVENT
BEGIN:VEVENT
DTSTART;TZID=America/Anchorage:20260226T180000
DTEND;TZID=America/Anchorage:20260226T190000
DTSTAMP:20260421T081700
CREATED:20260223T161330Z
LAST-MODIFIED:20260223T161330Z
UID:23054-1772128800-1772132400@alaskademocrats.org
SUMMARY:Tom Begich Virtual Community Conversations\, YK Delta Region
DESCRIPTION:Join Zoom Meeting https://us06web.zoom.us/j/81067082627?pwd=ZbsDMGkof0DJho8ksakkF6yaiQbTil.1 View meeting insights with Zoom AI Companion https://us06web.zoom.us/launch/edl?muid=a759a9cb-624e-46f4-b8b4-d1ccb84f4536 Meeting ID: 810 6708 2627 Passcode: 698557
URL:https://alaskademocrats.org/event/tom-begich-virtual-community-conversations-yk-delta-region/
CATEGORIES:Candidate Event,Event
END:VEVENT
END:VCALENDAR