BEGIN:VCALENDAR
VERSION:2.0
PRODID:-//Alaska Democrats - ECPv6.15.20//NONSGML v1.0//EN
CALSCALE:GREGORIAN
METHOD:PUBLISH
X-WR-CALNAME:Alaska Democrats
X-ORIGINAL-URL:https://alaskademocrats.org
X-WR-CALDESC:Events for Alaska Democrats
REFRESH-INTERVAL;VALUE=DURATION:PT1H
X-Robots-Tag:noindex
X-PUBLISHED-TTL:PT1H
BEGIN:VTIMEZONE
TZID:America/Anchorage
BEGIN:DAYLIGHT
TZOFFSETFROM:-0900
TZOFFSETTO:-0800
TZNAME:AKDT
DTSTART:20220313T110000
END:DAYLIGHT
BEGIN:STANDARD
TZOFFSETFROM:-0800
TZOFFSETTO:-0900
TZNAME:AKST
DTSTART:20221106T100000
END:STANDARD
BEGIN:DAYLIGHT
TZOFFSETFROM:-0900
TZOFFSETTO:-0800
TZNAME:AKDT
DTSTART:20230312T110000
END:DAYLIGHT
BEGIN:STANDARD
TZOFFSETFROM:-0800
TZOFFSETTO:-0900
TZNAME:AKST
DTSTART:20231105T100000
END:STANDARD
BEGIN:DAYLIGHT
TZOFFSETFROM:-0900
TZOFFSETTO:-0800
TZNAME:AKDT
DTSTART:20240310T110000
END:DAYLIGHT
BEGIN:STANDARD
TZOFFSETFROM:-0800
TZOFFSETTO:-0900
TZNAME:AKST
DTSTART:20241103T100000
END:STANDARD
END:VTIMEZONE
BEGIN:VEVENT
DTSTART;TZID=America/Anchorage:20230615T160000
DTEND;TZID=America/Anchorage:20230615T160000
DTSTAMP:20260419T075332
CREATED:20230605T154401Z
LAST-MODIFIED:20230607T152540Z
UID:4888-1686844800-1686844800@alaskademocrats.org
SUMMARY:Drinking Liberally with the Mat-Su Democrats
DESCRIPTION:Join the Mat-Su Dems and Friends at our monthly social hour. If you’re curious about who is advocating for progressive values in the Mat Su\, come join us for drinks and dinner. This is a chance to meet other like-minded folks in what can seem like a very red area of the state.
URL:https://alaskademocrats.org/event/drinking-liberally-with-the-mat-su-democrats-2/
LOCATION:Susitna Brewery\, 5120 S Big Lake Rd\, Big Lake
END:VEVENT
BEGIN:VEVENT
DTSTART;TZID=America/Anchorage:20230617T110000
DTEND;TZID=America/Anchorage:20230617T170000
DTSTAMP:20260419T075332
CREATED:20230607T152302Z
LAST-MODIFIED:20230607T153041Z
UID:4912-1686999600-1687021200@alaskademocrats.org
SUMMARY:Alaska Black Caucus Juneteenth Health Fair
DESCRIPTION:ABC is hosting their annual Juneteenth Celebration on the Park-Strip\, Friday through Saturday\, June 16th through June 17th.\n\nThe HEALTH FAIR portion will take place Saturday\, June 17th from 12-6 PM and the Alaska Black Caucus is excited to partner by overseeing the health fair portion.
URL:https://alaskademocrats.org/event/alaska-black-caucus-juneteenth-health-fair/
LOCATION:Delaney Park Strip\, W 9th Avenue\, Anchorage\, Alaska\, 99501
END:VEVENT
BEGIN:VEVENT
DTSTART;TZID=America/Anchorage:20230619T103000
DTEND;TZID=America/Anchorage:20230619T120000
DTSTAMP:20260419T075332
CREATED:20230607T153019Z
LAST-MODIFIED:20230607T155514Z
UID:4916-1687170600-1687176000@alaskademocrats.org
SUMMARY:Alaska Black Caucus Make it Monday Juneteenth Celebration
DESCRIPTION:In a nutshell\, the Alaska Black Caucus is extremely excited the Anchorage Assembly recently passed an ordinance to make Juneteenth and Indigenous Peoples Day Municipal paid holidays. We’re especially thankful and we’re celebrating by hosting a “Juneteenth Make It Monday Luncheon” in partnership with the Anchorage Chamber on Monday\, June 19th\, 11:30 AM at the Dena’ina Center.\n\nCelebrating Juneteenth as a community is especially important in light of the ongoing impacts of the events of the world\, nation\, and communities of color\, even right here in Anchorage. We’re asking organizations and businesses to join us in our effort to recognize the importance of this holiday by making it more than just a day off.\n\nJoin the Alaska Black Caucus as we reflect\, educate and celebrate by purchasing a table and filling it with individuals that can work with us to bring about change. Thank you in advance for standing in solidarity with us as we introduce you to our community and work with you to help make a difference for everyone in Anchorage.
URL:https://alaskademocrats.org/event/alaska-black-caucus-make-it-monday-juneteenth-celebration/
LOCATION:Dena’ina Center\, 600 W 7th Ave\, Anchorage\, AK\, 99501\, United States
END:VEVENT
BEGIN:VEVENT
DTSTART;TZID=America/Anchorage:20230622T163000
DTEND;TZID=America/Anchorage:20230622T180000
DTSTAMP:20260419T075332
CREATED:20230526T021415Z
LAST-MODIFIED:20230619T195302Z
UID:4856-1687451400-1687456800@alaskademocrats.org
SUMMARY:Interior Democrats Monthly Meeting
DESCRIPTION:Join the Interior Democrats for our monthly meeting!\nThe Interior Democrats are currently meeting online. \nMonthly Business Meetings: This meeting is an update on committee work\, upcoming events\, finances and the business matters of the organization.
URL:https://alaskademocrats.org/event/interior-democrats-monthly-meeting-5/
LOCATION:Zoom
CATEGORIES:Monthly Meeting
ORGANIZER;CN="Interior Democrats":MAILTO:interiordems@gmail.com
END:VEVENT
BEGIN:VEVENT
DTSTART;VALUE=DATE:20230622
DTEND;VALUE=DATE:20230625
DTSTAMP:20260419T075332
CREATED:20230620T164520Z
LAST-MODIFIED:20230620T180850Z
UID:5278-1687471200-1687643999@alaskademocrats.org
SUMMARY:COMMUNITY EVENT: Chugach Fest
DESCRIPTION:*This community event is not hosted by the AK Dems.
URL:https://alaskademocrats.org/event/community-event-chugach-fest/
LOCATION:Anchorage
END:VEVENT
BEGIN:VEVENT
DTSTART;VALUE=DATE:20230623
DTEND;VALUE=DATE:20230625
DTSTAMP:20260419T075332
CREATED:20230620T164814Z
LAST-MODIFIED:20230620T164943Z
UID:5281-1687557600-1687643999@alaskademocrats.org
SUMMARY:COMMUNITY EVENT: Midnight Sun Festival
DESCRIPTION:*This community event is not hosted by the AK Dems.
URL:https://alaskademocrats.org/event/community-event-midnight-sun-festival/
LOCATION:Fairbanks
END:VEVENT
BEGIN:VEVENT
DTSTART;VALUE=DATE:20230623
DTEND;VALUE=DATE:20230625
DTSTAMP:20260419T075332
CREATED:20230620T165120Z
LAST-MODIFIED:20230620T165120Z
UID:5285-1687557600-1687643999@alaskademocrats.org
SUMMARY:COMMUNITY EVENT: Anchorage Pride Parade and Festival
DESCRIPTION:*This community event is not hosted by the AK Dems.
URL:https://alaskademocrats.org/event/community-event-anchorage-pride-parade-and-festival/
LOCATION:Anchorage
END:VEVENT
BEGIN:VEVENT
DTSTART;VALUE=DATE:20230623
DTEND;VALUE=DATE:20230626
DTSTAMP:20260419T075332
CREATED:20230620T165257Z
LAST-MODIFIED:20230620T165257Z
UID:5287-1687557600-1687730399@alaskademocrats.org
SUMMARY:COMMUNITY EVENT: Scottish Highland Games
DESCRIPTION:*This community event is not hosted by the AK Dems.
URL:https://alaskademocrats.org/event/community-event-scottish-highland-games/
LOCATION:Palmer
END:VEVENT
BEGIN:VEVENT
DTSTART;TZID=America/Anchorage:20230624T074000
DTEND;TZID=America/Anchorage:20230624T124500
DTSTAMP:20260419T075332
CREATED:20230607T160228Z
LAST-MODIFIED:20230619T195253Z
UID:4939-1687592400-1687610700@alaskademocrats.org
SUMMARY:How to Run for Office with Tongass Democrats
DESCRIPTION:Join the Tongass Democrats for their business meeting
URL:https://alaskademocrats.org/event/how-to-run-for-office-with-tongass-democrats/
LOCATION:CBJ Assembly Chambers\, 155 S. Seward St.\, Juneau\, AK\, 99801\, United States
END:VEVENT
BEGIN:VEVENT
DTSTART;TZID=America/Anchorage:20230624T074500
DTEND;TZID=America/Anchorage:20230624T124500
DTSTAMP:20260419T075332
CREATED:20230607T160630Z
LAST-MODIFIED:20230619T195245Z
UID:4948-1687592700-1687610700@alaskademocrats.org
SUMMARY:How to Run for Office with Tongass Democrats
DESCRIPTION:Join the Tongass Democrats for their business meeting!
URL:https://alaskademocrats.org/event/how-to-run-for-office-with-tongass-democrats-2/
LOCATION:CBJ Assembly Chambers\, 155 S. Seward St.\, Juneau\, AK\, 99801\, United States
ORGANIZER;CN="Alaska Young Democrats":MAILTO:youngdems49@gmail.com
END:VEVENT
BEGIN:VEVENT
DTSTART;TZID=America/Anchorage:20230624T110000
DTEND;TZID=America/Anchorage:20230624T123000
DTSTAMP:20260419T075332
CREATED:20230620T182139Z
LAST-MODIFIED:20230620T182139Z
UID:5383-1687604400-1687609800@alaskademocrats.org
SUMMARY:Mary Peltola Fundraiser
DESCRIPTION:Celebrate PRIDE on the park strip then join us for a bird’s eye view on the rooftop for a fundraiser\, food\, and good conversation! \nWhen: Saturday\, June 24\, 1:00 pm – 2:30 pm AKST \nWhere: Campaign Office Rooftop at 810 N St\, Anchorage\, AK 99501
URL:https://alaskademocrats.org/event/mary-peltola-fundraiser/
LOCATION:Mary Peltola Campaign Office\, 810 N St\, Anchorage\, AK\, 99501\, United States
CATEGORIES:Fundraiser
END:VEVENT
BEGIN:VEVENT
DTSTART;VALUE=DATE:20230624
DTEND;VALUE=DATE:20230626
DTSTAMP:20260419T075332
CREATED:20230620T165413Z
LAST-MODIFIED:20230620T165413Z
UID:5290-1687644000-1687730399@alaskademocrats.org
SUMMARY:COMMUNITY EVENT: Aloha in Alaska Music Festival
DESCRIPTION:*This community event is not hosted by the AK Dems.
URL:https://alaskademocrats.org/event/community-event-aloha-in-alaska-music-festival/
LOCATION:Anchorage
END:VEVENT
BEGIN:VEVENT
DTSTART;TZID=America/Anchorage:20230626T153000
DTEND;TZID=America/Anchorage:20230626T173000
DTSTAMP:20260419T075332
CREATED:20230526T015231Z
LAST-MODIFIED:20230619T195238Z
UID:4838-1687793400-1687800600@alaskademocrats.org
SUMMARY:Anchorage Democrats Monthly Meeting
DESCRIPTION:Join the Anchorage Democrats for our monthly meeting!\n\nhttps://us02web.zoom.us/j/89217991722?pwd=RkhuMWNVNkhQaTBpcGlSVFgzM0hTUT09 \n\nMeeting ID: 892 1799 1722 \n\nPasscode: 533928
URL:https://alaskademocrats.org/event/anchorage-democrats-monthly-meeting-2/
LOCATION:Zoom
CATEGORIES:Monthly Meeting
ORGANIZER;CN="Anchorage Democrats":MAILTO:info@anchoragedems.org
END:VEVENT
BEGIN:VEVENT
DTSTART;TZID=America/Anchorage:20230627T170000
DTEND;TZID=America/Anchorage:20230627T180000
DTSTAMP:20260419T075332
CREATED:20230607T153320Z
LAST-MODIFIED:20230619T195230Z
UID:4919-1687885200-1687888800@alaskademocrats.org
SUMMARY:AKYD Finance Committee
DESCRIPTION:Goal is to discuss finances for YDA\, campaign\, Trello.\n\nFinance meetings are every fourth Tuesday of the month.\n\nJoin Zoom Meeting\nhttps://zoom.us/j/99340454170?pwd=RklXUGo2UWJmTzhxcE1tVURIQjlydz09
URL:https://alaskademocrats.org/event/akyd-finance-committee/
LOCATION:Zoom
ORGANIZER;CN="Alaska Young Democrats":MAILTO:youngdems49@gmail.com
END:VEVENT
BEGIN:VEVENT
DTSTART;VALUE=DATE:20230630
DTEND;VALUE=DATE:20230702
DTSTAMP:20260419T075332
CREATED:20230620T165609Z
LAST-MODIFIED:20230620T165609Z
UID:5292-1688162400-1688248799@alaskademocrats.org
SUMMARY:COMMUNITY EVENT: 2023 Kachemak Bay Highland Games
DESCRIPTION:*This community event is not hosted by the AK Dems.
URL:https://alaskademocrats.org/event/community-event-2023-kachemak-bay-highland-games/
LOCATION:Homer
END:VEVENT
BEGIN:VEVENT
DTSTART;VALUE=DATE:20230630
DTEND;VALUE=DATE:20230702
DTSTAMP:20260419T075332
CREATED:20230620T165716Z
LAST-MODIFIED:20230620T165716Z
UID:5295-1688162400-1688248799@alaskademocrats.org
SUMMARY:COMMUNITY EVENT: Althing Heathen Festival
DESCRIPTION:*This community event is not hosted by the AK Dems.
URL:https://alaskademocrats.org/event/community-event-althing-heathen-festival/
LOCATION:Fairbanks
END:VEVENT
BEGIN:VEVENT
DTSTART;VALUE=DATE:20230630
DTEND;VALUE=DATE:20230731
DTSTAMP:20260419T075332
CREATED:20230620T170016Z
LAST-MODIFIED:20230620T170016Z
UID:5297-1688162400-1690754399@alaskademocrats.org
SUMMARY:COMMUNITY EVENT: Homer Peony Celebration
DESCRIPTION:*This community event is not hosted by the AK Dems.
URL:https://alaskademocrats.org/event/community-event-homer-peony-celebration/
LOCATION:Homer
END:VEVENT
BEGIN:VEVENT
DTSTART;VALUE=DATE:20230701
DTEND;VALUE=DATE:20230829
DTSTAMP:20260419T075332
CREATED:20230620T170153Z
LAST-MODIFIED:20230620T170153Z
UID:5299-1688248800-1693259999@alaskademocrats.org
SUMMARY:COMMUNITY EVENT: Fairbanks Summer Arts Festival
DESCRIPTION:*This community event is not hosted by the AK Dems.
URL:https://alaskademocrats.org/event/community-event-fairbanks-summer-arts-festival/
LOCATION:Fairbanks
END:VEVENT
BEGIN:VEVENT
DTSTART;VALUE=DATE:20230703
DTEND;VALUE=DATE:20230705
DTSTAMP:20260419T075332
CREATED:20230620T170258Z
LAST-MODIFIED:20230620T170258Z
UID:5301-1688421600-1688507999@alaskademocrats.org
SUMMARY:COMMUNITY EVENT: Fourth of July Celebration & Mount Marathon
DESCRIPTION:*This community event is not hosted by the AK Dems.
URL:https://alaskademocrats.org/event/community-event-fourth-of-july-celebration-mount-marathon/
LOCATION:Seward
END:VEVENT
BEGIN:VEVENT
DTSTART;VALUE=DATE:20230704
DTEND;VALUE=DATE:20230716
DTSTAMP:20260419T075332
CREATED:20230620T171353Z
LAST-MODIFIED:20230620T171353Z
UID:5305-1688508000-1689458399@alaskademocrats.org
SUMMARY:COMMUNITY EVENT: Anchorage Chamber Music Festival
DESCRIPTION:*This community event is not hosted by the AK Dems.
URL:https://alaskademocrats.org/event/community-event-anchorage-chamber-music-festival/
LOCATION:Anchorage
END:VEVENT
BEGIN:VEVENT
DTSTART;VALUE=DATE:20230706
DTEND;VALUE=DATE:20230709
DTSTAMP:20260419T075332
CREATED:20230620T173804Z
LAST-MODIFIED:20230620T173804Z
UID:5310-1688680800-1688853599@alaskademocrats.org
SUMMARY:COMMUNITY EVENT: Rock’n the Ranch at the RustyRavin
DESCRIPTION:*This community event is not hosted by the AK Dems.
URL:https://alaskademocrats.org/event/community-event-rockn-the-ranch-at-the-rustyravin/
LOCATION:Kenai
END:VEVENT
BEGIN:VEVENT
DTSTART;VALUE=DATE:20230706
DTEND;VALUE=DATE:20230710
DTSTAMP:20260419T075332
CREATED:20230620T171524Z
LAST-MODIFIED:20230620T171524Z
UID:5307-1688680800-1688939999@alaskademocrats.org
SUMMARY:COMMUNITY EVENT: Forest Fair
DESCRIPTION:*This community event is not hosted by the AK Dems.
URL:https://alaskademocrats.org/event/community-event-forest-fair/
LOCATION:Girdwood
END:VEVENT
BEGIN:VEVENT
DTSTART;VALUE=DATE:20230707
DTEND;VALUE=DATE:20230709
DTSTAMP:20260419T075332
CREATED:20230620T174029Z
LAST-MODIFIED:20230620T174041Z
UID:5313-1688767200-1688853599@alaskademocrats.org
SUMMARY:COMMUNITY EVENT: Love My Pet Fest
DESCRIPTION:*This community event is not hosted by the AK Dems.
URL:https://alaskademocrats.org/event/community-event-love-my-pet-fest/
LOCATION:Anchorage
END:VEVENT
BEGIN:VEVENT
DTSTART;VALUE=DATE:20230707
DTEND;VALUE=DATE:20230709
DTSTAMP:20260419T075332
CREATED:20230620T174218Z
LAST-MODIFIED:20230620T174218Z
UID:5315-1688767200-1688853599@alaskademocrats.org
SUMMARY:COMMUNITY EVENT: Alaska Yoga Festival
DESCRIPTION:*This community event is not hosted by the AK Dems.
URL:https://alaskademocrats.org/event/community-event-alaska-yoga-festival/
LOCATION:Fairbanks
END:VEVENT
BEGIN:VEVENT
DTSTART;VALUE=DATE:20230707
DTEND;VALUE=DATE:20230816
DTSTAMP:20260419T075332
CREATED:20230620T174809Z
LAST-MODIFIED:20230620T174809Z
UID:5317-1688767200-1692136799@alaskademocrats.org
SUMMARY:COMMUNITY EVENT: Golden Days
DESCRIPTION:*This community event is not hosted by the AK Dems.
URL:https://alaskademocrats.org/event/community-event-golden-days/
LOCATION:Fairbanks
END:VEVENT
BEGIN:VEVENT
DTSTART;TZID=America/Anchorage:20230708T090000
DTEND;TZID=America/Anchorage:20230708T110000
DTSTAMP:20260419T075332
CREATED:20230607T153813Z
LAST-MODIFIED:20230619T195217Z
UID:4923-1688806800-1688814000@alaskademocrats.org
SUMMARY:Mat-Su Dems Monthly Meeting
DESCRIPTION:Join the Mat-Su Dems as they invite all “Lefters” to our monthly meetings. You don’t have to be a Democrat or live in the Mat-Su!\n\nThis month will be a hybrid – in-person and Zoom.\n\nIf you want to participate in person\, just come to the above address.\n\nIf you want to join by Zoom register here.\nhttps://us02web.zoom.us/j/89131721691?pwd=RDRRb3RzSHlrcEovU0pHODgwa05uZz09
URL:https://alaskademocrats.org/event/mat-su-dems-monthly-meeting/
LOCATION:Zoom
END:VEVENT
BEGIN:VEVENT
DTSTART;TZID=America/Anchorage:20230708T100000
DTEND;TZID=America/Anchorage:20230708T120000
DTSTAMP:20260419T075332
CREATED:20230703T180803Z
LAST-MODIFIED:20230706T153053Z
UID:5510-1688810400-1688817600@alaskademocrats.org
SUMMARY:Welcoming Congressman Ted Lieu to the Interior
DESCRIPTION:Join us in welcoming Congressman Ted Lieu and his partner\, Betty\, to Fairbanks for a fundraiser with the Interior Democrats! 
URL:https://alaskademocrats.org/event/welcoming-congressman-ted-lieu-to-the-interior/
LOCATION:Trail Breaker Kennel\, 5880 Airport Industrial Rd\, Fairbanks\, AK\, 99709\, United States
CATEGORIES:Fundraiser
ORGANIZER;CN="Interior Democrats":MAILTO:interiordems@gmail.com
END:VEVENT
BEGIN:VEVENT
DTSTART;TZID=America/Anchorage:20230709T180000
DTEND;TZID=America/Anchorage:20230709T180000
DTSTAMP:20260419T075332
CREATED:20230607T154250Z
LAST-MODIFIED:20230619T195138Z
UID:4927-1688925600-1688925600@alaskademocrats.org
SUMMARY:Alaska Black Caucus Community Dialogue with the Anchorage Assembly
DESCRIPTION:Join the Alaska Black Caucus in a community dialogue with the Anchorage Assembly.\nGet to know other members\, including the five new members elected this spring. Bring your questions and be sure to register for the event!
URL:https://alaskademocrats.org/event/alaska-black-caucus-community-dialogue-with-the-anchorage-assembly/
LOCATION:Zoom
END:VEVENT
BEGIN:VEVENT
DTSTART;VALUE=DATE:20230711
DTEND;VALUE=DATE:20230717
DTSTAMP:20260419T075332
CREATED:20230620T175000Z
LAST-MODIFIED:20230620T175000Z
UID:5319-1689112800-1689544799@alaskademocrats.org
SUMMARY:COMMUNITY EVENT: Bear Paw Festival
DESCRIPTION:*This community event is not hosted by the AK Dems.
URL:https://alaskademocrats.org/event/community-event-bear-paw-festival/
LOCATION:Chugiak-Eagle River
END:VEVENT
BEGIN:VEVENT
DTSTART;TZID=America/Anchorage:20230713T161500
DTEND;TZID=America/Anchorage:20230713T171500
DTSTAMP:20260419T075332
CREATED:20230607T153604Z
LAST-MODIFIED:20230626T182643Z
UID:4921-1689264900-1689268500@alaskademocrats.org
SUMMARY:Tongass Democrats Business Meeting
DESCRIPTION:Join the Tongass Democrats for their business meeting!
URL:https://alaskademocrats.org/event/tongass-democrats-business-meeting/
LOCATION:IBEW Hall\, 3333 Denali St #200\, Anchorage\, AK\, 99503\, United States
ORGANIZER;CN="Tongass Democrats":MAILTO:tongassdemocrats@gmail.com
END:VEVENT
END:VCALENDAR