BEGIN:VCALENDAR
VERSION:2.0
PRODID:-//Alaska Democrats - ECPv6.15.20//NONSGML v1.0//EN
CALSCALE:GREGORIAN
METHOD:PUBLISH
X-WR-CALNAME:Alaska Democrats
X-ORIGINAL-URL:https://alaskademocrats.org
X-WR-CALDESC:Events for Alaska Democrats
REFRESH-INTERVAL;VALUE=DURATION:PT1H
X-Robots-Tag:noindex
X-PUBLISHED-TTL:PT1H
BEGIN:VTIMEZONE
TZID:America/Anchorage
BEGIN:DAYLIGHT
TZOFFSETFROM:-0900
TZOFFSETTO:-0800
TZNAME:AKDT
DTSTART:20230312T110000
END:DAYLIGHT
BEGIN:STANDARD
TZOFFSETFROM:-0800
TZOFFSETTO:-0900
TZNAME:AKST
DTSTART:20231105T100000
END:STANDARD
BEGIN:DAYLIGHT
TZOFFSETFROM:-0900
TZOFFSETTO:-0800
TZNAME:AKDT
DTSTART:20240310T110000
END:DAYLIGHT
BEGIN:STANDARD
TZOFFSETFROM:-0800
TZOFFSETTO:-0900
TZNAME:AKST
DTSTART:20241103T100000
END:STANDARD
BEGIN:DAYLIGHT
TZOFFSETFROM:-0900
TZOFFSETTO:-0800
TZNAME:AKDT
DTSTART:20250309T110000
END:DAYLIGHT
BEGIN:STANDARD
TZOFFSETFROM:-0800
TZOFFSETTO:-0900
TZNAME:AKST
DTSTART:20251102T100000
END:STANDARD
END:VTIMEZONE
BEGIN:VEVENT
DTSTART;TZID=America/Anchorage:20241003T171500
DTEND;TZID=America/Anchorage:20241003T190000
DTSTAMP:20260422T144609
CREATED:20240930T202355Z
LAST-MODIFIED:20240930T202355Z
UID:13623-1727975700-1727982000@alaskademocrats.org
SUMMARY:Tongass Democrats Monthly Meeting
DESCRIPTION:Join the Tongass Democrats for their monthly meeting!Join in person or over Zoom. Please email tongassdemocrats@gmail.com in advance for Zoom information.
URL:https://alaskademocrats.org/event/tongass-democrats-monthly-meeting-5/
LOCATION:IBEW Hall Juneau\, 813 W 12th St\, Juneau\, AK\, 99801\, United States
CATEGORIES:Monthly Meeting
ORGANIZER;CN="Tongass Democrats":MAILTO:tongassdemocrats@gmail.com
END:VEVENT
BEGIN:VEVENT
DTSTART;TZID=America/Anchorage:20241004T173000
DTEND;TZID=America/Anchorage:20241004T193000
DTSTAMP:20260422T144609
CREATED:20241005T003859Z
LAST-MODIFIED:20241005T003859Z
UID:14254-1728063000-1728070200@alaskademocrats.org
SUMMARY:Fundraiser for Donna Mears
DESCRIPTION:Join Donna Mears for Louisiana cooking by Harry Crawford this fundraiser for her reelection efforts. Enjoy great food\, friends\, and conversation!RSVP here: https://facebook.com/events/s/fundraiser-for-donna-mears/1273890177389440/
URL:https://alaskademocrats.org/event/fundraiser-for-donna-mears/
LOCATION:Home of Mike Knapp & Rachel Morse\, 3312 Robin Street\, Anchorage\, AK\, 99504\, United States
CATEGORIES:Fundraiser
END:VEVENT
BEGIN:VEVENT
DTSTART;TZID=America/Anchorage:20241005T110000
DTEND;TZID=America/Anchorage:20241005T140000
DTSTAMP:20260422T144609
CREATED:20241005T004127Z
LAST-MODIFIED:20241005T004127Z
UID:14270-1728126000-1728136800@alaskademocrats.org
SUMMARY:30 Days to Go:Door Knocking with Denny Wells
DESCRIPTION:We’re only 30 days away from Election Day! Join Denny Wells this Saturday\, October 5th at 11 am as we talk to voters in the community about Denny and the campaign. Paid for by Denny Wells for Alaska\, PO Box 242261\, Anchorage AK 99524RSVP here: https://www.facebook.com/events/1569598707096921
URL:https://alaskademocrats.org/event/30-days-to-godoor-knocking-with-denny-wells/
LOCATION:3309 North Shore Drive\, 3309 North Shore Drive\, Anchorage\, AK\, 99502\, United States
CATEGORIES:Candidate Event
END:VEVENT
BEGIN:VEVENT
DTSTART;TZID=America/Anchorage:20241012T130000
DTEND;TZID=America/Anchorage:20241012T153000
DTSTAMP:20260422T144609
CREATED:20241011T201630Z
LAST-MODIFIED:20241011T201816Z
UID:14739-1728738000-1728747000@alaskademocrats.org
SUMMARY:Volunteer Bike & Walk Doorknock for Genevieve Mina: Airport Heights
DESCRIPTION:Come knock doors for Genevieve Mina’s re-election to State House\, and encourage people to vote in this very important election year. Bring your feet and/or your wheels! Training and lists will be provided for new canvassers. Snacks and refreshments will also be provided!Please contact info@alaskansforgenevieve.com or text Remington Purnell for any questions. They will be covering the Airport Heights / Russian Jack neighborhood between Lake Otis Pkwy\, Debarr Rd\, Airport Heights Drive\, Penland Prk\, Northern Lights Blvd\, San Roberto Ave\, and Pine St.
URL:https://alaskademocrats.org/event/volunteer-bike-walk-doorknock-airport-heights/
LOCATION:Tikishla Park\, 3018 E 20th Ave\, Anchorage\, AK\, 99508\, United States
CATEGORIES:Candidate Event
END:VEVENT
BEGIN:VEVENT
DTSTART;TZID=America/Anchorage:20241012T130000
DTEND;TZID=America/Anchorage:20241012T200000
DTSTAMP:20260422T144609
CREATED:20240928T003024Z
LAST-MODIFIED:20240928T003024Z
UID:13583-1728738000-1728763200@alaskademocrats.org
SUMMARY:Phone Banking & Canvassing for Brent Johnson
DESCRIPTION:Join us at a campaign HQ located at 3850 Heath St to knock on doors and make calls in support of Brent Johnson! Training will be provided.
URL:https://alaskademocrats.org/event/phone-banking-canvassing-for-brent-johnson/
LOCATION:House District 6 HQ\, 3850 Heath St\, Homer\, AK\, 99603\, United States
CATEGORIES:Candidate Event
END:VEVENT
BEGIN:VEVENT
DTSTART;TZID=America/Anchorage:20241013T130000
DTEND;TZID=America/Anchorage:20241013T153000
DTSTAMP:20260422T144609
CREATED:20241011T201753Z
LAST-MODIFIED:20241011T201753Z
UID:14743-1728824400-1728833400@alaskademocrats.org
SUMMARY:Volunteer Bike & Walk Doorknock for Genevieve Mina: Airport Heights
DESCRIPTION:Come knock doors for Genevieve Mina’s re-election to State House\, and encourage people to vote in this very important election year. Bring your feet and/or your wheels! Training and lists will be provided for new canvassers. Snacks and refreshments will also be provided!Please contact info@alaskansforgenevieve.com or text Remington Purnell for any questions. They will be covering the Airport Heights / Russian Jack neighborhood between Lake Otis Pkwy\, Debarr Rd\, Airport Heights Drive\, Penland Prk\, Northern Lights Blvd\, San Roberto Ave\, and Pine St.
URL:https://alaskademocrats.org/event/volunteer-bike-walk-doorknock-for-genevieve-mina-airport-heights/
LOCATION:Tikishla Park\, 3018 E 20th Ave\, Anchorage\, AK\, 99508\, United States
CATEGORIES:Candidate Event
END:VEVENT
BEGIN:VEVENT
DTSTART;TZID=America/Anchorage:20241013T130000
DTEND;TZID=America/Anchorage:20241013T200000
DTSTAMP:20260422T144609
CREATED:20240928T003321Z
LAST-MODIFIED:20240928T003321Z
UID:13592-1728824400-1728849600@alaskademocrats.org
SUMMARY:Phone Banking & Canvassing for Brent Johnson
DESCRIPTION:Join us at a campaign HQ located at 3850 Heath St to knock on doors and make calls in support of Brent Johnson!Training will be provided.
URL:https://alaskademocrats.org/event/phone-banking-canvassing-for-brent-johnson-2/
LOCATION:House District 6 HQ\, 3850 Heath St\, Homer\, AK\, 99603\, United States
CATEGORIES:Candidate Event
END:VEVENT
BEGIN:VEVENT
DTSTART;TZID=America/Anchorage:20241015T170000
DTEND;TZID=America/Anchorage:20241015T190000
DTSTAMP:20260422T144609
CREATED:20240928T002820Z
LAST-MODIFIED:20240928T002820Z
UID:13574-1729011600-1729018800@alaskademocrats.org
SUMMARY:Phone Banking for Brent Johnson
DESCRIPTION:Join us for a campaign phone bank to help send Brent Johnson to Juneau. You can join this event either in person or over zoom.Zoom Link: https://us02web.zoom.us/j/83451868104
URL:https://alaskademocrats.org/event/phone-banking-for-brent-johnson-3/
LOCATION:House District 6 HQ\, 3850 Heath St\, Homer\, AK\, 99603\, United States
CATEGORIES:Candidate Event
END:VEVENT
BEGIN:VEVENT
DTSTART;TZID=America/Anchorage:20241024T170000
DTEND;TZID=America/Anchorage:20241024T200000
DTSTAMP:20260422T144609
CREATED:20241022T181116Z
LAST-MODIFIED:20241022T181116Z
UID:14973-1729789200-1729800000@alaskademocrats.org
SUMMARY:Jazz Jam with Denny Wells\, Matt Claman\, and Genevieve Mina
DESCRIPTION:Join Denny Wells\, Matt Claman\, Genevieve Mina and an amazing group of co-hosts and supporters for a Jazz Jam fundraiser!Where: The Bayshore home of Monica & Greg Lyall 3240 Seaport Cir When: Thursday\, October 24th from 5 to 8 pm
URL:https://alaskademocrats.org/event/jazz-jam-with-denny-wells-matt-claman-and-genevieve-mina/
LOCATION:The Bayshore Home of Monica & Greg Lyall\, 3240 Seaport Cir\, Anchorage\, AK\, 99515\, United States
CATEGORIES:Candidate Event
END:VEVENT
BEGIN:VEVENT
DTSTART;TZID=America/Anchorage:20241025T170000
DTEND;TZID=America/Anchorage:20241025T193000
DTSTAMP:20260422T144609
CREATED:20241002T232212Z
LAST-MODIFIED:20241002T232212Z
UID:13638-1729875600-1729884600@alaskademocrats.org
SUMMARY:East Side ROCKS Volunteer Rally
DESCRIPTION:The final countdown to Election Day has begun and we need all hands on deck! Join us for the East Side Rocks Volunteer Rally with our East Side Anchorage candidates – Andrew Gray\, Genevieve Mina\, Donna Mears\, Cliff Groh\, Ted Eischeid\, and Forrest Dunbar! We will have food\, drinks\, entertainment\, good conversation\, and resources to get you involved in the final days of election season. Let’s finish strong! The rally will be on October 25th from 5 PM – 7:30 PM at the Dr. Lidia Selkregg Chalet at Russian Jack Springs Park.RSVP HERE: https://www.mobilize.us/akdems/event/715427/
URL:https://alaskademocrats.org/event/east-side-rocks-volunteer-rally/
LOCATION:Dr. Lidia Selkregg Chalet at Russian Jack Springs Park\, 1600 Lidia Selkregg Ln\, Anchorage\, AK\, 99504\, United States
CATEGORIES:Candidate Event
END:VEVENT
BEGIN:VEVENT
DTSTART;TZID=America/Anchorage:20241030T170000
DTEND;TZID=America/Anchorage:20241030T190000
DTSTAMP:20260422T144609
CREATED:20241028T200118Z
LAST-MODIFIED:20241028T200118Z
UID:15183-1730307600-1730314800@alaskademocrats.org
SUMMARY:GOTV Door Knocking with Denny Wells
DESCRIPTION:We’re days away from the Nov. 5th Election! Join Denny and an amazing group of volunteers as we head out to talk to friends and neighbors about the upcoming election!Paid for by Denny Wells for Alaska\, PO Box 242261\, Anchorage AK 99524
URL:https://alaskademocrats.org/event/gotv-door-knocking-with-denny-wells/
LOCATION:3309 N Shore Dr\, 3309 N Shore Dr\, Anchorage\, AK\, 99502\, United States
CATEGORIES:Candidate Event
END:VEVENT
BEGIN:VEVENT
DTSTART;TZID=America/Anchorage:20241030T170000
DTEND;TZID=America/Anchorage:20241030T190000
DTSTAMP:20260422T144609
CREATED:20241029T230126Z
LAST-MODIFIED:20241029T230126Z
UID:15266-1730307600-1730314800@alaskademocrats.org
SUMMARY:Wednesday GOTV in Juneau!
DESCRIPTION:It’s the final push to Election Day as we work to protect Juneau from our extreme opponent. Take action to re-elect Mary today! This week is your last chance to help Mary Peltola get out the vote in Juneau. Knock on any weekday by meeting up with Keenan. Knock on the weekend for more formal launches at 10 am\, 1 pm\, and 4 pm — and good company! Bring a charged smartphone and warm clothes. Sign up for a shift here: https://www.mobilize.us/marypeltolaforcongress/event/718133/
URL:https://alaskademocrats.org/event/wednesday-gotv-in-juneau/
LOCATION:IBEW Hall Juneau\, 813 W 12th St\, Juneau\, AK\, 99801\, United States
CATEGORIES:Candidate Event
ORGANIZER;CN="Alaska Democratic Party":MAILTO:info@anchoragedems.org
END:VEVENT
BEGIN:VEVENT
DTSTART;TZID=America/Anchorage:20241030T173000
DTEND;TZID=America/Anchorage:20241030T190000
DTSTAMP:20260422T144609
CREATED:20241028T201704Z
LAST-MODIFIED:20241028T201704Z
UID:15193-1730309400-1730314800@alaskademocrats.org
SUMMARY:GOTV Fairbanks Pro-Worker Party
DESCRIPTION:Stop by the GOTV Pro-Worker Party in Fairbanks on October 30\, 2024 at Laborer’s Local 942 (2501 Commercial Dr #140\, Anchorage\, AK 99501) from 5:30-7:00PM with emcee Mayor Grier Hopkins!You can meet your legislative candidate and rally to GOTV to elect candidates up and down the ticket who support Alaska’s working families and Ballot Measure 1. There will be food\, beverages\, and fun!
URL:https://alaskademocrats.org/event/gotv-fairbanks-pro-worker-party/
LOCATION:Laborer’s Local 942\, 2501 Commercial Dr #140\, Fairbanks\, AK\, 99501\, United States
CATEGORIES:Event
END:VEVENT
BEGIN:VEVENT
DTSTART;TZID=America/Anchorage:20241030T180000
DTEND;TZID=America/Anchorage:20241030T193000
DTSTAMP:20260422T144609
CREATED:20241028T210827Z
LAST-MODIFIED:20241028T210827Z
UID:15210-1730311200-1730316600@alaskademocrats.org
SUMMARY:Friendbank for Ted Eischeid!
DESCRIPTION:Ted Eischeid’s race is one of the closest legislative races in Alaska this year! Join us for a friendbank – we are going to be meeting up to reach out to our friends and neighbors in the district to tell people why we are voting for Ted\, and to work to get out the vote! Snacks and light refreshments will be provided. Note: this event is best for volunteers with connections/relationships with folks in East Anchorage! We will be asking you to talk to the people in your life about Ted Eischeid’s campaign.
URL:https://alaskademocrats.org/event/friendbank-for-ted-eischeid/
LOCATION:1423 Atkinson Dr\, Anchorage\, Alaska\, 1423 Atkinson Dr\, Anchorage\, AK\, 99504\, United States
CATEGORIES:Candidate Event
END:VEVENT
BEGIN:VEVENT
DTSTART;TZID=America/Anchorage:20241031T170000
DTEND;TZID=America/Anchorage:20241031T200000
DTSTAMP:20260422T144609
CREATED:20241029T230212Z
LAST-MODIFIED:20241029T230411Z
UID:15268-1730394000-1730404800@alaskademocrats.org
SUMMARY:Thursday GOTV in Juneau!
DESCRIPTION:It’s the final push to Election Day as we work to protect Juneau from our extreme opponent. Take action to re-elect Mary today! This week is your last chance to help Mary Peltola get out the vote in Juneau. Knock on any weekday by meeting up with Keenan. Knock on the weekend for more formal launches at 10 am\, 1 pm\, and 4 pm — and good company! Bring a charged smartphone and warm clothes. Sign up for a shift here: https://www.mobilize.us/marypeltolaforcongress/event/718133/
URL:https://alaskademocrats.org/event/thursday-gotv-in-juneau/
LOCATION:IBEW Hall Juneau\, 813 W 12th St\, Juneau\, AK\, 99801\, United States
CATEGORIES:Candidate Event
ORGANIZER;CN="Alaska Democratic Party":MAILTO:info@anchoragedems.org
END:VEVENT
BEGIN:VEVENT
DTSTART;TZID=America/Anchorage:20241031T180000
DTEND;TZID=America/Anchorage:20241031T200000
DTSTAMP:20260422T144609
CREATED:20241028T211004Z
LAST-MODIFIED:20241028T211004Z
UID:15212-1730397600-1730404800@alaskademocrats.org
SUMMARY:Phonebank to Get out the Vote for Ted Eischeid!
DESCRIPTION:It’s crunch time in this critical race – join us to help call voters to get out the vote for Ted Eischeid’s campaign! Join Ted and Team Ted for this important get out the vote phonebank. There will be a full training and light refreshments – all you need to bring is a charged phone.
URL:https://alaskademocrats.org/event/phonebank-to-get-out-the-vote-for-ted-eischeid/
LOCATION:1423 Atkinson Dr\, Anchorage\, Alaska\, 1423 Atkinson Dr\, Anchorage\, AK\, 99504\, United States
CATEGORIES:Candidate Event
END:VEVENT
BEGIN:VEVENT
DTSTART;TZID=America/Anchorage:20241101T100000
DTEND;TZID=America/Anchorage:20241101T190000
DTSTAMP:20260422T144609
CREATED:20241029T221721Z
LAST-MODIFIED:20241029T222452Z
UID:15222-1730455200-1730487600@alaskademocrats.org
SUMMARY:Friday GOTV in Anchorage!
DESCRIPTION:It’s the final push to Election Day as we work to protect Alaska from our extreme opponent. Take action to re-elect Mary today! Join Team Mary on the three weekends leading up to November 5 to Get Out the Vote in Anchorage!! Canvass launches will be held every weekend at 10am\, 1pm\, and 4pm at our field office. All you need to bring is a fully charged smartphone and some warm clothes!Sign up for a shift here: https://www.mobilize.us/marypeltolaforcongress/event/716477/
URL:https://alaskademocrats.org/event/friday-gotv-in-anchorage/
LOCATION:Mary Peltola Field Office\, 624 W International Airport Rd\, Anchorage\, AK\, 99518\, United States
CATEGORIES:Candidate Event
END:VEVENT
BEGIN:VEVENT
DTSTART;TZID=America/Anchorage:20241101T170000
DTEND;TZID=America/Anchorage:20241101T200000
DTSTAMP:20260422T144609
CREATED:20241029T225200Z
LAST-MODIFIED:20241029T225200Z
UID:15254-1730480400-1730491200@alaskademocrats.org
SUMMARY:Friday GOTV in the Mat-Su!
DESCRIPTION:It’s the final push to Election Day as we work to protect the Mat-Su from our extreme opponent. Take action to re-elect Mary today! Join Team Mary on the three weekends leading up to November 5 to Get Out the Vote in Wasilla!! Wasilla canvass launches will be held every weekend\, Saturday AND Sunday\, at 10am\, 1pm\, and 4pm at our Wasilla office. All you need to bring is a fully charged smartphone and some warm clothes! Sign up for a shift here: https://www.mobilize.us/marypeltolaforcongress/event/716820/
URL:https://alaskademocrats.org/event/friday-gotv-in-the-mat-su/
LOCATION:Mary Peltola Wasilla Field Office\, 231 E Swanson Ave\, Wasilla\, 99654\, United States
CATEGORIES:Candidate Event
ORGANIZER;CN="Alaska Democratic Party":MAILTO:info@anchoragedems.org
END:VEVENT
BEGIN:VEVENT
DTSTART;TZID=America/Anchorage:20241102T100000
DTEND;TZID=America/Anchorage:20241102T190000
DTSTAMP:20260422T144609
CREATED:20241029T221900Z
LAST-MODIFIED:20241029T222439Z
UID:15226-1730541600-1730574000@alaskademocrats.org
SUMMARY:Saturday GOTV in Anchorage!
DESCRIPTION:It’s the final push to Election Day as we work to protect Alaska from our extreme opponent. Take action to re-elect Mary today! Join Team Mary on the three weekends leading up to November 5 to Get Out the Vote in Anchorage!! Canvass launches will be held every weekend at 10am\, 1pm\, and 4pm at our field office. All you need to bring is a fully charged smartphone and some warm clothes!Sign up for a shift here: https://www.mobilize.us/marypeltolaforcongress/event/716477/
URL:https://alaskademocrats.org/event/saturday-gotv-in-anchorage/
LOCATION:Mary Peltola Field Office\, 624 W International Airport Rd\, Anchorage\, AK\, 99518\, United States
CATEGORIES:Candidate Event
END:VEVENT
BEGIN:VEVENT
DTSTART;TZID=America/Anchorage:20241102T100000
DTEND;TZID=America/Anchorage:20241102T190000
DTSTAMP:20260422T144609
CREATED:20241029T224503Z
LAST-MODIFIED:20241029T225623Z
UID:15246-1730541600-1730574000@alaskademocrats.org
SUMMARY:Saturday GOTV in Fairbanks!
DESCRIPTION:It’s the final push to Election Day as we work to protect Fairbanks from our extreme opponent. Take action to re-elect Mary today! Join Team Mary on the three weekends leading up to November 5 to Get Out the Vote in Fairbanks! Canvass launches will be held every weekend at 10am\, 1pm\, and 4pm at our office. All you need to bring is a fully charged smartphone and some warm clothes! Sign up for a shift here: https://www.mobilize.us/marypeltolaforcongress/event/716804/
URL:https://alaskademocrats.org/event/saturday-gotv-in-fairbanks/
LOCATION:Mary Peltola Fairbanks Field Office\, 514 2nd Ave\, Fairbanks\, 99701\, United States
CATEGORIES:Candidate Event
ORGANIZER;CN="Alaska Democratic Party":MAILTO:info@anchoragedems.org
END:VEVENT
BEGIN:VEVENT
DTSTART;TZID=America/Anchorage:20241102T100000
DTEND;TZID=America/Anchorage:20241102T190000
DTSTAMP:20260422T144609
CREATED:20241029T225257Z
LAST-MODIFIED:20241029T225257Z
UID:15257-1730541600-1730574000@alaskademocrats.org
SUMMARY:Saturday GOTV in the Mat-Su!
DESCRIPTION:It’s the final push to Election Day as we work to protect the Mat-Su from our extreme opponent. Take action to re-elect Mary today! Join Team Mary on the three weekends leading up to November 5 to Get Out the Vote in Wasilla!! Wasilla canvass launches will be held every weekend\, Saturday AND Sunday\, at 10am\, 1pm\, and 4pm at our Wasilla office. All you need to bring is a fully charged smartphone and some warm clothes! Sign up for a shift here: https://www.mobilize.us/marypeltolaforcongress/event/716820/
URL:https://alaskademocrats.org/event/saturday-gotv-in-the-mat-su/
LOCATION:Mary Peltola Wasilla Field Office\, 231 E Swanson Ave\, Wasilla\, 99654\, United States
CATEGORIES:Candidate Event
ORGANIZER;CN="Alaska Democratic Party":MAILTO:info@anchoragedems.org
END:VEVENT
BEGIN:VEVENT
DTSTART;TZID=America/Anchorage:20241102T100000
DTEND;TZID=America/Anchorage:20241102T190000
DTSTAMP:20260422T144609
CREATED:20241029T230335Z
LAST-MODIFIED:20241029T230335Z
UID:15270-1730541600-1730574000@alaskademocrats.org
SUMMARY:Saturday GOTV in Juneau!
DESCRIPTION:It’s the final push to Election Day as we work to protect Juneau from our extreme opponent. Take action to re-elect Mary today! This week is your last chance to help Mary Peltola get out the vote in Juneau. Knock on any weekday by meeting up with Keenan. Knock on the weekend for more formal launches at 10 am\, 1 pm\, and 4 pm — and good company! Bring a charged smartphone and warm clothes. Sign up for a shift here: https://www.mobilize.us/marypeltolaforcongress/event/718133/
URL:https://alaskademocrats.org/event/saturday-gotv-in-juneau/
LOCATION:IBEW Hall Juneau\, 813 W 12th St\, Juneau\, AK\, 99801\, United States
CATEGORIES:Candidate Event
ORGANIZER;CN="Alaska Democratic Party":MAILTO:info@anchoragedems.org
END:VEVENT
BEGIN:VEVENT
DTSTART;TZID=America/Anchorage:20241102T100000
DTEND;TZID=America/Anchorage:20241102T200000
DTSTAMP:20260422T144609
CREATED:20240928T003527Z
LAST-MODIFIED:20240928T003527Z
UID:13597-1730541600-1730577600@alaskademocrats.org
SUMMARY:GOTV Phone Banking & Canvassing for Brent Johnson
DESCRIPTION:Join us at a campaign HQ located at 3850 Heath St to knock on doors and make calls in support of Brent Johnson!Training will be provided.
URL:https://alaskademocrats.org/event/gotv-phone-banking-canvassing-for-brent-johnson/
LOCATION:House District 6 HQ\, 3850 Heath St\, Homer\, AK\, 99603\, United States
CATEGORIES:Candidate Event
END:VEVENT
BEGIN:VEVENT
DTSTART;TZID=America/Anchorage:20241102T110000
DTEND;TZID=America/Anchorage:20241102T130000
DTSTAMP:20260422T144609
CREATED:20241028T200314Z
LAST-MODIFIED:20241028T200314Z
UID:15187-1730545200-1730552400@alaskademocrats.org
SUMMARY:GOTV Door Knocking with Denny Wells
DESCRIPTION:We’re days away from the Nov. 5th Election! Join Denny and an amazing group of volunteers as we head out to talk to friends and neighbors about the upcoming election!Paid for by Denny Wells for Alaska\, PO Box 242261\, Anchorage AK 99524
URL:https://alaskademocrats.org/event/gotv-door-knocking-with-denny-wells-2/
LOCATION:3309 N Shore Dr\, 3309 N Shore Dr\, Anchorage\, AK\, 99502\, United States
CATEGORIES:Candidate Event
END:VEVENT
BEGIN:VEVENT
DTSTART;TZID=America/Anchorage:20241103T100000
DTEND;TZID=America/Anchorage:20241103T190000
DTSTAMP:20260422T144609
CREATED:20241029T224229Z
LAST-MODIFIED:20241029T224229Z
UID:15244-1730628000-1730660400@alaskademocrats.org
SUMMARY:Sunday GOTV in Anchorage!
DESCRIPTION:It’s the final push to Election Day as we work to protect Alaska from our extreme opponent. Take action to re-elect Mary today! Join Team Mary on the three weekends leading up to November 5 to Get Out the Vote in Anchorage!! Canvass launches will be held every weekend at 10am\, 1pm\, and 4pm at our field office. All you need to bring is a fully charged smartphone and some warm clothes!Sign up for a shift here: https://www.mobilize.us/marypeltolaforcongress/event/716477/
URL:https://alaskademocrats.org/event/sunday-gotv-in-anchorage/
LOCATION:Mary Peltola Field Office\, 624 W International Airport Rd\, Anchorage\, AK\, 99518\, United States
CATEGORIES:Candidate Event
ORGANIZER;CN="Alaska Democratic Party":MAILTO:info@anchoragedems.org
END:VEVENT
BEGIN:VEVENT
DTSTART;TZID=America/Anchorage:20241103T100000
DTEND;TZID=America/Anchorage:20241103T190000
DTSTAMP:20260422T144609
CREATED:20241029T224551Z
LAST-MODIFIED:20241029T225640Z
UID:15248-1730628000-1730660400@alaskademocrats.org
SUMMARY:Sunday GOTV in Fairbanks!
DESCRIPTION:It’s the final push to Election Day as we work to protect Fairbanks from our extreme opponent. Take action to re-elect Mary today! Join Team Mary on the three weekends leading up to November 5 to Get Out the Vote in Fairbanks! Canvass launches will be held every weekend at 10am\, 1pm\, and 4pm at our office. All you need to bring is a fully charged smartphone and some warm clothes! Sign up for a shift here: https://www.mobilize.us/marypeltolaforcongress/event/716804/
URL:https://alaskademocrats.org/event/sunday-gotv-in-fairbanks/
LOCATION:Mary Peltola Fairbanks Field Office\, 514 2nd Ave\, Fairbanks\, 99701\, United States
CATEGORIES:Candidate Event
ORGANIZER;CN="Alaska Democratic Party":MAILTO:info@anchoragedems.org
END:VEVENT
BEGIN:VEVENT
DTSTART;TZID=America/Anchorage:20241103T100000
DTEND;TZID=America/Anchorage:20241103T190000
DTSTAMP:20260422T144609
CREATED:20241029T225331Z
LAST-MODIFIED:20241029T225331Z
UID:15259-1730628000-1730660400@alaskademocrats.org
SUMMARY:Sunday GOTV in the Mat-Su!
DESCRIPTION:It’s the final push to Election Day as we work to protect the Mat-Su from our extreme opponent. Take action to re-elect Mary today! Join Team Mary on the three weekends leading up to November 5 to Get Out the Vote in Wasilla!! Wasilla canvass launches will be held every weekend\, Saturday AND Sunday\, at 10am\, 1pm\, and 4pm at our Wasilla office. All you need to bring is a fully charged smartphone and some warm clothes! Sign up for a shift here: https://www.mobilize.us/marypeltolaforcongress/event/716820/
URL:https://alaskademocrats.org/event/sunday-gotv-in-the-mat-su/
LOCATION:Mary Peltola Wasilla Field Office\, 231 E Swanson Ave\, Wasilla\, 99654\, United States
CATEGORIES:Candidate Event
ORGANIZER;CN="Alaska Democratic Party":MAILTO:info@anchoragedems.org
END:VEVENT
BEGIN:VEVENT
DTSTART;TZID=America/Anchorage:20241103T100000
DTEND;TZID=America/Anchorage:20241103T190000
DTSTAMP:20260422T144609
CREATED:20241029T230519Z
LAST-MODIFIED:20241029T230519Z
UID:15272-1730628000-1730660400@alaskademocrats.org
SUMMARY:Sunday GOTV in Juneau!
DESCRIPTION:It’s the final push to Election Day as we work to protect Juneau from our extreme opponent. Take action to re-elect Mary today! This week is your last chance to help Mary Peltola get out the vote in Juneau. Knock on any weekday by meeting up with Keenan. Knock on the weekend for more formal launches at 10 am\, 1 pm\, and 4 pm — and good company! Bring a charged smartphone and warm clothes. Sign up for a shift here: https://www.mobilize.us/marypeltolaforcongress/event/718133/
URL:https://alaskademocrats.org/event/sunday-gotv-in-juneau/
LOCATION:IBEW Hall Juneau\, 813 W 12th St\, Juneau\, AK\, 99801\, United States
CATEGORIES:Candidate Event
ORGANIZER;CN="Alaska Democratic Party":MAILTO:info@anchoragedems.org
END:VEVENT
BEGIN:VEVENT
DTSTART;TZID=America/Anchorage:20241103T120000
DTEND;TZID=America/Anchorage:20241103T150000
DTSTAMP:20260422T144609
CREATED:20241028T211502Z
LAST-MODIFIED:20241028T211502Z
UID:15214-1730635200-1730646000@alaskademocrats.org
SUMMARY:Literature Drop for Ted!
DESCRIPTION:Ted Eischeid’s State House race is one of the most competitive races in Alaska this year – and we need YOUR help to flip this seat! Join us to help drop literature at doors of voters in the district. This is critical work – and we need a big volunteer showing! Ted will kick us off\, we’ll get a quick training\, and then we’ll be off into the neighborhoods of District 22.
URL:https://alaskademocrats.org/event/literature-drop-for-ted/
LOCATION:1423 Atkinson Dr\, Anchorage\, Alaska\, 1423 Atkinson Dr\, Anchorage\, AK\, 99504\, United States
CATEGORIES:Candidate Event
END:VEVENT
BEGIN:VEVENT
DTSTART;TZID=America/Anchorage:20241103T120000
DTEND;TZID=America/Anchorage:20241103T200000
DTSTAMP:20260422T144609
CREATED:20240928T003657Z
LAST-MODIFIED:20240928T003657Z
UID:13601-1730635200-1730664000@alaskademocrats.org
SUMMARY:GOTV Phone Banking & Canvassing for Brent Johnson
DESCRIPTION:Join us at a campaign HQ located at 3850 Heath St to knock on doors and make calls in support of Brent Johnson!Training will be provided.
URL:https://alaskademocrats.org/event/gotv-phone-banking-canvassing-for-brent-johnson-2/
LOCATION:House District 6 HQ\, 3850 Heath St\, Homer\, AK\, 99603\, United States
CATEGORIES:Candidate Event
END:VEVENT
END:VCALENDAR