BEGIN:VCALENDAR
VERSION:2.0
PRODID:-//Alaska Democrats - ECPv6.15.20//NONSGML v1.0//EN
CALSCALE:GREGORIAN
METHOD:PUBLISH
X-WR-CALNAME:Alaska Democrats
X-ORIGINAL-URL:https://alaskademocrats.org
X-WR-CALDESC:Events for Alaska Democrats
REFRESH-INTERVAL;VALUE=DURATION:PT1H
X-Robots-Tag:noindex
X-PUBLISHED-TTL:PT1H
BEGIN:VTIMEZONE
TZID:America/Anchorage
BEGIN:DAYLIGHT
TZOFFSETFROM:-0900
TZOFFSETTO:-0800
TZNAME:AKDT
DTSTART:20240310T110000
END:DAYLIGHT
BEGIN:STANDARD
TZOFFSETFROM:-0800
TZOFFSETTO:-0900
TZNAME:AKST
DTSTART:20241103T100000
END:STANDARD
BEGIN:DAYLIGHT
TZOFFSETFROM:-0900
TZOFFSETTO:-0800
TZNAME:AKDT
DTSTART:20250309T110000
END:DAYLIGHT
BEGIN:STANDARD
TZOFFSETFROM:-0800
TZOFFSETTO:-0900
TZNAME:AKST
DTSTART:20251102T100000
END:STANDARD
BEGIN:DAYLIGHT
TZOFFSETFROM:-0900
TZOFFSETTO:-0800
TZNAME:AKDT
DTSTART:20260308T110000
END:DAYLIGHT
BEGIN:STANDARD
TZOFFSETFROM:-0800
TZOFFSETTO:-0900
TZNAME:AKST
DTSTART:20261101T100000
END:STANDARD
BEGIN:DAYLIGHT
TZOFFSETFROM:-0900
TZOFFSETTO:-0800
TZNAME:AKDT
DTSTART:20270314T110000
END:DAYLIGHT
BEGIN:STANDARD
TZOFFSETFROM:-0800
TZOFFSETTO:-0900
TZNAME:AKST
DTSTART:20271107T100000
END:STANDARD
END:VTIMEZONE
BEGIN:VEVENT
DTSTART;TZID=America/Anchorage:20260105T180000
DTEND;TZID=America/Anchorage:20260105T190000
DTSTAMP:20260419T042914
CREATED:20251230T163548Z
LAST-MODIFIED:20260102T185319Z
UID:22132-1767636000-1767639600@alaskademocrats.org
SUMMARY:Tom Begich Campaign Event
DESCRIPTION:
URL:https://alaskademocrats.org/event/tom-begich-campaign-event/
LOCATION:Noel Wien Public Library\, 1215 Cowles St\, Fairbanks\, AK\, 99701\, United States
CATEGORIES:Event
END:VEVENT
BEGIN:VEVENT
DTSTART;TZID=America/Anchorage:20260104T130000
DTEND;TZID=America/Anchorage:20260104T140000
DTSTAMP:20260419T042914
CREATED:20251219T153621Z
LAST-MODIFIED:20251219T153621Z
UID:22079-1767531600-1767535200@alaskademocrats.org
SUMMARY:Gulf Coast Democrats' Fundraising Committee Meeting
DESCRIPTION:This meeting is for the Fundraising Committee and will be hosted over zoom.Meeting ID: 853 9012 4095 Passcode: 910595
URL:https://alaskademocrats.org/event/gulf-coast-democrats-fundraising-committee-meeting/
LOCATION:AK
CATEGORIES:Event
END:VEVENT
BEGIN:VEVENT
DTSTART;TZID=America/Anchorage:20260103T150000
DTEND;TZID=America/Anchorage:20260103T170000
DTSTAMP:20260419T042914
CREATED:20251210T181842Z
LAST-MODIFIED:20251215T180833Z
UID:22016-1767452400-1767459600@alaskademocrats.org
SUMMARY:Anchorage Democrats Fundraiser
DESCRIPTION:
URL:https://alaskademocrats.org/event/anchorage-democrats-fundraiser/
LOCATION:AK
CATEGORIES:Event
END:VEVENT
BEGIN:VEVENT
DTSTART;TZID=America/Anchorage:20251222T173000
DTEND;TZID=America/Anchorage:20251222T183000
DTSTAMP:20260419T042914
CREATED:20251106T005730Z
LAST-MODIFIED:20251106T005730Z
UID:21588-1766424600-1766428200@alaskademocrats.org
SUMMARY:Anchorage Democrats Monthly Meeting
DESCRIPTION:Join the Anchorage Democrats for the monthly business meeting via Zoom. Join Zoom Meeting:https://us02web.zoom.us/j/89917334100?pwd=KNBzaihJeIyNoxvYV8MhL481N6yab8.1 Meeting ID: 899 1733 4100Passcode: 263386
URL:https://alaskademocrats.org/event/anchorage-democrats-monthly-meeting-15/
LOCATION:AK
CATEGORIES:Event
ORGANIZER;CN="Anchorage Democrats":MAILTO:info@anchoragedems.org
END:VEVENT
BEGIN:VEVENT
DTSTART;TZID=America/Anchorage:20251213T180000
DTEND;TZID=America/Anchorage:20251213T200000
DTSTAMP:20260419T042914
CREATED:20251210T181435Z
LAST-MODIFIED:20251210T181435Z
UID:22013-1765648800-1765656000@alaskademocrats.org
SUMMARY:Winter Meet & Greet and Fundraiser with Tom Begich
DESCRIPTION:
URL:https://alaskademocrats.org/event/winter-meet-greet-and-fundraiser-with-tom-begich/
LOCATION:Black Spruce Brewing Company\, 3290 Peger Rd STE B\, Fairbanks\, AK\, 99709\, United States
END:VEVENT
BEGIN:VEVENT
DTSTART;TZID=America/Anchorage:20251213T100000
DTEND;TZID=America/Anchorage:20251213T113000
DTSTAMP:20260419T042914
CREATED:20251210T181217Z
LAST-MODIFIED:20251210T181217Z
UID:22010-1765620000-1765625400@alaskademocrats.org
SUMMARY:Community Conversations with Tom Begich
DESCRIPTION:
URL:https://alaskademocrats.org/event/community-conversations-with-tom-begich/
LOCATION:Noel Wien Public Library\, 1215 Cowles St\, Fairbanks\, AK\, 99701\, United States
END:VEVENT
BEGIN:VEVENT
DTSTART;TZID=America/Anchorage:20251210T183000
DTEND;TZID=America/Anchorage:20251210T203000
DTSTAMP:20260419T042914
CREATED:20251210T180922Z
LAST-MODIFIED:20251215T180808Z
UID:22006-1765391400-1765398600@alaskademocrats.org
SUMMARY:Lisa Keller Campaign Kickoff
DESCRIPTION:
URL:https://alaskademocrats.org/event/lisa-keller-campaign-kickoff/
LOCATION:Chugach Chocolates\, 700 W 59th Ave A\, Anchorage\, AK\, 99518\, United States
CATEGORIES:Event
END:VEVENT
BEGIN:VEVENT
DTSTART;TZID=America/Anchorage:20251208T173000
DTEND;TZID=America/Anchorage:20251208T190000
DTSTAMP:20260419T042914
CREATED:20251124T034058Z
LAST-MODIFIED:20251127T140218Z
UID:21904-1765215000-1765220400@alaskademocrats.org
SUMMARY:Ky Holland Campaign Fundraiser
DESCRIPTION:Come join us at Linda & Thom Janidlo’s home as we fundraise for Ky Holland’s House campaign.
URL:https://alaskademocrats.org/event/ky-holland-campaign-fundraiser/
LOCATION:Linda & Thom Janidlo’s home\, 14000 Pickett St\, Anchorage\, AK\, 99561\, United States
CATEGORIES:Event
ATTACH;FMTTYPE=image/jpeg:https://alaskademocrats.org/wp-content/uploads/2025/11/1176_KH_FR-graphic-1208_Nov25_v1-2-scaled.jpg
END:VEVENT
BEGIN:VEVENT
DTSTART;TZID=America/Anchorage:20251204T180000
DTEND;TZID=America/Anchorage:20251204T210000
DTSTAMP:20260419T042914
CREATED:20250917T183917Z
LAST-MODIFIED:20250917T184004Z
UID:20050-1764871200-1764882000@alaskademocrats.org
SUMMARY:Alaska Democrats Annual Holiday Auction
DESCRIPTION:Join us for an evening of celebration at our annual Holiday Auction! This year’s theme is “A Starry Night”! Details on speakers and auction items coming soon.Get your tickets here: https://secure.actblue.com/donate/adp2025auctionShare the Facebook event here: https://www.facebook.com/share/1Ch2JJusnX/Funds raised will support the Alaska Democratic Party’s activities to elect Democrats up and down the ticket through training\, digital\, mail\, and other efforts in 2026.
URL:https://alaskademocrats.org/event/alaska-democrats-annual-holiday-auction/
LOCATION:Alaska Native Heritage Center\, 8800 Heritage Center Drive\, Anchorage\, 99504\, United States
CATEGORIES:Event
ATTACH;FMTTYPE=image/png:https://alaskademocrats.org/wp-content/uploads/2025/09/20251204_ADP_HolidayAuction.png
ORGANIZER;CN="Alaska Democratic Party":MAILTO:info@anchoragedems.org
END:VEVENT
BEGIN:VEVENT
DTSTART;TZID=America/Anchorage:20251204T170000
DTEND;TZID=America/Anchorage:20251204T183000
DTSTAMP:20260419T042914
CREATED:20251015T195434Z
LAST-MODIFIED:20251015T195434Z
UID:20787-1764867600-1764873000@alaskademocrats.org
SUMMARY:Tongass Democrats Monthly Meeting
DESCRIPTION:Join the Tongass Democrats for their business meeting!
URL:https://alaskademocrats.org/event/tongass-democrats-monthly-meeting-10/
LOCATION:International Brotherhood of Electrical Workers\, 813 W 12th St\, Juneau\, AK\, 99801\, United States
CATEGORIES:Event
ORGANIZER;CN="Tongass Democrats":MAILTO:tongassdemocrats@gmail.com
END:VEVENT
BEGIN:VEVENT
DTSTART;TZID=America/Anchorage:20251203T170000
DTEND;TZID=America/Anchorage:20251203T190000
DTSTAMP:20260419T042914
CREATED:20251117T144526Z
LAST-MODIFIED:20251117T144526Z
UID:21791-1764781200-1764788400@alaskademocrats.org
SUMMARY:Calvin Schrage Re-Election Kickoff Fundraiser
DESCRIPTION:
URL:https://alaskademocrats.org/event/calvin-schrage-re-election-kickoff-fundraiser/
LOCATION:AK
END:VEVENT
BEGIN:VEVENT
DTSTART;TZID=America/Anchorage:20251202T173000
DTEND;TZID=America/Anchorage:20251202T190000
DTSTAMP:20260419T042914
CREATED:20250917T183330Z
LAST-MODIFIED:20250917T183330Z
UID:20044-1764696600-1764702000@alaskademocrats.org
SUMMARY:Reelection Fundraiser for Elvi Gray-Jackson
DESCRIPTION:Join Elvi Gray-Jackson for a reelection fundraiser with good food and good conversation!
URL:https://alaskademocrats.org/event/reelection-fundraiser-for-elvi-gray-jackson/
LOCATION:Kinley’s Restaurant & Bar\, 3230 Seward Hwy\, Anchorage\, AK\, 99503\, United States
CATEGORIES:Event
END:VEVENT
BEGIN:VEVENT
DTSTART;TZID=America/Anchorage:20251202T170000
DTEND;TZID=America/Anchorage:20251202T190000
DTSTAMP:20260419T042914
CREATED:20251124T033342Z
LAST-MODIFIED:20251124T033744Z
UID:21899-1764694800-1764702000@alaskademocrats.org
SUMMARY:Matt Claman Campaign Kickoff
DESCRIPTION:
URL:https://alaskademocrats.org/event/matt-claman-campaign-kickoff/
LOCATION:144 E Potter Dr\, 144 E Potter Dr\, Anchorage\, AK\, 99518\, United States
CATEGORIES:Event
END:VEVENT
BEGIN:VEVENT
DTSTART;TZID=America/Anchorage:20251124T173000
DTEND;TZID=America/Anchorage:20251124T183000
DTSTAMP:20260419T042914
CREATED:20250911T030742Z
LAST-MODIFIED:20250911T030742Z
UID:20024-1764005400-1764009000@alaskademocrats.org
SUMMARY:Anchorage Democrats Monthly Meeting
DESCRIPTION:Join the Anchorage Democrats for the monthly business meeting via Zoom. Join Zoom Meeting:https://us02web.zoom.us/j/89917334100?pwd=KNBzaihJeIyNoxvYV8MhL481N6yab8.1Meeting ID: 899 1733 4100Passcode: 263386
URL:https://alaskademocrats.org/event/anchorage-democrats-monthly-meeting-13/
LOCATION:AK
CATEGORIES:Event
ORGANIZER;CN="Anchorage Democrats":MAILTO:info@anchoragedems.org
END:VEVENT
BEGIN:VEVENT
DTSTART;TZID=America/Anchorage:20251117T173000
DTEND;TZID=America/Anchorage:20251117T190000
DTSTAMP:20260419T042914
CREATED:20251106T004323Z
LAST-MODIFIED:20251106T012130Z
UID:21581-1763400600-1763406000@alaskademocrats.org
SUMMARY:Maxine Dibert Fairbanks Fundraiser
DESCRIPTION:Join us in fundraising efforts for Maxine Dibert’s campaign in Fairbanks! With the threat of special sessions looming over all our current representatives\, fundraising may be impossible during the election year.
URL:https://alaskademocrats.org/event/maxine-dibert-fairbanks-fundraiser/
LOCATION:Lavelle’s Taphouse\, 412 2nd Ave\, Fairbanks\, AK\, 99701\, United States
CATEGORIES:Candidate Event,Event
ATTACH;FMTTYPE=image/png:https://alaskademocrats.org/wp-content/uploads/2025/11/1160_MD_Fairbanks-FR-1111_Oct25-copy-1-1.png
END:VEVENT
BEGIN:VEVENT
DTSTART;TZID=America/Anchorage:20251116T130000
DTEND;TZID=America/Anchorage:20251116T143000
DTSTAMP:20260419T042914
CREATED:20251106T003928Z
LAST-MODIFIED:20251106T004600Z
UID:21577-1763298000-1763303400@alaskademocrats.org
SUMMARY:Kathy Simpler Fundraiser
DESCRIPTION:Join us in supporting Kathy Simpler in her run for the House District 5.
URL:https://alaskademocrats.org/event/kathy-simpler-fundraiser/
LOCATION:2227 Douglas Dr\, Anchorage AK 99517\, 2227 Douglas Dr\, Anchorage\, AK\, 99517\, United States
CATEGORIES:Candidate Event,Event
END:VEVENT
BEGIN:VEVENT
DTSTART;TZID=America/Anchorage:20251109T170000
DTEND;TZID=America/Anchorage:20251109T180000
DTSTAMP:20260419T042914
CREATED:20251015T194807Z
LAST-MODIFIED:20251015T194807Z
UID:20779-1762707600-1762711200@alaskademocrats.org
SUMMARY:Tongass Democrats 2025 Bartlett-Gruening Dinner
DESCRIPTION:Join the Tongass Democrats for their annual Bartlett-Gruening Dinner with special guest\, DNC Vice Chair & WashingtonState Democratic Party Chair\, Shasti Conrad! Gubernatorial candidate\, Tom Begich\, will be giving remarks. Assemblywoman Ella Adkison is the Mistress of Ceremonies\, and Sen. Jess Kiehl is the auctioneer. Tickets available online at: secure.actblue.com/donate/2025bgdinner
URL:https://alaskademocrats.org/event/tongass-democrats-2025-bartlett-gruening-dinner/
LOCATION:Ramada by Wyndham\, 375 Whittier Street\, Juneau\, AK\, 99801\, United States
CATEGORIES:Event
ATTACH;FMTTYPE=application/pdf:https://alaskademocrats.org/wp-content/uploads/2025/10/20251109_TongassDemocrats_BartlettGruening.pdf
ORGANIZER;CN="Tongass Democrats":MAILTO:tongassdemocrats@gmail.com
END:VEVENT
BEGIN:VEVENT
DTSTART;TZID=America/Anchorage:20251106T170000
DTEND;TZID=America/Anchorage:20251106T183000
DTSTAMP:20260419T042914
CREATED:20251015T195316Z
LAST-MODIFIED:20251015T195316Z
UID:20784-1762448400-1762453800@alaskademocrats.org
SUMMARY:Tongass Democrats Monthly Meeting
DESCRIPTION:Join the Tongass Democrats for their business meeting!
URL:https://alaskademocrats.org/event/tongass-democrats-monthly-meeting-9/
LOCATION:International Brotherhood of Electrical Workers\, 813 W 12th St\, Juneau\, AK\, 99801\, United States
CATEGORIES:Event
ORGANIZER;CN="Tongass Democrats":MAILTO:tongassdemocrats@gmail.com
END:VEVENT
BEGIN:VEVENT
DTSTART;TZID=America/Anchorage:20251104T173000
DTEND;TZID=America/Anchorage:20251104T190000
DTSTAMP:20260419T042914
CREATED:20251003T025259Z
LAST-MODIFIED:20251003T025259Z
UID:20635-1762277400-1762282800@alaskademocrats.org
SUMMARY:Gustavus Town Hall with Sen. Jesse Kiehl and Rep. Andi Story
DESCRIPTION:Join Sen. Jesse Kiehl and Rep. Andi Story for a Town Hall at the Gustavus Public Library! Get a legislative update\, ask questions\, and share your concerns & solutions.
URL:https://alaskademocrats.org/event/gustavus-town-hall-with-sen-jesse-kiehl-and-rep-andi-story/
LOCATION:Gustavus Public Library\, 14 Gustavus Rd\, Gustavus\, AK\, 99826\, United States
CATEGORIES:Event
ATTACH;FMTTYPE=image/png:https://alaskademocrats.org/wp-content/uploads/2025/10/Screenshot-2025-10-02-at-75217-PM.png
ORGANIZER;CN="Alaska Democratic Party":MAILTO:info@anchoragedems.org
END:VEVENT
BEGIN:VEVENT
DTSTART;TZID=America/Anchorage:20251104T090000
DTEND;TZID=America/Anchorage:20251104T110000
DTSTAMP:20260419T042914
CREATED:20251003T025740Z
LAST-MODIFIED:20251003T025740Z
UID:20640-1762246800-1762254000@alaskademocrats.org
SUMMARY:Gustavus Town Hall with Sen. Jesse Kiehl and Rep. Andi Story
DESCRIPTION:Come talk with Sen. Jesse Kiehl and Rep. Andi Story during office hours at the Fireweed Gallery! They’re eager to answer your questions\, listen\, learn\, and discuss the issues.
URL:https://alaskademocrats.org/event/gustavus-town-hall-with-sen-jesse-kiehl-and-rep-andi-story-2/
LOCATION:Fireweed Gallery\, Coffee\, and Tea House\, 250 Gustavus Rd\, Gustavus\, 99826\, United States
CATEGORIES:Event
ORGANIZER;CN="Alaska Democratic Party":MAILTO:info@anchoragedems.org
END:VEVENT
BEGIN:VEVENT
DTSTART;TZID=America/Anchorage:20251101T100000
DTEND;TZID=America/Anchorage:20251101T120000
DTSTAMP:20260419T042914
CREATED:20250717T163113Z
LAST-MODIFIED:20250717T163113Z
UID:19316-1761991200-1761998400@alaskademocrats.org
SUMMARY:Mat-Su Democrats Monthly Meeting
DESCRIPTION:Join the Mat-Su Democrats for their monthly meeting to learn how you can get more involved. You don’t have to be a Democrat or live in the Mat-Su! Folks from across Alaska can join us by Zoom.This month will be a hybrid meeting.If you would like to join by Zoom\, join here.
URL:https://alaskademocrats.org/event/mat-su-democrats-monthly-meeting-4/
LOCATION:The Meeting House\, 415 S Bailey St\, Palmer\, AK\, 99645\, United States
CATEGORIES:Event
END:VEVENT
BEGIN:VEVENT
DTSTART;TZID=America/Anchorage:20251029T063000
DTEND;TZID=America/Anchorage:20251029T193000
DTSTAMP:20260419T042914
CREATED:20250717T162951Z
LAST-MODIFIED:20250717T162951Z
UID:19314-1761719400-1761766200@alaskademocrats.org
SUMMARY:Interior Democrats Monthly Meeting
DESCRIPTION:Join the Interior Democrats for their monthly meeting to learn how you can get more involved! Join in person or via Zoom. Email interiordems@gmail.com for the Zoom link.
URL:https://alaskademocrats.org/event/interior-democrats-monthly-meeting-20/
LOCATION:IBEW Fairbanks\, 2000 Airport Way\, Fairbanks\, AK\, 99701\, United States
CATEGORIES:Event
ORGANIZER;CN="Interior Democrats":MAILTO:interiordems@gmail.com
END:VEVENT
BEGIN:VEVENT
DTSTART;TZID=America/Anchorage:20251027T173000
DTEND;TZID=America/Anchorage:20251027T183000
DTSTAMP:20260419T042914
CREATED:20250911T030611Z
LAST-MODIFIED:20250911T030611Z
UID:20022-1761586200-1761589800@alaskademocrats.org
SUMMARY:Anchorage Democrats Monthly Meeting
DESCRIPTION:Join the Anchorage Democrats for the monthly business meeting via Zoom. Join Zoom Meeting:https://us02web.zoom.us/j/89917334100?pwd=KNBzaihJeIyNoxvYV8MhL481N6yab8.1Meeting ID: 899 1733 4100Passcode: 263386
URL:https://alaskademocrats.org/event/anchorage-democrats-monthly-meeting-21/
LOCATION:AK
CATEGORIES:Event
ORGANIZER;CN="Anchorage Democrats":MAILTO:info@anchoragedems.org
END:VEVENT
BEGIN:VEVENT
DTSTART;TZID=America/Anchorage:20251023T173000
DTEND;TZID=America/Anchorage:20251023T190000
DTSTAMP:20260419T042914
CREATED:20250917T183110Z
LAST-MODIFIED:20250917T183110Z
UID:20039-1761240600-1761246000@alaskademocrats.org
SUMMARY:Alaska Dems Fundraiser with Tom Begich for Governor
DESCRIPTION:Join us to hear Tom’s vision for Alaska\, and share your ideas to build a better Alaska! Hosted by Alaska Democratic Party Chair Eric Croft. If you’re interested in being a co-host\, please email: deputycm@tombegichforalaska.comIf you can’t attend\, but would like to contribute\, you can donate here: https://secure.actblue.com/donate/adptombegich
URL:https://alaskademocrats.org/event/alaska-dems-fundraiser-with-tom-begich-for-governor/
LOCATION:Home of Eric and Joanna Croft\, 1563 G St\, Anchorage\, AK\, 99501\, United States
CATEGORIES:Event
ATTACH;FMTTYPE=image/jpeg:https://alaskademocrats.org/wp-content/uploads/2025/09/20251023_TomBegich.jpg
END:VEVENT
BEGIN:VEVENT
DTSTART;TZID=America/Anchorage:20251016T173000
DTEND;TZID=America/Anchorage:20251016T190000
DTSTAMP:20260419T042914
CREATED:20250911T025502Z
LAST-MODIFIED:20250911T025502Z
UID:20010-1760635800-1760641200@alaskademocrats.org
SUMMARY:Fundraiser for Cliff Groh
DESCRIPTION:Join us for a campaign fundraiser to elect Cliff Groh to the state house hosted by Hal and Barbara Gazaway.Cliff is running for the Alaska State House so he can stand up for education funding\, working families\, and a stable PFD. Early resources will help Cliff prepare for a tough race in 2026. You can help Cliff fight for a better Alaska by chipping in: https://secure.anedot.com/cliffgroh/oct-fundraiser
URL:https://alaskademocrats.org/event/fundraiser-for-cliff-groh/
LOCATION:8620 Boundary Ave\, 8620 Boundary Ave\, Anchorage\, AK\, 99504\, United States
ATTACH;FMTTYPE=image/jpeg:https://alaskademocrats.org/wp-content/uploads/2025/09/20251016_CliffGroh.jpg
END:VEVENT
BEGIN:VEVENT
DTSTART;TZID=America/Anchorage:20251016T080000
DTEND;TZID=America/Anchorage:20251018T150000
DTSTAMP:20260419T042914
CREATED:20251003T024828Z
LAST-MODIFIED:20251003T025438Z
UID:20632-1760601600-1760799600@alaskademocrats.org
SUMMARY:Alaska Democrats Tabling at the 2025 Annual AFN Convention
DESCRIPTION:The Alaska Democratic Party is so excited to share we’ll have a table the the 2025 Annual Alaska Federation of Natives Convention. Stop by our table to say hello and learn more about our efforts.
URL:https://alaskademocrats.org/event/alaska-democrats-tabling-at-the-2025-annual-afn-convention/
LOCATION:Dena’ina Civic and Convention Center\, 600 W 7th Ave\, Anchorage\, AK\, 99501\, United States
CATEGORIES:Event
ORGANIZER;CN="Alaska Democratic Party":MAILTO:info@anchoragedems.org
END:VEVENT
BEGIN:VEVENT
DTSTART;TZID=America/Anchorage:20251013T110000
DTEND;TZID=America/Anchorage:20251013T130000
DTSTAMP:20260419T042914
CREATED:20251003T031718Z
LAST-MODIFIED:20251003T031718Z
UID:20657-1760353200-1760360400@alaskademocrats.org
SUMMARY:Skagway Town Hall with Sen. Jesse Kiehl and Rep. Andi Story
DESCRIPTION:Come talk with Sen. Jesse Kiehl and Rep. Andi Story during office hours at the Skagway Public Library! They’re eager to answer your questions\, listen\, learn\, and discuss the issues.
URL:https://alaskademocrats.org/event/skagway-town-hall-with-sen-jesse-kiehl-and-rep-andi-story-2/
LOCATION:Skagway Public Library\, 703 State St\, Skagwa\, 99840\, United States
END:VEVENT
BEGIN:VEVENT
DTSTART;TZID=America/Anchorage:20251012T170000
DTEND;TZID=America/Anchorage:20251012T183000
DTSTAMP:20260419T042914
CREATED:20251003T031030Z
LAST-MODIFIED:20251003T031104Z
UID:20653-1760288400-1760293800@alaskademocrats.org
SUMMARY:Skagway Town Hall with Sen. Jesse Kiehl and Rep. Andi Story
DESCRIPTION:Join Sen. Jesse Kiehl and Rep. Andi Story for a Town Hall at the AB Hall! Get a legislative update\, ask questions\, and share your concerns & solutions.
URL:https://alaskademocrats.org/event/skagway-town-hall-with-sen-jesse-kiehl-and-rep-andi-story/
LOCATION:Arctic Brotherhood Hall\, 271 Broadway\, Skagway\, AK\, 99840\, United States
ATTACH;FMTTYPE=image/png:https://alaskademocrats.org/wp-content/uploads/2025/10/Screenshot-2025-10-02-at-80937-PM.png
END:VEVENT
BEGIN:VEVENT
DTSTART;TZID=America/Anchorage:20251011T100000
DTEND;TZID=America/Anchorage:20251011T120000
DTSTAMP:20260419T042914
CREATED:20251003T030647Z
LAST-MODIFIED:20251003T030647Z
UID:20649-1760176800-1760184000@alaskademocrats.org
SUMMARY:Klukwan Town Hall with Sen. Jesse Kiehl and Rep. Andi Story
DESCRIPTION:Join Sen. Jesse Kiehl and Rep. Andi Story for a Town Hall at the Jilkaat Kwaan Heritage Center! Get a legislative update\, ask questions\, and share your concerns & solutions.
URL:https://alaskademocrats.org/event/klukwan-town-hall-with-sen-jesse-kiehl-and-rep-andi-story/
LOCATION:Jilkaat Kwaan Heritage Center\, Chilkat Ave\, Haines\, AK\, 99827\, United States
ATTACH;FMTTYPE=image/png:https://alaskademocrats.org/wp-content/uploads/2025/10/Screenshot-2025-10-02-at-80600-PM.png
END:VEVENT
BEGIN:VEVENT
DTSTART;TZID=America/Anchorage:20251010T190000
DTEND;TZID=America/Anchorage:20251010T200000
DTSTAMP:20260419T042914
CREATED:20251003T030308Z
LAST-MODIFIED:20251003T030308Z
UID:20647-1760122800-1760126400@alaskademocrats.org
SUMMARY:Haines Town Hall with Sen. Jesse Kiehl and Rep. Andi Story
DESCRIPTION:Come talk with Sen. Jesse Kiehl and Rep. Andi Story during office hours at the American Legion! They’re eager to answer your questions\, listen\, learn\, and discuss the issues.
URL:https://alaskademocrats.org/event/haines-town-hall-with-sen-jesse-kiehl-and-rep-andi-story-2/
LOCATION:Haines Borough Public Library\, 111 3rd Ave\, Haines\, AK\, 99827\, United States
ATTACH;FMTTYPE=image/png:https://alaskademocrats.org/wp-content/uploads/2025/10/Screenshot-2025-10-02-at-80014-PM.png
END:VEVENT
END:VCALENDAR