BEGIN:VCALENDAR
VERSION:2.0
PRODID:-//Alaska Democrats - ECPv6.15.20//NONSGML v1.0//EN
CALSCALE:GREGORIAN
METHOD:PUBLISH
X-WR-CALNAME:Alaska Democrats
X-ORIGINAL-URL:https://alaskademocrats.org
X-WR-CALDESC:Events for Alaska Democrats
REFRESH-INTERVAL;VALUE=DURATION:PT1H
X-Robots-Tag:noindex
X-PUBLISHED-TTL:PT1H
BEGIN:VTIMEZONE
TZID:America/Anchorage
BEGIN:DAYLIGHT
TZOFFSETFROM:-0900
TZOFFSETTO:-0800
TZNAME:AKDT
DTSTART:20230312T110000
END:DAYLIGHT
BEGIN:STANDARD
TZOFFSETFROM:-0800
TZOFFSETTO:-0900
TZNAME:AKST
DTSTART:20231105T100000
END:STANDARD
BEGIN:DAYLIGHT
TZOFFSETFROM:-0900
TZOFFSETTO:-0800
TZNAME:AKDT
DTSTART:20240310T110000
END:DAYLIGHT
BEGIN:STANDARD
TZOFFSETFROM:-0800
TZOFFSETTO:-0900
TZNAME:AKST
DTSTART:20241103T100000
END:STANDARD
BEGIN:DAYLIGHT
TZOFFSETFROM:-0900
TZOFFSETTO:-0800
TZNAME:AKDT
DTSTART:20250309T110000
END:DAYLIGHT
BEGIN:STANDARD
TZOFFSETFROM:-0800
TZOFFSETTO:-0900
TZNAME:AKST
DTSTART:20251102T100000
END:STANDARD
END:VTIMEZONE
BEGIN:VEVENT
DTSTART;TZID=America/Anchorage:20240327T160000
DTEND;TZID=America/Anchorage:20240327T180000
DTSTAMP:20260421T205614
CREATED:20231017T013545Z
LAST-MODIFIED:20231017T013545Z
UID:5992-1711555200-1711562400@alaskademocrats.org
SUMMARY:Interior Democrats Monthly Meeting
DESCRIPTION:Join the Interior Democrats for our monthly meeting!The Interior Democrats are currently meeting online. Monthly Business Meetings: This meeting is an update on committee work\, upcoming events\, finances and the business matters of the organization.
URL:https://alaskademocrats.org/event/interior-democrats-monthly-meeting-12/
LOCATION:Zoom
CATEGORIES:Monthly Meeting
ORGANIZER;CN="Interior Democrats":MAILTO:interiordems@gmail.com
END:VEVENT
BEGIN:VEVENT
DTSTART;TZID=America/Anchorage:20240404T150000
DTEND;TZID=America/Anchorage:20240404T170000
DTSTAMP:20260421T205614
CREATED:20240110T201604Z
LAST-MODIFIED:20240110T201604Z
UID:6294-1712242800-1712250000@alaskademocrats.org
SUMMARY:Tongass Democrats Monthly Meeting
DESCRIPTION:Join the Tongass Democrats for their monthly meeting! Join in person or over Zoom.\n\nPlease email  tongassdemocrats@gmail.com in advance for Zoom information.
URL:https://alaskademocrats.org/event/tongass-democrats-monthly-meeting-4/
LOCATION:Zoom
CATEGORIES:Monthly Meeting
ORGANIZER;CN="Tongass Democrats":MAILTO:tongassdemocrats@gmail.com
END:VEVENT
BEGIN:VEVENT
DTSTART;TZID=America/Anchorage:20240411T153000
DTEND;TZID=America/Anchorage:20240411T161500
DTSTAMP:20260421T205614
CREATED:20230914T021614Z
LAST-MODIFIED:20230914T021614Z
UID:5808-1712849400-1712852100@alaskademocrats.org
SUMMARY:Constituent Zoom With Representative Andrew Gray
DESCRIPTION:Catch up with Representative Gray every second Thursday over Zoom! Join us on Zoom here:https://repgray.us8.list-manage.com/track/click?u=346f0a550cd7ce7271224c6c0&id=f2c11c687f&e=4a927fd3c2
URL:https://alaskademocrats.org/event/constituent-zoom-with-representative-andrew-gray-8/
LOCATION:Zoom
CATEGORIES:Monthly Meeting
END:VEVENT
BEGIN:VEVENT
DTSTART;TZID=America/Anchorage:20240412T100000
DTEND;TZID=America/Anchorage:20240412T113000
DTSTAMP:20260421T205614
CREATED:20231017T014703Z
LAST-MODIFIED:20231017T014703Z
UID:6008-1712916000-1712921400@alaskademocrats.org
SUMMARY:Interior Democrats Fahrenkamp Lunch
DESCRIPTION:In honor of Sen. Bettye Fahrenkamp\, join us for a monthly lunch with a community speaker. Every 2nd Friday @ Noon on Zoom Join via Zoom at this link.Learn more on the Interior Democrats FaceBook Page.
URL:https://alaskademocrats.org/event/interior-democrats-fahrenkamp-lunch-15/
LOCATION:Zoom
CATEGORIES:Monthly Meeting
ORGANIZER;CN="Interior Democrats":MAILTO:interiordems@gmail.com
END:VEVENT
BEGIN:VEVENT
DTSTART;TZID=America/Anchorage:20240424T160000
DTEND;TZID=America/Anchorage:20240424T180000
DTSTAMP:20260421T205614
CREATED:20231017T013641Z
LAST-MODIFIED:20231017T013641Z
UID:5995-1713974400-1713981600@alaskademocrats.org
SUMMARY:Interior Democrats Monthly Meeting
DESCRIPTION:Join the Interior Democrats for our monthly meeting!The Interior Democrats are currently meeting online. Monthly Business Meetings: This meeting is an update on committee work\, upcoming events\, finances and the business matters of the organization.
URL:https://alaskademocrats.org/event/interior-democrats-monthly-meeting-13/
LOCATION:Zoom
CATEGORIES:Monthly Meeting
ORGANIZER;CN="Interior Democrats":MAILTO:interiordems@gmail.com
END:VEVENT
BEGIN:VEVENT
DTSTART;TZID=America/Anchorage:20240425T153000
DTEND;TZID=America/Anchorage:20240425T170000
DTSTAMP:20260421T205614
CREATED:20240418T231907Z
LAST-MODIFIED:20240418T231907Z
UID:6963-1714059000-1714064400@alaskademocrats.org
SUMMARY:Future Legislative Leaders Fundraiser: Joint Fundraiser for Denny Wells and Carolyn Hall
DESCRIPTION:Come enjoy the sunshine as the snow finally melts\, and help Denny and Carolyn bring their message of positive change to Juneau! 🤝 Event Details: 📅 Date: Thursday\, April 25th 🕕 Time: 5:30 to 7:00 pm🏡 Location: Home of Scott Kendall and Selena Hopkins Kendall 7382 Tarsus Dr https://fb.me/e/5cPgD4RiP[pdf-embedder url=”https://alaskademocrats.org/wp-content/uploads/2024/04/Copy-of-WellsHallFundraiser-Amber-Lee.pdf” title=”Wells Hall Fundraiser Flyer”]
URL:https://alaskademocrats.org/event/future-legislative-leaders-fundraiser-joint-fundraiser-for-denny-wells-and-carolyn-hall/
LOCATION:Home of Scott Kendall and Selena Hopkins Kendall\, 7382 Tarsus Dr\, Anchorage\, AK\, 99502\, United States
CATEGORIES:Candidate Event
END:VEVENT
BEGIN:VEVENT
DTSTART;TZID=America/Anchorage:20240509T153000
DTEND;TZID=America/Anchorage:20240509T161500
DTSTAMP:20260421T205614
CREATED:20230914T021714Z
LAST-MODIFIED:20230914T021714Z
UID:5810-1715268600-1715271300@alaskademocrats.org
SUMMARY:Constituent Zoom With Representative Andrew Gray
DESCRIPTION:Catch up with Representative Gray every second Thursday over Zoom! Join us on Zoom here:https://repgray.us8.list-manage.com/track/click?u=346f0a550cd7ce7271224c6c0&id=f2c11c687f&e=4a927fd3c2
URL:https://alaskademocrats.org/event/constituent-zoom-with-representative-andrew-gray-9/
LOCATION:Zoom
CATEGORIES:Monthly Meeting
END:VEVENT
BEGIN:VEVENT
DTSTART;TZID=America/Anchorage:20240510T100000
DTEND;TZID=America/Anchorage:20240510T163000
DTSTAMP:20260421T205614
CREATED:20231017T015750Z
LAST-MODIFIED:20231017T015750Z
UID:6010-1715335200-1715358600@alaskademocrats.org
SUMMARY:Interior Democrats Fahrenkamp Lunch
DESCRIPTION:In honor of Sen. Bettye Fahrenkamp\, join us for a monthly lunch with a community speaker. Every 2nd Friday @ Noon on Zoom Join via Zoom at this link.Learn more on the Interior Democrats FaceBook Page.
URL:https://alaskademocrats.org/event/interior-democrats-fahrenkamp-lunch-16/
LOCATION:Zoom
ORGANIZER;CN="Interior Democrats":MAILTO:interiordems@gmail.com
END:VEVENT
BEGIN:VEVENT
DTSTART;TZID=America/Anchorage:20240518T060000
DTEND;TZID=America/Anchorage:20240518T150000
DTSTAMP:20260421T205614
CREATED:20231017T025149Z
LAST-MODIFIED:20240111T214735Z
UID:6020-1716012000-1716044400@alaskademocrats.org
SUMMARY:Alaska Democratic Party State Convention
DESCRIPTION:State delegates elect 17 delegates/alternates and three (3) electors to the Democratic National Convention.More details to be shared soon.
URL:https://alaskademocrats.org/event/alaska-democratic-party-state-convention/
LOCATION:AK
ORGANIZER;CN="Tongass Democrats":MAILTO:tongassdemocrats@gmail.com
END:VEVENT
BEGIN:VEVENT
DTSTART;TZID=America/Anchorage:20240522T163000
DTEND;TZID=America/Anchorage:20240522T180000
DTSTAMP:20260421T205614
CREATED:20231017T013737Z
LAST-MODIFIED:20231017T013737Z
UID:5997-1716395400-1716400800@alaskademocrats.org
SUMMARY:Interior Democrats Monthly Meeting
DESCRIPTION:Join the Interior Democrats for our monthly meeting!The Interior Democrats are currently meeting online. Monthly Business Meetings: This meeting is an update on committee work\, upcoming events\, finances and the business matters of the organization.
URL:https://alaskademocrats.org/event/interior-democrats-monthly-meeting-14/
LOCATION:Zoom
CATEGORIES:Monthly Meeting
ORGANIZER;CN="Interior Democrats":MAILTO:interiordems@gmail.com
END:VEVENT
BEGIN:VEVENT
DTSTART;TZID=America/Anchorage:20240606T143000
DTEND;TZID=America/Anchorage:20240606T150000
DTSTAMP:20260421T205614
CREATED:20240605T211445Z
LAST-MODIFIED:20240605T211445Z
UID:8094-1717684200-1717686000@alaskademocrats.org
SUMMARY:June Tongass Democrats Meeting
DESCRIPTION:June Tongass Democrats meeting will take place Thursday at the Douglas Library. This meeting will convene at 4:30pm in the Douglas Library meeting room and adjourn at 5pm. This will be an opportunity for us to plan for the next 7 months\, review the Convention events\, and introduce budget discussion. The general membership meeting will be a hybrid of in-person and Zoom. Please review the attached proposed agenda and meeting minutes in advance of the meeting. Remember\, the first 20 meeting participants can have a Convention Swag Bag! Come on down!
URL:https://alaskademocrats.org/event/june-tongass-democrats-meeting/
LOCATION:Douglas Library
CATEGORIES:Event
ORGANIZER;CN="Alaska Democratic Party":MAILTO:info@anchoragedems.org
END:VEVENT
BEGIN:VEVENT
DTSTART;TZID=America/Anchorage:20240609T113000
DTEND;TZID=America/Anchorage:20240609T130000
DTSTAMP:20260421T205614
CREATED:20240605T204634Z
LAST-MODIFIED:20240605T204634Z
UID:8085-1717932600-1717938000@alaskademocrats.org
SUMMARY:Lemonade Stand
DESCRIPTION:We’d like to introduce people to their neighbors and their district’s State House Representative!
URL:https://alaskademocrats.org/event/lemonade-stand/
LOCATION:2950 Drake Dr.\, 2950 Drake Dr.\, Anchorage\, AK\, 99508\, United States
CATEGORIES:Event
ORGANIZER;CN="Alaska Democratic Party":MAILTO:info@anchoragedems.org
END:VEVENT
BEGIN:VEVENT
DTSTART;TZID=America/Anchorage:20240613T153000
DTEND;TZID=America/Anchorage:20240613T161500
DTSTAMP:20260421T205614
CREATED:20230914T021816Z
LAST-MODIFIED:20230914T021816Z
UID:5812-1718292600-1718295300@alaskademocrats.org
SUMMARY:Constituent Zoom With Representative Andrew Gray
DESCRIPTION:Catch up with Representative Gray every second Thursday over Zoom! Join us on Zoom here:https://repgray.us8.list-manage.com/track/click?u=346f0a550cd7ce7271224c6c0&id=f2c11c687f&e=4a927fd3c2
URL:https://alaskademocrats.org/event/constituent-zoom-with-representative-andrew-gray-10/
LOCATION:Zoom
CATEGORIES:Monthly Meeting
END:VEVENT
BEGIN:VEVENT
DTSTART;TZID=America/Anchorage:20240613T153000
DTEND;TZID=America/Anchorage:20240613T173000
DTSTAMP:20260421T205614
CREATED:20240531T193037Z
LAST-MODIFIED:20240531T193037Z
UID:7802-1718292600-1718299800@alaskademocrats.org
SUMMARY:A Fundraiser for Fairbanks Mayor\, In Anchorage
DESCRIPTION:A fundraiser for Fairbanks\, in Anchorage. Because Alaska needs strong mayors\, everywhere.
URL:https://alaskademocrats.org/event/a-fundraiser-for-fairbanks-mayor-in-anchorage/
LOCATION:7382 Tarsus Drive\, 7382 Tarsus Drive\, Anchorage\, AK\, 99502\, United States
CATEGORIES:Fundraiser
ORGANIZER;CN="Alaska Democratic Party":MAILTO:info@anchoragedems.org
END:VEVENT
BEGIN:VEVENT
DTSTART;TZID=America/Anchorage:20240614T100000
DTEND;TZID=America/Anchorage:20240614T113000
DTSTAMP:20260421T205614
CREATED:20231017T015855Z
LAST-MODIFIED:20231017T015855Z
UID:6012-1718359200-1718364600@alaskademocrats.org
SUMMARY:Interior Democrats Fahrenkamp Lunch
DESCRIPTION:In honor of Sen. Bettye Fahrenkamp\, join us for a monthly lunch with a community speaker. Every 2nd Friday @ Noon on Zoom Join via Zoom at this link.Learn more on the Interior Democrats FaceBook Page.
URL:https://alaskademocrats.org/event/interior-democrats-fahrenkamp-lunch-17/
LOCATION:Zoom
ORGANIZER;CN="Interior Democrats":MAILTO:interiordems@gmail.com
END:VEVENT
BEGIN:VEVENT
DTSTART;TZID=America/Anchorage:20240617T150000
DTEND;TZID=America/Anchorage:20240617T170000
DTSTAMP:20260421T205614
CREATED:20240612T153541Z
LAST-MODIFIED:20240612T153541Z
UID:8127-1718636400-1718643600@alaskademocrats.org
SUMMARY:Fundraiser for Robyn Niayuq Burke
DESCRIPTION:Come out and support Robyn Niayuq Burke for State House on June 17th! 
URL:https://alaskademocrats.org/event/fundraiser-for-robyn-niayuq-burke/
LOCATION:1601 Hidden Lane\, 1601 Hidden Lane\, Anchorage\, AK\, United States
CATEGORIES:Fundraiser
ORGANIZER;CN="Alaska Democratic Party":MAILTO:info@anchoragedems.org
END:VEVENT
BEGIN:VEVENT
DTSTART;TZID=America/Anchorage:20240618T160000
DTEND;TZID=America/Anchorage:20240618T180000
DTSTAMP:20260421T205614
CREATED:20240531T192748Z
LAST-MODIFIED:20240531T192748Z
UID:7798-1718726400-1718733600@alaskademocrats.org
SUMMARY:100+ Interior Friends for Grier Hopkins for Borough Mayor
DESCRIPTION:Come join 100+ friends and neighbors from across the Fairbanks Borough to celebrate the start of something new\, a bright and thriving future for the Fairbanks North Star Borough with Grier Hopkins for Borough MayorMeet us at Alaska Universal Production Warehouse\, 2760 Phillips Field Rd (Towards the old Ice Park\, behind IGU)
URL:https://alaskademocrats.org/event/100-interior-friends-for-grier-hopkins-for-borough-mayor/
LOCATION:2760 Phillips Field Rd\, 2760 Phillips Field Rd\, Fairbanks\, AK\, 99709\, United States
CATEGORIES:Fundraiser
ORGANIZER;CN="Alaska Democratic Party":MAILTO:info@anchoragedems.org
END:VEVENT
BEGIN:VEVENT
DTSTART;TZID=America/Anchorage:20240624T160000
DTEND;TZID=America/Anchorage:20240624T190000
DTSTAMP:20260421T205614
CREATED:20240620T173617Z
LAST-MODIFIED:20240620T174326Z
UID:8289-1719244800-1719255600@alaskademocrats.org
SUMMARY:Brent Johnson for State House Fundraiser
DESCRIPTION:Please join us for a fundraiser to elect Brent Johnson to the Alaska State House! Hosted by: Bruce & Shanda Richards Cohosts: Todd & Megan Smith
URL:https://alaskademocrats.org/event/brent-johnson-for-state-house-fundraiser/
LOCATION:1320 Chinook Dr\, Kenai\, AK\, 1320 Chinook Dr\, Kenai\, AK\, 99611\, United States
END:VEVENT
BEGIN:VEVENT
DTSTART;TZID=America/Anchorage:20240626T153000
DTEND;TZID=America/Anchorage:20240626T170000
DTSTAMP:20260421T205614
CREATED:20240621T211510Z
LAST-MODIFIED:20240621T211510Z
UID:8298-1719415800-1719421200@alaskademocrats.org
SUMMARY:Foodie Fundraiser to Flip the House
DESCRIPTION: Come enjoy an array of fine foods\, desserts and beverages and support Ted Eischeid for State House.
URL:https://alaskademocrats.org/event/foodie-fundraiser-to-flip-the-house/
LOCATION:1423 Atkinson Dr\, Anchorage\, Alaska\, 1423 Atkinson Dr\, Anchorage\, AK\, 99504\, United States
CATEGORIES:Fundraiser
END:VEVENT
BEGIN:VEVENT
DTSTART;TZID=America/Anchorage:20240626T163000
DTEND;TZID=America/Anchorage:20240626T180000
DTSTAMP:20260421T205614
CREATED:20231017T013829Z
LAST-MODIFIED:20231017T013829Z
UID:5999-1719419400-1719424800@alaskademocrats.org
SUMMARY:Interior Democrats Monthly Meeting
DESCRIPTION:Join the Interior Democrats for our monthly meeting!The Interior Democrats are currently meeting online. Monthly Business Meetings: This meeting is an update on committee work\, upcoming events\, finances and the business matters of the organization.
URL:https://alaskademocrats.org/event/interior-democrats-monthly-meeting-15/
LOCATION:Zoom
CATEGORIES:Monthly Meeting
ORGANIZER;CN="Interior Democrats":MAILTO:interiordems@gmail.com
END:VEVENT
BEGIN:VEVENT
DTSTART;TZID=America/Anchorage:20240627T160000
DTEND;TZID=America/Anchorage:20240627T170000
DTSTAMP:20260421T205614
CREATED:20240617T192449Z
LAST-MODIFIED:20240617T192449Z
UID:8283-1719504000-1719507600@alaskademocrats.org
SUMMARY:Denny's Statewide Virtual Fundraiser
DESCRIPTION:Join Denny Wells and a group of amazing Alaskans from all across our state for a virtual fundraiser. Please RSVP with the link below to register for the event.https://us06web.zoom.us/meeting/register/tZEpduqsqj0pHtfVn7KwfLS1HUkE9ebhTq6C
URL:https://alaskademocrats.org/event/dennys-statewide-virtual-fundraiser/
LOCATION:https://us06web.zoom.us/meeting/register/tZEpduqsqj0pHtfVn7KwfLS1HUkE9ebhTq6C
CATEGORIES:Fundraiser
END:VEVENT
BEGIN:VEVENT
DTSTART;TZID=America/Anchorage:20240705T150000
DTEND;TZID=America/Anchorage:20240705T170000
DTSTAMP:20260421T205614
CREATED:20240627T202000Z
LAST-MODIFIED:20240705T191033Z
UID:8460-1720191600-1720198800@alaskademocrats.org
SUMMARY:Juneau Fundraiser to Reelect Maxine Dibert
DESCRIPTION: There are too many things at stake\, including the fate of Alaska’s schools\, and we need Maxine in the State House to keep up the pressure! Your presence is requested on July 5th\, 5-7pm in Juneau at the home of Toni Mallot (102 Cordova street) for a fundraiser to support Maxine’s campaign to keep this seat and continue serving the people of Fairbanks. Hear about Maxine’s recent work during the legislative session\, and what she’s currently working on to improve the state. If you can’t make it but want to donate\, please use this link: https://secure.anedot.com/maxine/mallot-fr Light refreshments will be available. (Please park on Nowell Ave)
URL:https://alaskademocrats.org/event/juneau-fundraiser-to-reelect-maxine-dibert/
LOCATION:102 Cordova street\, 102 Cordova St\, Juneau\, AK\, 99801\, United States
END:VEVENT
BEGIN:VEVENT
DTSTART;TZID=America/Anchorage:20240716T150000
DTEND;TZID=America/Anchorage:20240716T170000
DTSTAMP:20260421T205614
CREATED:20240604T180614Z
LAST-MODIFIED:20240612T185538Z
UID:7909-1721142000-1721149200@alaskademocrats.org
SUMMARY:House Democratic Campaign Committee Fundraiser 
DESCRIPTION:Come join us at the House Democratic Campaign Committee Fundraiser Home of State Representative Jennie Armstrong
URL:https://alaskademocrats.org/event/house-democratic-campaign-committee-fundraiser-2/
LOCATION:3001 Illiamna Ave\, 3001 Illiamna Ave\, Anchorage\, AK\, 99517\, United States
ORGANIZER;CN="Alaska Democratic Party":MAILTO:info@anchoragedems.org
END:VEVENT
BEGIN:VEVENT
DTSTART;TZID=America/Anchorage:20240716T150000
DTEND;TZID=America/Anchorage:20240716T170000
DTSTAMP:20260421T205614
CREATED:20240708T153932Z
LAST-MODIFIED:20240708T153932Z
UID:9097-1721142000-1721149200@alaskademocrats.org
SUMMARY:Support the West Anchorage Democrats - Claman\, Wells\, and Hall
DESCRIPTION:Fundraiser to Support Democratic Candidates for West AnchorageEvent Description: Join us for an evening of community and conversation as we support three Democratic candidates running to represent West Anchorage in the state legislature! Your presence and support are crucial to electing leaders who can make real positive change and establish a bipartisan\, veto-proof majority.Candidates:Matt Claman – Current Senator for District HDenny Wells – Candidate for House District 15Carolyn Hall – Candidate for House District 16Event Details: 📅 Date: Tuesday\, July 16th🕔 Time: 5:00 PM – 7:00 PM🏡 Location: Home of Barbara Norton and Bradley Cruz📍 Address: 1964 Loussac Dr\, Anchorage\, AKJoin us to meet the candidates\, learn about their platforms\, and show your support for a brighter future for West Anchorage. Together\, we can make a difference!Can’t make it\, please consider donating online:Matt Claman:https://www.mattclaman.com/donateDenny Wellshttps://secure.actblue.com/…/dennywellsforalaska-2024…Carolyn Hallhttps://secure.actblue.com/donate/carolyn-for-alaska-1
URL:https://alaskademocrats.org/event/support-the-west-anchorage-democrats-claman-wells-and-hall/
LOCATION:1964 Loussac Dr\, Anchorage\, AK 99517
ORGANIZER;CN="Alaska Democratic Party":MAILTO:info@anchoragedems.org
END:VEVENT
BEGIN:VEVENT
DTSTART;TZID=America/Anchorage:20240717T160000
DTEND;TZID=America/Anchorage:20240717T180000
DTSTAMP:20260421T205614
CREATED:20240709T143951Z
LAST-MODIFIED:20240709T143951Z
UID:9230-1721232000-1721239200@alaskademocrats.org
SUMMARY:Trifecta Birthday Fundraiser
DESCRIPTION: Celebrate with Andy Josephson\, Donna Mears\, and Alyse Galvin with a Trifecta Birthday Fundraiser! These three representatives are running in hot re-election campaigns. Not only do they share a birthday week\, but they share the values of strong public schools\, supporting working families\, and building our community. There will be food\, lemonade\, birthday cake\, and music. Bring the kids and some friends.
URL:https://alaskademocrats.org/event/trifecta-birthday-fundraiser/
LOCATION:David Green Park – 3681 McInnes Street Anchorage\, AK 99508
CATEGORIES:Fundraiser
ORGANIZER;CN="Alaska Democratic Party":MAILTO:info@anchoragedems.org
END:VEVENT
BEGIN:VEVENT
DTSTART;TZID=America/Anchorage:20240723T150000
DTEND;TZID=America/Anchorage:20240723T163000
DTSTAMP:20260421T205614
CREATED:20240703T171745Z
LAST-MODIFIED:20240703T171745Z
UID:8542-1721746800-1721752200@alaskademocrats.org
SUMMARY:Fundraiser to Build the Future
DESCRIPTION: Join Ky Holland for a campaign kickoff/fundraiser in support of his race for State House!
URL:https://alaskademocrats.org/event/fundraiser-to-build-the-future/
LOCATION:14000 Pickett St\, Anchorage\, AK 99516\, 14000 Pickett St\, Anchorage\, AK\, 99516\, United States
CATEGORIES:Fundraiser
ORGANIZER;CN="Alaska Democratic Party":MAILTO:info@anchoragedems.org
END:VEVENT
BEGIN:VEVENT
DTSTART;TZID=America/Anchorage:20240726T150000
DTEND;TZID=America/Anchorage:20240726T170000
DTSTAMP:20260421T205614
CREATED:20240530T214010Z
LAST-MODIFIED:20240703T194532Z
UID:7696-1722006000-1722013200@alaskademocrats.org
SUMMARY:Alaska Democratic Party Picnic Fundraiser
DESCRIPTION:Join us for an Alaska Democratic Party Picnic Fundraiser on July 26th\, 2024 from 5PM to 7PM at Ruth Arcand Park!
URL:https://alaskademocrats.org/event/alaska-democratic-party-picnic-fundraiser/
LOCATION:Ruth Arcand Park\, 3766 Abbott Road\, Anchorage\, Alaska\, 99507
CATEGORIES:Fundraiser
ORGANIZER;CN="Alaska Democratic Party":MAILTO:info@anchoragedems.org
END:VEVENT
BEGIN:VEVENT
DTSTART;TZID=America/Anchorage:20240728T143000
DTEND;TZID=America/Anchorage:20240728T160000
DTSTAMP:20260421T205614
CREATED:20240723T162236Z
LAST-MODIFIED:20240723T162236Z
UID:11316-1722177000-1722182400@alaskademocrats.org
SUMMARY:Cliff Groh Backyard Fundraiser
DESCRIPTION:Join us for a backyard fundraiser benefitting Cliff Groh’s campaign for reelection to House District 18\, featuring milkshakes and games!
URL:https://alaskademocrats.org/event/cliff-groh-backyard-fundraiser/
LOCATION:220 W Manor Avenue\, Anchorage\, AK 99501
CATEGORIES:Fundraiser
ORGANIZER;CN="Alaska Democratic Party":MAILTO:info@anchoragedems.org
END:VEVENT
BEGIN:VEVENT
DTSTART;TZID=America/Anchorage:20240801T150000
DTEND;TZID=America/Anchorage:20240801T170000
DTSTAMP:20260421T205614
CREATED:20240730T022038Z
LAST-MODIFIED:20240730T022038Z
UID:11860-1722524400-1722531600@alaskademocrats.org
SUMMARY:State Senate Fundraiser for Matt Claman\, Scott Kawasaki\, and Savannah Fletcher
DESCRIPTION:Join State Senate candidates Scott Kawasaki\, Matt Claman\, and Savannah Fletcher for a fundraiser in Anchorage!If you can’t make it to the fundraiser but would like to show your support – you can make a donation below:Donate to Savannah Fletcher: https://secure.anedot.com/savannah-fletcher-for-state-senate/donateDonate to Matt Claman: https://www.mattclaman.com/donateDonate to Scott Kawasaki: https://secure.anedot.com/alaskascott/contribute Paid for by Matt Claman for Alaska\, Friends of Scott Kawasaki\, and Savannah Fletcher for State Senate
URL:https://alaskademocrats.org/event/state-senate-fundraiser-for-matt-claman-scott-kawasaki-and-savannah-fletcher/
LOCATION:Home of Nick Weider and Mary Lee Wilson\, 2048 West Marston Dr\, Anchorage\, AK\, 99517\, United States
CATEGORIES:Fundraiser
ORGANIZER;CN="Alaska Democratic Party":MAILTO:info@anchoragedems.org
END:VEVENT
BEGIN:VEVENT
DTSTART;TZID=America/Anchorage:20240801T153000
DTEND;TZID=America/Anchorage:20240801T173000
DTSTAMP:20260421T205614
CREATED:20240730T132719Z
LAST-MODIFIED:20240730T132719Z
UID:11966-1722526200-1722533400@alaskademocrats.org
SUMMARY:BBQ Fundraiser
DESCRIPTION: Join us on the east side for a BBQ fundraiser to re-elect Donna Mears to the Alaska State House. We’re looking forward to this family friendly event & supporting Donna’s campaign.
URL:https://alaskademocrats.org/event/bbq-fundraiser/
LOCATION:3311 Shamrock Street Anchorage\, AK 99504
CATEGORIES:Fundraiser
ORGANIZER;CN="Alaska Democratic Party":MAILTO:info@anchoragedems.org
END:VEVENT
END:VCALENDAR