BEGIN:VCALENDAR
VERSION:2.0
PRODID:-//Alaska Democrats - ECPv6.15.20//NONSGML v1.0//EN
CALSCALE:GREGORIAN
METHOD:PUBLISH
X-ORIGINAL-URL:https://alaskademocrats.org
X-WR-CALDESC:Events for Alaska Democrats
REFRESH-INTERVAL;VALUE=DURATION:PT1H
X-Robots-Tag:noindex
X-PUBLISHED-TTL:PT1H
BEGIN:VTIMEZONE
TZID:America/Anchorage
BEGIN:DAYLIGHT
TZOFFSETFROM:-0900
TZOFFSETTO:-0800
TZNAME:AKDT
DTSTART:20230312T110000
END:DAYLIGHT
BEGIN:STANDARD
TZOFFSETFROM:-0800
TZOFFSETTO:-0900
TZNAME:AKST
DTSTART:20231105T100000
END:STANDARD
BEGIN:DAYLIGHT
TZOFFSETFROM:-0900
TZOFFSETTO:-0800
TZNAME:AKDT
DTSTART:20240310T110000
END:DAYLIGHT
BEGIN:STANDARD
TZOFFSETFROM:-0800
TZOFFSETTO:-0900
TZNAME:AKST
DTSTART:20241103T100000
END:STANDARD
BEGIN:DAYLIGHT
TZOFFSETFROM:-0900
TZOFFSETTO:-0800
TZNAME:AKDT
DTSTART:20250309T110000
END:DAYLIGHT
BEGIN:STANDARD
TZOFFSETFROM:-0800
TZOFFSETTO:-0900
TZNAME:AKST
DTSTART:20251102T100000
END:STANDARD
END:VTIMEZONE
BEGIN:VEVENT
DTSTART;TZID=America/Anchorage:20240104T161500
DTEND;TZID=America/Anchorage:20240104T171500
DTSTAMP:20260421T175336
CREATED:20230607T161811Z
LAST-MODIFIED:20230727T184334Z
UID:4972-1704384900-1704388500@alaskademocrats.org
SUMMARY:Tongass Democrats Business Meeting
DESCRIPTION:Join the Tongass Democrats for their business meeting!
URL:https://alaskademocrats.org/event/tongass-democrats-business-meeting-4/
LOCATION:IBEW Hall Juneau\, 813 W 12th St\, Juneau\, AK\, 99801\, United States
ORGANIZER;CN="Tongass Democrats":MAILTO:tongassdemocrats@gmail.com
END:VEVENT
BEGIN:VEVENT
DTSTART;TZID=America/Anchorage:20240108T080000
DTEND;TZID=America/Anchorage:20240108T090000
DTSTAMP:20260421T175336
CREATED:20231220T023529Z
LAST-MODIFIED:20231220T023529Z
UID:6189-1704700800-1704704400@alaskademocrats.org
SUMMARY:National Democratic Training Committee: So You Want to Run for Office?
DESCRIPTION:Join the National Democratic Training Committee on Monday\, January 8th from 1-2 pm ET\, (9-10AM AKST) for a free virtual live training on So You Want to Run for Office. We’re here to help\, so join us to learn the following: Understand the steps necessary to run for office Explain best practices for choosing which office to run for Identify what support you’ll need from your team Prepare for sharing your decision to run with friends and family
URL:https://alaskademocrats.org/event/national-democratic-training-committee-so-you-want-to-run-for-office/
LOCATION:Zoom
CATEGORIES:Event
END:VEVENT
BEGIN:VEVENT
DTSTART;TZID=America/Anchorage:20240109T080000
DTEND;TZID=America/Anchorage:20240109T090000
DTSTAMP:20260421T175336
CREATED:20231220T023727Z
LAST-MODIFIED:20231220T023727Z
UID:6192-1704787200-1704790800@alaskademocrats.org
SUMMARY:National Democratic Training Committee: Running in a Red District
DESCRIPTION:Join the National Democratic Training Committee on Tuesday\, January 9th from 1-2 pm ET (9-10am AKST) for a free virtual live training on Running in a Red District. As you prepare\, NDTC will equip you to get closer to that victory on Election Day. We’re here to help\, so join us to learn the following: Understand the importance of the phases of a campaign\, a campaign plan\, and candidate viability Recognize the utility of your personal story as a tool for sharing your campaign’s message Consider and learn from examples of candidates who ran in Red Districts Explain how NDTC’s community of learners\, campaign staff\, and candidates can help you win
URL:https://alaskademocrats.org/event/national-democratic-training-committee-running-in-a-red-district/
LOCATION:Zoom
CATEGORIES:Event
END:VEVENT
BEGIN:VEVENT
DTSTART;TZID=America/Anchorage:20240111T163000
DTEND;TZID=America/Anchorage:20240111T171500
DTSTAMP:20260421T175336
CREATED:20230914T021257Z
LAST-MODIFIED:20230914T021257Z
UID:5801-1704990600-1704993300@alaskademocrats.org
SUMMARY:Constituent Zoom With Representative Andrew Gray
DESCRIPTION:Catch up with Representative Gray every second Thursday over Zoom! Join us on Zoom here:https://repgray.us8.list-manage.com/track/click?u=346f0a550cd7ce7271224c6c0&id=f2c11c687f&e=4a927fd3c2
URL:https://alaskademocrats.org/event/constituent-zoom-with-representative-andrew-gray-5/
LOCATION:Zoom
CATEGORIES:Monthly Meeting
END:VEVENT
BEGIN:VEVENT
DTSTART;TZID=America/Anchorage:20240111T163000
DTEND;TZID=America/Anchorage:20240111T183000
DTSTAMP:20260421T175336
CREATED:20240110T202157Z
LAST-MODIFIED:20240110T202157Z
UID:6296-1704990600-1704997800@alaskademocrats.org
SUMMARY:Juneau Fundraiser for Suzanne LaFrance for Mayor
DESCRIPTION: You’re Invited! Join Suzanne LaFrance and her team at the home of Alyse & Pat Galvin for a campaign fundraiser on Thursday\, January 11 at 5:30PM!Whether or not you are able to attend\, we hope you will support Suzanne’s campaign to be the next mayor of Anchorage by making a donation today: https://secure.anedot.com/votesuzanne/juneauThank you to all of our cohosts for helping to make this event a success:Sen. Forrest DunbarSen. Jesse KiehlRep. Jennie ArmstrongRep. Ashley CarrickRep. Zack FieldsRep. Alyse GalvinRep. Cliff GrohRep. Donna MearsRep. Calvin SchrageAssembly Member Greg SmithJoey BosworthHeidi DrygasEphraim FroehlichShannon MasonDrinks and snacks will be provided\, so bring your friends\, your questions\, and your enthusiasm\, and let’s make sure the next mayor of Anchorage is someone who will fix what’s broken and work hard to make Anchorage a better place to live and raise a family!
URL:https://alaskademocrats.org/event/juneau-fundraiser-for-suzanne-lafrance-for-mayor/
LOCATION:Alyse & Pat Galvin\, 3200 Pioneer Ave\, Juneau\, AK\, 99801\, United States
CATEGORIES:Candidate Event,Fundraiser
END:VEVENT
BEGIN:VEVENT
DTSTART;TZID=America/Anchorage:20240112T110000
DTEND;TZID=America/Anchorage:20240112T123000
DTSTAMP:20260421T175336
CREATED:20231017T014233Z
LAST-MODIFIED:20231017T014233Z
UID:6002-1705057200-1705062600@alaskademocrats.org
SUMMARY:Interior Democrats Fahrenkamp Lunch
DESCRIPTION:In honor of Sen. Bettye Fahrenkamp\, join us for a monthly lunch with a community speaker. Every 2nd Friday @ Noon on Zoom Join via Zoom at this link.Learn more on the Interior Democrats FaceBook Page.
URL:https://alaskademocrats.org/event/interior-democrats-fahrenkamp-lunch-12/
LOCATION:Zoom
CATEGORIES:Monthly Meeting
ORGANIZER;CN="Interior Democrats":MAILTO:interiordems@gmail.com
END:VEVENT
BEGIN:VEVENT
DTSTART;TZID=America/Anchorage:20240113T130000
DTEND;TZID=America/Anchorage:20240113T150000
DTSTAMP:20260421T175336
CREATED:20240112T215214Z
LAST-MODIFIED:20240112T215214Z
UID:6309-1705150800-1705158000@alaskademocrats.org
SUMMARY:Juneau Fundraiser for Chris Tuck for Mayor
DESCRIPTION:Join Chris Tuck and his co-hosts for an in-person Fly-in Fundraiser in Juneau! The event is at TK Maguires\, 375 Whittier St. in Juneau. Chris is running for Mayor of Anchorage\, and he’s excited to be invited to Juneau for this fundraising event!Event co-hosts include Brenda Knapp\, Jim Powell\, Beth Kerttula\, Cindy Spanyers\, Aurora Hauke\, Nadine LeFebvre\, Sen. Jesse Kiehl\, Sen. Scott Kawasaki\, Sen. Elvi Gray-Jackson\, Sen. Bill Wielechowski\, Sen Löki Tobin\, Former Sen. Tom Begich\, Sen. Donny Olson
URL:https://alaskademocrats.org/event/juneau-fundraiser-for-chris-tuck-for-mayor/
LOCATION:TK Maguires\, 375 Whittier St\, Juneau\, AK\, 99801\, United States
CATEGORIES:Candidate Event,Fundraiser
END:VEVENT
BEGIN:VEVENT
DTSTART;TZID=America/Anchorage:20240115T160000
DTEND;TZID=America/Anchorage:20240115T193000
DTSTAMP:20260421T175336
CREATED:20240111T220056Z
LAST-MODIFIED:20240111T220056Z
UID:6302-1705334400-1705347000@alaskademocrats.org
SUMMARY:The Alaska Black Caucus Martin Luther King Community-Wide Celebration "Solidarity Weekend" (Community Event)
DESCRIPTION:Sponsorshipshttps://docs.google.com/…/1FAIpQLSf6xTFazvx…/viewform…MLK\, Jr Day – Volunteeringhttps://form.jotform.com/233434512689158The Alaska Black Caucus is proud to present the second annual Martin Luther King Community-Wide Celebration “Solidarity Weekend\,” showcasing Alaska’s cultural performances while promoting the importance of VOTING on Monday\, January 15th\, 6:30 PM at the Bettye Davis East Anchorage High School. This is a free event.“In Selma\,” King wrote\, “we see a classic pattern of disenfranchisement typical of the Southern Black Belt areas where Negroes are in the majority” (King\, “Selma—The Shame and the Promise”). In addition to facing arbitrary literacy tests and poll taxes\, African Americans in Selma and other southern towns were intimidated\, harassed\, and assaulted when they sought to register to vote. Civil rights activists met with fierce resistance to their campaign\, which attracted national attention on 7 March 1965\, when civil rights workers were brutally attacked by white law enforcement officers on a march from Selma to Montgomery.Johnson introduced the Voting Rights Act that same month\, “with the outrage of Selma still fresh” (Johnson\, “Remarks in the Capitol Rotunda”). In just over four months\, Congress passed the bill. The Voting Rights Act of 1965 abolished literacy tests and poll taxes designed to disenfranchise African American voters and gave the federal government the authority to take over voter registration in counties with a pattern of persistent discrimination. “This law covers many pages\,” Johnson said before signing the bill\, “but the heart of the act is plain. Wherever\, by clear and objective standards\, States and counties are using regulations\, or laws\, or tests to deny the right to vote\, then they will be struck down” (Johnson\, “Remarks in the Capitol Rotunda”).On the same day Johnson signed the bill\, he announced that his attorney general\, Nicholas Katzenbach\, would initiate lawsuits against four states that still required a poll tax to register. Although King called the law “a great step forward in removing all of the remaining obstacles to the right to vote\,” he knew that the ballot would only be an effective tool for social change if potential voters rid themselves of the fear associated with voting (King\, 5 August 1965). To meet this goal and “rid the American body politic of racism\,” SCLC developed its Political Education and Voter Registration Department (King\, “Annual Report”).
URL:https://alaskademocrats.org/event/the-alaska-black-caucus-martin-luther-king-community-wide-celebration-solidarity-weekend-community-event/
LOCATION:East Anchorage High School\, 4025 E Northern Lights Blvd\, Anchorage\, AK\, 99508\, United States
CATEGORIES:Event
END:VEVENT
BEGIN:VEVENT
DTSTART;TZID=America/Anchorage:20240115T163000
DTEND;TZID=America/Anchorage:20240115T183000
DTSTAMP:20260421T175336
CREATED:20240110T195048Z
LAST-MODIFIED:20240110T195048Z
UID:6275-1705336200-1705343400@alaskademocrats.org
SUMMARY:House and Senate Democratic Campaign Committees Annual Fundraiser
DESCRIPTION:Join the House and Senate Democratic Campaign Committees on January 15th in-person or virtually from 5:30-7:30pm for their Annual Fundraiser! If you’re in Juneau you can join in-person at the home of Mark & Sun Choate located at 230 W. 8th St. If you’re not in Juneau but still want to participate\, make sure to register to join on Zoom: https://us06web.zoom.us/…/tZUvcOqsqzgpEtLbl0E7ol3UtGgD…Don’t miss out on this opportunity to kick off the 2024 election season before the legislative session starts!
URL:https://alaskademocrats.org/event/house-and-senate-democratic-campaign-committees-annual-fundraiser/
LOCATION:230 W. 8th St\, 230 W. 8th St\, Juneau\, AK\, 99801\, United States
CATEGORIES:Fundraiser
END:VEVENT
BEGIN:VEVENT
DTSTART;TZID=America/Anchorage:20240118T080000
DTEND;TZID=America/Anchorage:20240118T090000
DTSTAMP:20260421T175336
CREATED:20231220T024006Z
LAST-MODIFIED:20231220T024006Z
UID:6194-1705564800-1705568400@alaskademocrats.org
SUMMARY:National Democratic Training Committee: Expert Q&A: The 2024 Rundown
DESCRIPTION:Join the National Democratic Training Committee\, Thursday\, Jan. 18 9-10am AKST on Zoom because the 2024 campaign kicks off now! President Joe Biden’s reelection is at the top of the ticket\, but momentum from Democrats at every level is needed to support his victory. What message will resonate best with voters? How can local communities adapt and integrate with national campaigns based on local needs? These questions and more will be addressed in this month’s NDTC Expert Q&A. We’re bringing together presidential campaign experts and veterans to discuss how top-of-the-ballot messaging and strategy can influence down-ballot campaigns. In a year and campaign that’s as important as this one\, alignment across the board is more important than ever! Whether you are a candidate\, a campaign staffer\, or a local leader\, everyone on a campaign can benefit from understanding how to translate topline messages and priorities into their own grassroots community.
URL:https://alaskademocrats.org/event/national-democratic-training-committee-expert-qa-the-2024-rundown/
LOCATION:Zoom
CATEGORIES:Event
END:VEVENT
BEGIN:VEVENT
DTSTART;TZID=America/Anchorage:20240122T080000
DTEND;TZID=America/Anchorage:20240122T210000
DTSTAMP:20260421T175336
CREATED:20231220T024159Z
LAST-MODIFIED:20231220T024159Z
UID:6196-1705910400-1705957200@alaskademocrats.org
SUMMARY:National Democratic Training Committee: Recruiting Strong Candidates to Run for Office
DESCRIPTION:Join the National Democratic Training Committee on Monday\, January 22nd from 9-10am AKST for a free virtual live training on Recruiting Strong Candidates to Run for Office\, designed to strengthen the Democratic foundation in your community. As you prepare\, NDTC will equip you to get closer to that victory on Election Day. We’re here to help\, so join us to learn the following: Discuss ways to find quality candidates to run for office Review approaches for persuading first time candidates to run Describe how you might best support a prospective candidate as they make the choice to run
URL:https://alaskademocrats.org/event/national-democratic-training-committee-recruiting-strong-candidates-to-run-for-office/
LOCATION:Zoom
CATEGORIES:Event
END:VEVENT
BEGIN:VEVENT
DTSTART;TZID=America/Anchorage:20240122T163000
DTEND;TZID=America/Anchorage:20240122T183000
DTSTAMP:20260421T175336
CREATED:20240110T195724Z
LAST-MODIFIED:20240110T200042Z
UID:6279-1705941000-1705948200@alaskademocrats.org
SUMMARY:Anchorage Democrats Monthly Meeting
DESCRIPTION:Join the Anchorage Democrats over Zoom for their monthly meeting. https://us02web.zoom.us/j/89217991722?pwd=RkhuMWNVNkhQaTBpcGlSVFgzM0hTUT09 Meeting ID: 892 1799 1722 Passcode: 533928
URL:https://alaskademocrats.org/event/anchorage-democrats-monthly-meeting-9/
LOCATION:Zoom
CATEGORIES:Monthly Meeting
ORGANIZER;CN="Anchorage Democrats":MAILTO:info@anchoragedems.org
END:VEVENT
BEGIN:VEVENT
DTSTART;TZID=America/Anchorage:20240124T173000
DTEND;TZID=America/Anchorage:20240124T193000
DTSTAMP:20260421T175336
CREATED:20240110T200559Z
LAST-MODIFIED:20240110T200559Z
UID:6285-1706117400-1706124600@alaskademocrats.org
SUMMARY:Interior Democrats Monthly Meeting
DESCRIPTION:Join the Interior Democrats for our monthly meeting!The Interior Democrats are currently meeting online. Monthly Business Meetings: This meeting is an update on committee work\, upcoming events\, finances and the business matters of the organization.
URL:https://alaskademocrats.org/event/interior-democrats-monthly-meeting-16/
LOCATION:Zoom
CATEGORIES:Monthly Meeting
ORGANIZER;CN="Interior Democrats":MAILTO:interiordems@gmail.com
END:VEVENT
BEGIN:VEVENT
DTSTART;TZID=America/Anchorage:20240125T130000
DTEND;TZID=America/Anchorage:20240125T140000
DTSTAMP:20260421T175336
CREATED:20231220T024639Z
LAST-MODIFIED:20231220T024639Z
UID:6198-1706187600-1706191200@alaskademocrats.org
SUMMARY:National Democratic Training Committee: So You Want to Run for Office?
DESCRIPTION:Join the National Democratic Training Committee on Thursday\, January 25th from 2-3pm AKST for a free virtual live training on So You Want to Run for Office. We’re here to help\, so join us to learn the following: Understand the steps necessary to run for office Explain best practices for choosing which office to run for Identify what support you’ll need from your team Prepare for sharing your decision to run with friends and family
URL:https://alaskademocrats.org/event/national-democratic-training-committee-so-you-want-to-run-for-office-2/
LOCATION:Zoom
CATEGORIES:Event
END:VEVENT
BEGIN:VEVENT
DTSTART;TZID=America/Anchorage:20240201T160000
DTEND;TZID=America/Anchorage:20240201T180000
DTSTAMP:20260421T175336
CREATED:20240110T201410Z
LAST-MODIFIED:20240110T201410Z
UID:6290-1706803200-1706810400@alaskademocrats.org
SUMMARY:Tongass Democrats Monthly Meeting
DESCRIPTION:Join the Tongass Democrats for their monthly meeting! Join in person or over Zoom.\n\nPlease email  tongassdemocrats@gmail.com in advance for Zoom information.
URL:https://alaskademocrats.org/event/tongass-democrats-monthly-meeting-2/
LOCATION:Zoom
CATEGORIES:Monthly Meeting
ORGANIZER;CN="Tongass Democrats":MAILTO:tongassdemocrats@gmail.com
END:VEVENT
BEGIN:VEVENT
DTSTART;TZID=America/Anchorage:20240208T163000
DTEND;TZID=America/Anchorage:20240208T171500
DTSTAMP:20260421T175336
CREATED:20230914T021426Z
LAST-MODIFIED:20230914T021426Z
UID:5804-1707409800-1707412500@alaskademocrats.org
SUMMARY:Constituent Zoom With Representative Andrew Gray
DESCRIPTION:Catch up with Representative Gray every second Thursday over Zoom! Join us on Zoom here:https://repgray.us8.list-manage.com/track/click?u=346f0a550cd7ce7271224c6c0&id=f2c11c687f&e=4a927fd3c2
URL:https://alaskademocrats.org/event/constituent-zoom-with-representative-andrew-gray-6/
LOCATION:Zoom
CATEGORIES:Monthly Meeting
END:VEVENT
BEGIN:VEVENT
DTSTART;TZID=America/Anchorage:20240209T110000
DTEND;TZID=America/Anchorage:20240209T123000
DTSTAMP:20260421T175336
CREATED:20231017T014354Z
LAST-MODIFIED:20231017T014354Z
UID:6004-1707476400-1707481800@alaskademocrats.org
SUMMARY:Interior Democrats Fahrenkamp Lunch
DESCRIPTION:In honor of Sen. Bettye Fahrenkamp\, join us for a monthly lunch with a community speaker. Every 2nd Friday @ Noon on Zoom Join via Zoom at this link.Learn more on the Interior Democrats FaceBook Page.
URL:https://alaskademocrats.org/event/interior-democrats-fahrenkamp-lunch-13/
LOCATION:Zoom
CATEGORIES:Monthly Meeting
ORGANIZER;CN="Interior Democrats":MAILTO:interiordems@gmail.com
END:VEVENT
BEGIN:VEVENT
DTSTART;TZID=America/Anchorage:20240226T163000
DTEND;TZID=America/Anchorage:20240226T183000
DTSTAMP:20260421T175336
CREATED:20240110T195846Z
LAST-MODIFIED:20240110T200016Z
UID:6281-1708965000-1708972200@alaskademocrats.org
SUMMARY:Anchorage Democrats Monthly Meeting
DESCRIPTION:Join the Anchorage Democrats over Zoom for their monthly meeting. https://us02web.zoom.us/j/89217991722?pwd=RkhuMWNVNkhQaTBpcGlSVFgzM0hTUT09 Meeting ID: 892 1799 1722 Passcode: 533928
URL:https://alaskademocrats.org/event/anchorage-democrats-monthly-meeting-10/
LOCATION:Zoom
CATEGORIES:Monthly Meeting
ORGANIZER;CN="Anchorage Democrats":MAILTO:info@anchoragedems.org
END:VEVENT
BEGIN:VEVENT
DTSTART;TZID=America/Anchorage:20240228T173000
DTEND;TZID=America/Anchorage:20240228T193000
DTSTAMP:20260421T175336
CREATED:20240110T200706Z
LAST-MODIFIED:20240110T200706Z
UID:6287-1709141400-1709148600@alaskademocrats.org
SUMMARY:Interior Democrats Monthly Meeting
DESCRIPTION:Join the Interior Democrats for our monthly meeting!The Interior Democrats are currently meeting online. Monthly Business Meetings: This meeting is an update on committee work\, upcoming events\, finances and the business matters of the organization.
URL:https://alaskademocrats.org/event/interior-democrats-monthly-meeting-17/
LOCATION:Zoom
CATEGORIES:Monthly Meeting
ORGANIZER;CN="Interior Democrats":MAILTO:interiordems@gmail.com
END:VEVENT
BEGIN:VEVENT
DTSTART;TZID=America/Anchorage:20240302T060000
DTEND;TZID=America/Anchorage:20240302T180000
DTSTAMP:20260421T175336
CREATED:20240111T214501Z
LAST-MODIFIED:20240111T214501Z
UID:6299-1709359200-1709402400@alaskademocrats.org
SUMMARY:Winter State Central Meeting (Virtual)
DESCRIPTION:Join us for our Winter State Central Committee Meeting!  More details to come soon.
URL:https://alaskademocrats.org/event/winter-state-central-meeting-virtual/
LOCATION:Zoom
CATEGORIES:Event
ORGANIZER;CN="Alaska Democratic Party":MAILTO:info@anchoragedems.org
END:VEVENT
BEGIN:VEVENT
DTSTART;TZID=America/Anchorage:20240307T160000
DTEND;TZID=America/Anchorage:20240307T180000
DTSTAMP:20260421T175336
CREATED:20240110T201508Z
LAST-MODIFIED:20240110T201508Z
UID:6292-1709827200-1709834400@alaskademocrats.org
SUMMARY:Tongass Democrats Monthly Meeting
DESCRIPTION:Join the Tongass Democrats for their monthly meeting! Join in person or over Zoom.\n\nPlease email  tongassdemocrats@gmail.com in advance for Zoom information.
URL:https://alaskademocrats.org/event/tongass-democrats-monthly-meeting-3/
LOCATION:Zoom
CATEGORIES:Monthly Meeting
ORGANIZER;CN="Tongass Democrats":MAILTO:tongassdemocrats@gmail.com
END:VEVENT
BEGIN:VEVENT
DTSTART;TZID=America/Anchorage:20240308T110000
DTEND;TZID=America/Anchorage:20240308T123000
DTSTAMP:20260421T175336
CREATED:20231017T014503Z
LAST-MODIFIED:20231017T014503Z
UID:6006-1709895600-1709901000@alaskademocrats.org
SUMMARY:Interior Democrats Fahrenkamp Lunch
DESCRIPTION:In honor of Sen. Bettye Fahrenkamp\, join us for a monthly lunch with a community speaker. Every 2nd Friday @ Noon on Zoom Join via Zoom at this link.Learn more on the Interior Democrats FaceBook Page.
URL:https://alaskademocrats.org/event/interior-democrats-fahrenkamp-lunch-14/
LOCATION:Zoom
CATEGORIES:Monthly Meeting
ORGANIZER;CN="Interior Democrats":MAILTO:interiordems@gmail.com
END:VEVENT
BEGIN:VEVENT
DTSTART;TZID=America/Anchorage:20240314T153000
DTEND;TZID=America/Anchorage:20240314T161500
DTSTAMP:20260421T175336
CREATED:20230914T021521Z
LAST-MODIFIED:20230914T021521Z
UID:5806-1710430200-1710432900@alaskademocrats.org
SUMMARY:Constituent Zoom With Representative Andrew Gray
DESCRIPTION:Catch up with Representative Gray every second Thursday over Zoom! Join us on Zoom here:https://repgray.us8.list-manage.com/track/click?u=346f0a550cd7ce7271224c6c0&id=f2c11c687f&e=4a927fd3c2
URL:https://alaskademocrats.org/event/constituent-zoom-with-representative-andrew-gray-7/
LOCATION:Zoom
CATEGORIES:Monthly Meeting
END:VEVENT
BEGIN:VEVENT
DTSTART;TZID=America/Anchorage:20240325T153000
DTEND;TZID=America/Anchorage:20240325T173000
DTSTAMP:20260421T175336
CREATED:20240110T195950Z
LAST-MODIFIED:20240110T195950Z
UID:6283-1711380600-1711387800@alaskademocrats.org
SUMMARY:Anchorage Democrats Monthly Meeting
DESCRIPTION:Join the Anchorage Democrats over Zoom for their monthly meeting. https://us02web.zoom.us/j/89217991722?pwd=RkhuMWNVNkhQaTBpcGlSVFgzM0hTUT09 Meeting ID: 892 1799 1722 Passcode: 533928
URL:https://alaskademocrats.org/event/anchorage-democrats-monthly-meeting-11/
LOCATION:Zoom
CATEGORIES:Monthly Meeting
ORGANIZER;CN="Anchorage Democrats":MAILTO:info@anchoragedems.org
END:VEVENT
BEGIN:VEVENT
DTSTART;TZID=America/Anchorage:20240327T160000
DTEND;TZID=America/Anchorage:20240327T180000
DTSTAMP:20260421T175336
CREATED:20231017T013545Z
LAST-MODIFIED:20231017T013545Z
UID:5992-1711555200-1711562400@alaskademocrats.org
SUMMARY:Interior Democrats Monthly Meeting
DESCRIPTION:Join the Interior Democrats for our monthly meeting!The Interior Democrats are currently meeting online. Monthly Business Meetings: This meeting is an update on committee work\, upcoming events\, finances and the business matters of the organization.
URL:https://alaskademocrats.org/event/interior-democrats-monthly-meeting-12/
LOCATION:Zoom
CATEGORIES:Monthly Meeting
ORGANIZER;CN="Interior Democrats":MAILTO:interiordems@gmail.com
END:VEVENT
BEGIN:VEVENT
DTSTART;TZID=America/Anchorage:20240404T150000
DTEND;TZID=America/Anchorage:20240404T170000
DTSTAMP:20260421T175336
CREATED:20240110T201604Z
LAST-MODIFIED:20240110T201604Z
UID:6294-1712242800-1712250000@alaskademocrats.org
SUMMARY:Tongass Democrats Monthly Meeting
DESCRIPTION:Join the Tongass Democrats for their monthly meeting! Join in person or over Zoom.\n\nPlease email  tongassdemocrats@gmail.com in advance for Zoom information.
URL:https://alaskademocrats.org/event/tongass-democrats-monthly-meeting-4/
LOCATION:Zoom
CATEGORIES:Monthly Meeting
ORGANIZER;CN="Tongass Democrats":MAILTO:tongassdemocrats@gmail.com
END:VEVENT
BEGIN:VEVENT
DTSTART;TZID=America/Anchorage:20240411T153000
DTEND;TZID=America/Anchorage:20240411T161500
DTSTAMP:20260421T175336
CREATED:20230914T021614Z
LAST-MODIFIED:20230914T021614Z
UID:5808-1712849400-1712852100@alaskademocrats.org
SUMMARY:Constituent Zoom With Representative Andrew Gray
DESCRIPTION:Catch up with Representative Gray every second Thursday over Zoom! Join us on Zoom here:https://repgray.us8.list-manage.com/track/click?u=346f0a550cd7ce7271224c6c0&id=f2c11c687f&e=4a927fd3c2
URL:https://alaskademocrats.org/event/constituent-zoom-with-representative-andrew-gray-8/
LOCATION:Zoom
CATEGORIES:Monthly Meeting
END:VEVENT
BEGIN:VEVENT
DTSTART;TZID=America/Anchorage:20240412T100000
DTEND;TZID=America/Anchorage:20240412T113000
DTSTAMP:20260421T175336
CREATED:20231017T014703Z
LAST-MODIFIED:20231017T014703Z
UID:6008-1712916000-1712921400@alaskademocrats.org
SUMMARY:Interior Democrats Fahrenkamp Lunch
DESCRIPTION:In honor of Sen. Bettye Fahrenkamp\, join us for a monthly lunch with a community speaker. Every 2nd Friday @ Noon on Zoom Join via Zoom at this link.Learn more on the Interior Democrats FaceBook Page.
URL:https://alaskademocrats.org/event/interior-democrats-fahrenkamp-lunch-15/
LOCATION:Zoom
CATEGORIES:Monthly Meeting
ORGANIZER;CN="Interior Democrats":MAILTO:interiordems@gmail.com
END:VEVENT
BEGIN:VEVENT
DTSTART;TZID=America/Anchorage:20240424T160000
DTEND;TZID=America/Anchorage:20240424T180000
DTSTAMP:20260421T175336
CREATED:20231017T013641Z
LAST-MODIFIED:20231017T013641Z
UID:5995-1713974400-1713981600@alaskademocrats.org
SUMMARY:Interior Democrats Monthly Meeting
DESCRIPTION:Join the Interior Democrats for our monthly meeting!The Interior Democrats are currently meeting online. Monthly Business Meetings: This meeting is an update on committee work\, upcoming events\, finances and the business matters of the organization.
URL:https://alaskademocrats.org/event/interior-democrats-monthly-meeting-13/
LOCATION:Zoom
CATEGORIES:Monthly Meeting
ORGANIZER;CN="Interior Democrats":MAILTO:interiordems@gmail.com
END:VEVENT
BEGIN:VEVENT
DTSTART;TZID=America/Anchorage:20240425T153000
DTEND;TZID=America/Anchorage:20240425T170000
DTSTAMP:20260421T175336
CREATED:20240418T231907Z
LAST-MODIFIED:20240418T231907Z
UID:6963-1714059000-1714064400@alaskademocrats.org
SUMMARY:Future Legislative Leaders Fundraiser: Joint Fundraiser for Denny Wells and Carolyn Hall
DESCRIPTION:Come enjoy the sunshine as the snow finally melts\, and help Denny and Carolyn bring their message of positive change to Juneau! 🤝 Event Details: 📅 Date: Thursday\, April 25th 🕕 Time: 5:30 to 7:00 pm🏡 Location: Home of Scott Kendall and Selena Hopkins Kendall 7382 Tarsus Dr https://fb.me/e/5cPgD4RiP[pdf-embedder url=”https://alaskademocrats.org/wp-content/uploads/2024/04/Copy-of-WellsHallFundraiser-Amber-Lee.pdf” title=”Wells Hall Fundraiser Flyer”]
URL:https://alaskademocrats.org/event/future-legislative-leaders-fundraiser-joint-fundraiser-for-denny-wells-and-carolyn-hall/
LOCATION:Home of Scott Kendall and Selena Hopkins Kendall\, 7382 Tarsus Dr\, Anchorage\, AK\, 99502\, United States
CATEGORIES:Candidate Event
END:VEVENT
END:VCALENDAR