BEGIN:VCALENDAR
VERSION:2.0
PRODID:-//Alaska Democrats - ECPv6.15.20//NONSGML v1.0//EN
CALSCALE:GREGORIAN
METHOD:PUBLISH
X-ORIGINAL-URL:https://alaskademocrats.org
X-WR-CALDESC:Events for Alaska Democrats
REFRESH-INTERVAL;VALUE=DURATION:PT1H
X-Robots-Tag:noindex
X-PUBLISHED-TTL:PT1H
BEGIN:VTIMEZONE
TZID:America/Anchorage
BEGIN:DAYLIGHT
TZOFFSETFROM:-0900
TZOFFSETTO:-0800
TZNAME:AKDT
DTSTART:20220313T110000
END:DAYLIGHT
BEGIN:STANDARD
TZOFFSETFROM:-0800
TZOFFSETTO:-0900
TZNAME:AKST
DTSTART:20221106T100000
END:STANDARD
BEGIN:DAYLIGHT
TZOFFSETFROM:-0900
TZOFFSETTO:-0800
TZNAME:AKDT
DTSTART:20230312T110000
END:DAYLIGHT
BEGIN:STANDARD
TZOFFSETFROM:-0800
TZOFFSETTO:-0900
TZNAME:AKST
DTSTART:20231105T100000
END:STANDARD
BEGIN:DAYLIGHT
TZOFFSETFROM:-0900
TZOFFSETTO:-0800
TZNAME:AKDT
DTSTART:20240310T110000
END:DAYLIGHT
BEGIN:STANDARD
TZOFFSETFROM:-0800
TZOFFSETTO:-0900
TZNAME:AKST
DTSTART:20241103T100000
END:STANDARD
END:VTIMEZONE
BEGIN:VEVENT
DTSTART;TZID=America/Anchorage:20230116T170000
DTEND;TZID=America/Anchorage:20230116T183000
DTSTAMP:20260421T014831
CREATED:20230109T215841Z
LAST-MODIFIED:20230109T215841Z
UID:2243-1673888400-1673893800@alaskademocrats.org
SUMMARY:Tongass Democrats Annual Statewide Fundraiser for the House and Senate Democratic Campaign Committees
DESCRIPTION:Join Tongass Democrats for our Annual Statewide Fundraiser for the House and Senate Democratic Campaign Committees. Attend in person or online! Contact tongassdemocrats@gmail.com for more information.\n\nTo attend online\, join this Zoom link at 6:30pm on January 16th\, 2023.
URL:https://alaskademocrats.org/event/tongass-democrats-annual-statewide-fundraiser-for-the-house-and-senate-democratic-campaign-committees/
LOCATION:Mark & Sun Choate’s home\, 230 W. 8th Avenue\, Juneau\, Alaska
ORGANIZER;CN="Tongass Democrats":MAILTO:tongassdemocrats@gmail.com
END:VEVENT
BEGIN:VEVENT
DTSTART;TZID=America/Anchorage:20230203T130000
DTEND;TZID=America/Anchorage:20230205T120000
DTSTAMP:20260421T014831
CREATED:20230109T215247Z
LAST-MODIFIED:20230109T224940Z
UID:2239-1675429200-1675598400@alaskademocrats.org
SUMMARY:State Central Committee Meeting
DESCRIPTION:The Alaska Democratic Party State Central Committee will meet the first weekend of February. Events include:\n\nFriday\, February 3rd:\n\n 	Executive Committee meeting (1pm)\n 	Capital Tour (3:30pm)\n 	Mary McKinnon Fundraiser (5:30pm)\n\nSaturday\, February 4th:\n\n 	State Central Committee Business Meeting (8am – 5pm)\n 	Tongass Democrats Winter Auction (6pm)\n\nSunday\, February 5th:\n\n 	Caucus meetings (10am)\n\nCLICK HERE TO REGISTER.  Registration includes access to all events and breakfast\, lunch and snacks on Saturday as well as light refreshments Sunday morning.\n\nA virtual option is available for those who cannot attend in person. Click here to register for virtual attendance on Saturday.
URL:https://alaskademocrats.org/event/state-central-committee-meeting/
LOCATION:Jueau\, AK\, Juneau\, Alaska
ORGANIZER;CN="Tongass Democrats":MAILTO:tongassdemocrats@gmail.com
END:VEVENT
BEGIN:VEVENT
DTSTART;TZID=America/Anchorage:20230210T110000
DTEND;TZID=America/Anchorage:20230210T120000
DTSTAMP:20260421T014831
CREATED:20230209T201909Z
LAST-MODIFIED:20230209T202653Z
UID:2278-1676026800-1676030400@alaskademocrats.org
SUMMARY:Interior Democrats Fahrenkamp Lunch
DESCRIPTION:In honor of Sen. Bettye Fahrenkamp\, join us for a monthly lunch with a community speaker. Every 2nd Friday @ Noon on Zoom\n\nJoin via Zoom at this link\n\n\n\nLearn more on the Interior Democrats FaceBook Page
URL:https://alaskademocrats.org/event/interior-democrats-fahrenkamp-lunch/
LOCATION:Zoom
ORGANIZER;CN="Interior Democrats":MAILTO:interiordems@gmail.com
END:VEVENT
BEGIN:VEVENT
DTSTART;TZID=America/Anchorage:20230225T110000
DTEND;TZID=America/Anchorage:20230225T140000
DTSTAMP:20260421T014831
CREATED:20230215T005804Z
LAST-MODIFIED:20230215T010022Z
UID:2304-1677322800-1677333600@alaskademocrats.org
SUMMARY:Interior Democrats: Visioning Session
DESCRIPTION:The Interior Democrats are hosting a visioning session and we need your help to plan! You are cordially invited to join us and help set priorities and activities for the next two years. Candidate trainings\, community outreach\, working with municipal elections\, events\, media outreach\, and more! For more information call (907) 388-0194.
URL:https://alaskademocrats.org/event/interior-democrats-visioning-session/
LOCATION:IBEW Hall\, Fairbanks\, 2000 Airport Way\, Fairbanks\, AK\, 99701
ORGANIZER;CN="Interior Democrats":MAILTO:interiordems@gmail.com
END:VEVENT
BEGIN:VEVENT
DTSTART;TZID=America/Anchorage:20230303T160000
DTEND;TZID=America/Anchorage:20230303T180000
DTSTAMP:20260421T014831
CREATED:20230227T205918Z
LAST-MODIFIED:20230227T205918Z
UID:2323-1677859200-1677866400@alaskademocrats.org
SUMMARY:Fundraiser for Mary Peltola
DESCRIPTION:Please join co-hosts: Jeff King\, Deborah Bonito & Mark Begich\, Ed Wesley\, Patrick FitzGerald\, Heather Kendall-Miller & Lloyd Miller\, Andrew Guy\, Miranda Strong\, Eric Croft\, Leslie Ridle\, Bronson Frye\, Kendra Kloster\, Bob Waldrop\, Nina Brudie\, Gail Sieberts\, Diana Rhoades\, Nancy Martin\, Kimberly Homme\, and Marilyn Heiman for a fundraiser for Mary Peltola’s Congressional Campaign
URL:https://alaskademocrats.org/event/fundraiser-for-mary-peltola/
LOCATION:49th State Brewing\, 717 W 3rd Ave\, Anchorage\, Alaska\, 99501\, United States
END:VEVENT
BEGIN:VEVENT
DTSTART;TZID=America/Anchorage:20230304T090000
DTEND;TZID=America/Anchorage:20230304T120000
DTSTAMP:20260421T014831
CREATED:20230227T210145Z
LAST-MODIFIED:20230227T210145Z
UID:2326-1677920400-1677931200@alaskademocrats.org
SUMMARY:Iditarod Booth for Mary Peltola - Downtown Anchorage
DESCRIPTION:Volunteer with Team Mary!Assist at the Mary Peltola for Alaska booth at the start of the Iditarod Race. Hand out stickers\, buttons\, etc. Bring a friend!\n\nExact location TBA – sign up here for updates!
URL:https://alaskademocrats.org/event/iditarod-booth-for-mary-peltola-downtown-anchorage/
END:VEVENT
BEGIN:VEVENT
DTSTART;TZID=America/Anchorage:20230304T150000
DTEND;TZID=America/Anchorage:20230304T170000
DTSTAMP:20260421T014831
CREATED:20230227T210705Z
LAST-MODIFIED:20230227T210705Z
UID:2329-1677942000-1677949200@alaskademocrats.org
SUMMARY:Meet & Greet with Mary Peltola!
DESCRIPTION:Join us while Mary’s in Anchorage for a meet and greet! You can stop by to chat with her or pick up campaign swag! There will be appetizers\, drinks\, and conversation. Assembly candidates George Martinez (East Anchorage – District 5)\, Karen Bronga (East Anchorage – District 5)\, and Anna Brawley (West Anchorage – District 3) will also be in attendance.\n\nWe look forward to seeing you there!
URL:https://alaskademocrats.org/event/meet-greet-with-mary-peltola/
LOCATION:Alpenglow Brewery\, 3024 Mountain View Dr #106\, Anchorage\, Alaska\, 99501
END:VEVENT
BEGIN:VEVENT
DTSTART;TZID=America/Anchorage:20230305T110000
DTEND;TZID=America/Anchorage:20230305T150000
DTSTAMP:20260421T014831
CREATED:20230227T210959Z
LAST-MODIFIED:20230227T210959Z
UID:2333-1678014000-1678028400@alaskademocrats.org
SUMMARY:Iditarod Booth for Mary Peltola - Willow
DESCRIPTION:Help distribute t-shirts\, buttons\, and more at a booth for Mary Peltola! Exact location to be announced — sign up here for updates.
URL:https://alaskademocrats.org/event/iditarod-booth-for-mary-peltola-willow/
END:VEVENT
BEGIN:VEVENT
DTSTART;TZID=America/Anchorage:20230310T110000
DTEND;TZID=America/Anchorage:20230310T120000
DTSTAMP:20260421T014831
CREATED:20230209T202407Z
LAST-MODIFIED:20230209T202407Z
UID:2282-1678446000-1678449600@alaskademocrats.org
SUMMARY:Interior Democrats Fahrenkamp Lunch
DESCRIPTION:In honor of Sen. Bettye Fahrenkamp\, join us for a monthly lunch with a community speaker. Every 2nd Friday @ Noon on Zoom\n\nJoin via Zoom at this link\n\nLearn more on the Interior Democrats FaceBook Page
URL:https://alaskademocrats.org/event/interior-democrats-fahrenkamp-lunch-2/
END:VEVENT
BEGIN:VEVENT
DTSTART;TZID=America/Anchorage:20230414T100000
DTEND;TZID=America/Anchorage:20230414T110000
DTSTAMP:20260421T014831
CREATED:20230209T202451Z
LAST-MODIFIED:20230209T202451Z
UID:2284-1681466400-1681470000@alaskademocrats.org
SUMMARY:Interior Democrats Fahrenkamp Lunch
DESCRIPTION:In honor of Sen. Bettye Fahrenkamp\, join us for a monthly lunch with a community speaker. Every 2nd Friday @ Noon on Zoom\n\nJoin via Zoom at this link\n\nLearn more on the Interior Democrats FaceBook Page
URL:https://alaskademocrats.org/event/interior-democrats-fahrenkamp-lunch-3/
END:VEVENT
BEGIN:VEVENT
DTSTART;TZID=America/Anchorage:20230423T153000
DTEND;TZID=America/Anchorage:20230423T173000
DTSTAMP:20260421T014831
CREATED:20230411T230505Z
LAST-MODIFIED:20230411T230505Z
UID:2410-1682263800-1682271000@alaskademocrats.org
SUMMARY:2023 Bartlett-Gruening Dinner in Juneau\, Alaska with Rep. Peltola!
DESCRIPTION:Join the Tongass Democrats at the Bartlett-Gruening Dinner on April 23\, 2023\, at 5:30PM at the Ramada by Wyndham in Juneau\, AK. Congresswoman Mary Peltola will be the keynote speaker with former State House Reps. Chris Tuck and Beth Kerttula as the auctioneer and master of ceremonies. State House Rep. Genevieve Mina will also be a guest speaker. You won’t want to miss this! Help the Tongass Dems raise money for the 2024 elections and the State Convention.\n\n \n\n\n\n 
URL:https://alaskademocrats.org/event/2023-bartlett-gruening-dinner-in-juneau-alaska-with-rep-peltola/
LOCATION:Ramada\, 375 Whittier Street\, Juneau\, 99801\, United States
CATEGORIES:Fundraiser
ORGANIZER;CN="Tongass Democrats":MAILTO:tongassdemocrats@gmail.com
END:VEVENT
BEGIN:VEVENT
DTSTART;TZID=America/Anchorage:20230512T100000
DTEND;TZID=America/Anchorage:20230512T110000
DTSTAMP:20260421T014831
CREATED:20230209T202552Z
LAST-MODIFIED:20230209T202552Z
UID:2286-1683885600-1683889200@alaskademocrats.org
SUMMARY:Interior Democrats Fahrenkamp Lunch
DESCRIPTION:In honor of Sen. Bettye Fahrenkamp\, join us for a monthly lunch with a community speaker. Every 2nd Friday @ Noon on Zoom\n\nJoin via Zoom at this link\n\nLearn more on the Interior Democrats FaceBook Page
URL:https://alaskademocrats.org/event/interior-democrats-fahrenkamp-lunch-4/
END:VEVENT
BEGIN:VEVENT
DTSTART;TZID=America/Anchorage:20230518T160000
DTEND;TZID=America/Anchorage:20230518T180000
DTSTAMP:20260421T014831
CREATED:20230508T224717Z
LAST-MODIFIED:20230508T224717Z
UID:4803-1684425600-1684432800@alaskademocrats.org
SUMMARY:Drinking Liberally with the Mat-Su Democrats
DESCRIPTION:Join the Mat-Su Democrats for their monthly social hour!
URL:https://alaskademocrats.org/event/drinking-liberally-with-the-mat-su-democrats/
LOCATION:Bleeding Heart Brewery\, 562 S Denali St\, Palmer\, AK 99645\, USA
END:VEVENT
BEGIN:VEVENT
DTSTART;TZID=America/Anchorage:20230522T153000
DTEND;TZID=America/Anchorage:20230522T173000
DTSTAMP:20260421T014831
CREATED:20230508T223555Z
LAST-MODIFIED:20230508T223555Z
UID:4798-1684769400-1684776600@alaskademocrats.org
SUMMARY:Anchorage Democrats Monthly Meeting
DESCRIPTION:Join the Anchorage Democrats over Zoom for their monthly meeting.\n\nhttps://us02web.zoom.us/j/89217991722?pwd=RkhuMWNVNkhQaTBpcGlSVFgzM0hTUT09\n\nMeeting ID: 892 1799 1722 Passcode: 533928
URL:https://alaskademocrats.org/event/anchorage-democrats-monthly-meeting/
LOCATION:Zoom
CATEGORIES:Monthly Meeting
ORGANIZER;CN="Anchorage Democrats":MAILTO:info@anchoragedems.org
END:VEVENT
BEGIN:VEVENT
DTSTART;TZID=America/Anchorage:20230524T163000
DTEND;TZID=America/Anchorage:20230524T173000
DTSTAMP:20260421T014831
CREATED:20230508T224203Z
LAST-MODIFIED:20230508T224230Z
UID:4801-1684945800-1684949400@alaskademocrats.org
SUMMARY:Interior Democrats Monthly Meeting
DESCRIPTION:Join the Interior Democrats for their monthly business meeting – currently held online.\n\nZoom link:\n\nhttps://us02web.zoom.us/j/86593112797?pwd=Ky9GTDhaakJ6cnIyNXFaQnVBS1Axdz09\n\nMeeting ID: 865 9311 2797
URL:https://alaskademocrats.org/event/interior-democrats-monthly-meeting-2/
LOCATION:Zoom
ORGANIZER;CN="Interior Democrats":MAILTO:interiordems@gmail.com
END:VEVENT
BEGIN:VEVENT
DTSTART;TZID=America/Anchorage:20230531T163000
DTEND;TZID=America/Anchorage:20230531T173000
DTSTAMP:20260421T014831
CREATED:20230526T014456Z
LAST-MODIFIED:20230526T014456Z
UID:4836-1685550600-1685554200@alaskademocrats.org
SUMMARY:Notes from Juneau w/ Sen. Tobin and Rep. Schrage
DESCRIPTION:School funding\, trampling LGBTQ+ rights\, closing the budget gap?A budget was passed\, and the Alaska Legislature is adjourned for 2023.\n\n Senator Loki Tobin and Representative Calvin Schrage will recap what has happened in Juneau since we  last met with them. Bring your questions and your notebooks as they provide tasks for us to act on.\n\n \n\nRegister in advance for this meeting:\nhttps://us02web.zoom.us/meeting/register/tZ0rdeCopz0rGdEZbCPqz0LRYQ-notmSrUwm
URL:https://alaskademocrats.org/event/notes-from-juneau-w-sen-tobin-and-rep-schrage/
LOCATION:Zoom
CATEGORIES:Event
END:VEVENT
BEGIN:VEVENT
DTSTART;TZID=America/Anchorage:20230601T060000
DTEND;TZID=America/Anchorage:20230601T150000
DTSTAMP:20260421T014831
CREATED:20230508T230220Z
LAST-MODIFIED:20230508T230220Z
UID:4806-1685599200-1685631600@alaskademocrats.org
SUMMARY:Tongass Democrats Monthly Meeting
DESCRIPTION:Join the Tongass Democrats for their monthly meeting! Join in person or over Zoom.\n\nPlease email  tongassdemocrats@gmail.com in advance for Zoom information.
URL:https://alaskademocrats.org/event/tongass-democrats-monthly-meeting/
LOCATION:IBEW Hall\, 3333 Denali St #200\, Anchorage\, AK\, 99503\, United States
CATEGORIES:Monthly Meeting
ORGANIZER;CN="Tongass Democrats":MAILTO:tongassdemocrats@gmail.com
END:VEVENT
BEGIN:VEVENT
DTSTART;TZID=America/Anchorage:20230609T100000
DTEND;TZID=America/Anchorage:20230609T110000
DTSTAMP:20260421T014831
CREATED:20230209T202623Z
LAST-MODIFIED:20230209T202623Z
UID:2288-1686304800-1686308400@alaskademocrats.org
SUMMARY:Interior Democrats Fahrenkamp Lunch
DESCRIPTION:In honor of Sen. Bettye Fahrenkamp\, join us for a monthly lunch with a community speaker. Every 2nd Friday @ Noon on Zoom\n\nJoin via Zoom at this link\n\nLearn more on the Interior Democrats FaceBook Page
URL:https://alaskademocrats.org/event/interior-democrats-fahrenkamp-lunch-5/
END:VEVENT
BEGIN:VEVENT
DTSTART;TZID=America/Anchorage:20230609T183000
DTEND;TZID=America/Anchorage:20230609T203000
DTSTAMP:20260421T014831
CREATED:20230607T151005Z
LAST-MODIFIED:20230607T185901Z
UID:4901-1686335400-1686342600@alaskademocrats.org
SUMMARY:AKYD Happy Hour
DESCRIPTION:Join the Alaska Young Democrats for happy hour!
URL:https://alaskademocrats.org/event/akyd-happy-hour/
LOCATION:Zoom
ORGANIZER;CN="Alaska Young Democrats":MAILTO:youngdems49@gmail.com
END:VEVENT
BEGIN:VEVENT
DTSTART;TZID=America/Anchorage:20230610T130000
DTEND;TZID=America/Anchorage:20230610T143000
DTSTAMP:20260421T014831
CREATED:20230607T151206Z
LAST-MODIFIED:20230607T155740Z
UID:4903-1686402000-1686407400@alaskademocrats.org
SUMMARY:AKYD Monthly Meeting
DESCRIPTION:Register in advance for this meeting: https://us06web.zoom.us/meeting/register/tZYkf-GvqD4iEtDdZvUQ2lhpk5OaZN1Txwq0\nAfter registering\, you will receive a confirmation email containing information about joining the meeting.
URL:https://alaskademocrats.org/event/akyd-monthly-meeting/
LOCATION:Zoom
ORGANIZER;CN="Alaska Young Democrats":MAILTO:youngdems49@gmail.com
END:VEVENT
BEGIN:VEVENT
DTSTART;TZID=America/Anchorage:20230610T130000
DTEND;TZID=America/Anchorage:20230610T143000
DTSTAMP:20260421T014831
CREATED:20230607T154038Z
LAST-MODIFIED:20230607T183006Z
UID:4925-1686402000-1686407400@alaskademocrats.org
SUMMARY:AKYD Monthly Meeting
DESCRIPTION:Join the Alaska Young Democrats for their monthly meeting. You must register in advance for this meeting: https://us06web.zoom.us/meeting/register/tZYkf-GvqD4iEtDdZvUQ2lhpk5OaZN1Txwq0\n\n\nAfter registering\, you will receive a confirmation email containing information about joining the meeting.
URL:https://alaskademocrats.org/event/akyd-monthly-meeting-2/
LOCATION:Zoom
ORGANIZER;CN="Alaska Young Democrats":MAILTO:youngdems49@gmail.com
END:VEVENT
BEGIN:VEVENT
DTSTART;TZID=America/Anchorage:20230614T163000
DTEND;TZID=America/Anchorage:20230614T183000
DTSTAMP:20260421T014831
CREATED:20230607T151452Z
LAST-MODIFIED:20230607T155659Z
UID:4905-1686760200-1686767400@alaskademocrats.org
SUMMARY:Local Election Kickoff & Welcome Back Legislators
DESCRIPTION:Join the fun for the third annual Election Kickoff in the Ester Park. Welcome home your State Dems and meet local candidates for FNSB School Board and Assembly that support keeping our schools funded\, services strong and community thriving. There will be food to purchase from Suka’s Polynesian Cuisine\, and drinks from Goldies. Bring your friends\, pass the word and share the invite! We’d love to see you there
URL:https://alaskademocrats.org/event/local-election-kickoff-welcome-back-legislators/
LOCATION:Ester Community Park\, 3566 Old Nenana Hwy\, Fairbanks\, AK\, 99709\, United States
ORGANIZER;CN="Interior Democrats":MAILTO:interiordems@gmail.com
END:VEVENT
BEGIN:VEVENT
DTSTART;TZID=America/Anchorage:20230615T160000
DTEND;TZID=America/Anchorage:20230615T160000
DTSTAMP:20260421T014831
CREATED:20230605T154401Z
LAST-MODIFIED:20230607T152540Z
UID:4888-1686844800-1686844800@alaskademocrats.org
SUMMARY:Drinking Liberally with the Mat-Su Democrats
DESCRIPTION:Join the Mat-Su Dems and Friends at our monthly social hour. If you’re curious about who is advocating for progressive values in the Mat Su\, come join us for drinks and dinner. This is a chance to meet other like-minded folks in what can seem like a very red area of the state.
URL:https://alaskademocrats.org/event/drinking-liberally-with-the-mat-su-democrats-2/
LOCATION:Susitna Brewery\, 5120 S Big Lake Rd\, Big Lake
END:VEVENT
BEGIN:VEVENT
DTSTART;TZID=America/Anchorage:20230617T110000
DTEND;TZID=America/Anchorage:20230617T170000
DTSTAMP:20260421T014831
CREATED:20230607T152302Z
LAST-MODIFIED:20230607T153041Z
UID:4912-1686999600-1687021200@alaskademocrats.org
SUMMARY:Alaska Black Caucus Juneteenth Health Fair
DESCRIPTION:ABC is hosting their annual Juneteenth Celebration on the Park-Strip\, Friday through Saturday\, June 16th through June 17th.\n\nThe HEALTH FAIR portion will take place Saturday\, June 17th from 12-6 PM and the Alaska Black Caucus is excited to partner by overseeing the health fair portion.
URL:https://alaskademocrats.org/event/alaska-black-caucus-juneteenth-health-fair/
LOCATION:Delaney Park Strip\, W 9th Avenue\, Anchorage\, Alaska\, 99501
END:VEVENT
BEGIN:VEVENT
DTSTART;TZID=America/Anchorage:20230619T103000
DTEND;TZID=America/Anchorage:20230619T120000
DTSTAMP:20260421T014831
CREATED:20230607T153019Z
LAST-MODIFIED:20230607T155514Z
UID:4916-1687170600-1687176000@alaskademocrats.org
SUMMARY:Alaska Black Caucus Make it Monday Juneteenth Celebration
DESCRIPTION:In a nutshell\, the Alaska Black Caucus is extremely excited the Anchorage Assembly recently passed an ordinance to make Juneteenth and Indigenous Peoples Day Municipal paid holidays. We’re especially thankful and we’re celebrating by hosting a “Juneteenth Make It Monday Luncheon” in partnership with the Anchorage Chamber on Monday\, June 19th\, 11:30 AM at the Dena’ina Center.\n\nCelebrating Juneteenth as a community is especially important in light of the ongoing impacts of the events of the world\, nation\, and communities of color\, even right here in Anchorage. We’re asking organizations and businesses to join us in our effort to recognize the importance of this holiday by making it more than just a day off.\n\nJoin the Alaska Black Caucus as we reflect\, educate and celebrate by purchasing a table and filling it with individuals that can work with us to bring about change. Thank you in advance for standing in solidarity with us as we introduce you to our community and work with you to help make a difference for everyone in Anchorage.
URL:https://alaskademocrats.org/event/alaska-black-caucus-make-it-monday-juneteenth-celebration/
LOCATION:Dena’ina Center\, 600 W 7th Ave\, Anchorage\, AK\, 99501\, United States
END:VEVENT
BEGIN:VEVENT
DTSTART;TZID=America/Anchorage:20230622T163000
DTEND;TZID=America/Anchorage:20230622T180000
DTSTAMP:20260421T014831
CREATED:20230526T021415Z
LAST-MODIFIED:20230619T195302Z
UID:4856-1687451400-1687456800@alaskademocrats.org
SUMMARY:Interior Democrats Monthly Meeting
DESCRIPTION:Join the Interior Democrats for our monthly meeting!\nThe Interior Democrats are currently meeting online. \nMonthly Business Meetings: This meeting is an update on committee work\, upcoming events\, finances and the business matters of the organization.
URL:https://alaskademocrats.org/event/interior-democrats-monthly-meeting-5/
LOCATION:Zoom
CATEGORIES:Monthly Meeting
ORGANIZER;CN="Interior Democrats":MAILTO:interiordems@gmail.com
END:VEVENT
BEGIN:VEVENT
DTSTART;VALUE=DATE:20230622
DTEND;VALUE=DATE:20230625
DTSTAMP:20260421T014831
CREATED:20230620T164520Z
LAST-MODIFIED:20230620T180850Z
UID:5278-1687471200-1687643999@alaskademocrats.org
SUMMARY:COMMUNITY EVENT: Chugach Fest
DESCRIPTION:*This community event is not hosted by the AK Dems.
URL:https://alaskademocrats.org/event/community-event-chugach-fest/
LOCATION:Anchorage
END:VEVENT
BEGIN:VEVENT
DTSTART;VALUE=DATE:20230623
DTEND;VALUE=DATE:20230625
DTSTAMP:20260421T014831
CREATED:20230620T164814Z
LAST-MODIFIED:20230620T164943Z
UID:5281-1687557600-1687643999@alaskademocrats.org
SUMMARY:COMMUNITY EVENT: Midnight Sun Festival
DESCRIPTION:*This community event is not hosted by the AK Dems.
URL:https://alaskademocrats.org/event/community-event-midnight-sun-festival/
LOCATION:Fairbanks
END:VEVENT
BEGIN:VEVENT
DTSTART;VALUE=DATE:20230623
DTEND;VALUE=DATE:20230625
DTSTAMP:20260421T014831
CREATED:20230620T165120Z
LAST-MODIFIED:20230620T165120Z
UID:5285-1687557600-1687643999@alaskademocrats.org
SUMMARY:COMMUNITY EVENT: Anchorage Pride Parade and Festival
DESCRIPTION:*This community event is not hosted by the AK Dems.
URL:https://alaskademocrats.org/event/community-event-anchorage-pride-parade-and-festival/
LOCATION:Anchorage
END:VEVENT
BEGIN:VEVENT
DTSTART;VALUE=DATE:20230623
DTEND;VALUE=DATE:20230626
DTSTAMP:20260421T014831
CREATED:20230620T165257Z
LAST-MODIFIED:20230620T165257Z
UID:5287-1687557600-1687730399@alaskademocrats.org
SUMMARY:COMMUNITY EVENT: Scottish Highland Games
DESCRIPTION:*This community event is not hosted by the AK Dems.
URL:https://alaskademocrats.org/event/community-event-scottish-highland-games/
LOCATION:Palmer
END:VEVENT
END:VCALENDAR