BEGIN:VCALENDAR
VERSION:2.0
PRODID:-//Alaska Democrats - ECPv6.15.20//NONSGML v1.0//EN
CALSCALE:GREGORIAN
METHOD:PUBLISH
X-WR-CALNAME:Alaska Democrats
X-ORIGINAL-URL:https://alaskademocrats.org
X-WR-CALDESC:Events for Alaska Democrats
REFRESH-INTERVAL;VALUE=DURATION:PT1H
X-Robots-Tag:noindex
X-PUBLISHED-TTL:PT1H
BEGIN:VTIMEZONE
TZID:America/Anchorage
BEGIN:DAYLIGHT
TZOFFSETFROM:-0900
TZOFFSETTO:-0800
TZNAME:AKDT
DTSTART:20210314T110000
END:DAYLIGHT
BEGIN:STANDARD
TZOFFSETFROM:-0800
TZOFFSETTO:-0900
TZNAME:AKST
DTSTART:20211107T100000
END:STANDARD
BEGIN:DAYLIGHT
TZOFFSETFROM:-0900
TZOFFSETTO:-0800
TZNAME:AKDT
DTSTART:20220313T110000
END:DAYLIGHT
BEGIN:STANDARD
TZOFFSETFROM:-0800
TZOFFSETTO:-0900
TZNAME:AKST
DTSTART:20221106T100000
END:STANDARD
BEGIN:DAYLIGHT
TZOFFSETFROM:-0900
TZOFFSETTO:-0800
TZNAME:AKDT
DTSTART:20230312T110000
END:DAYLIGHT
BEGIN:STANDARD
TZOFFSETFROM:-0800
TZOFFSETTO:-0900
TZNAME:AKST
DTSTART:20231105T100000
END:STANDARD
BEGIN:DAYLIGHT
TZOFFSETFROM:-0900
TZOFFSETTO:-0800
TZNAME:AKDT
DTSTART:20240310T110000
END:DAYLIGHT
BEGIN:STANDARD
TZOFFSETFROM:-0800
TZOFFSETTO:-0900
TZNAME:AKST
DTSTART:20241103T100000
END:STANDARD
END:VTIMEZONE
BEGIN:VEVENT
DTSTART;TZID=America/Anchorage:20230111T163000
DTEND;TZID=America/Anchorage:20230111T173000
DTSTAMP:20260421T031831
CREATED:20230109T224421Z
LAST-MODIFIED:20230109T225040Z
UID:2256-1673454600-1673458200@alaskademocrats.org
SUMMARY:Juneau Town Hall with Senator Jesse Kiehl\, Representative Sara Hannan\, and Representative Andi Story
DESCRIPTION:Your legislators want to hear from their constituents! This is your opportunity to meet with our delegation in person prior to the start of the legislative session.\n\n 
URL:https://alaskademocrats.org/event/juneau-town-hall-with-senator-jesse-kiehl-representative-sara-hannan-and-representative-andi-story/
LOCATION:Dzantik’i Heeni Middle School Commons\, 1600 Renninger St\, Juneau\, Alaska\, 99801
ORGANIZER;CN="Tongass Democrats":MAILTO:tongassdemocrats@gmail.com
END:VEVENT
BEGIN:VEVENT
DTSTART;TZID=America/Anchorage:20221209T170000
DTEND;TZID=America/Anchorage:20221209T200000
DTSTAMP:20260421T031831
CREATED:20221110T173056Z
LAST-MODIFIED:20221118T004834Z
UID:2141-1670605200-1670616000@alaskademocrats.org
SUMMARY:ADP Annual Holiday Auction
DESCRIPTION:It’s BACK! The Alaska Democratic Party’s biggest event of the year\, our holiday auction\, is happening on December 9 at 6 PM at the Alaska Native Heritage Center in Anchorage!\n\nFunds raised at this event will support the Alaska Democratic Party’s activities to elect Democrats up and down the ticket and gear up for 2024! Seating is limited – get your tickets today at the special early bird price!
URL:https://alaskademocrats.org/event/adp-annual-holiday-auction/
LOCATION:Alaska Native Heritage Center\, 8800 Heritage Center Drive\, Anchorage\, 99504\, United States
CATEGORIES:Event
ORGANIZER;CN="Alaska Democratic Party":MAILTO:info@anchoragedems.org
END:VEVENT
BEGIN:VEVENT
DTSTART;TZID=America/Anchorage:20221203T100000
DTEND;TZID=America/Anchorage:20221203T110000
DTSTAMP:20260421T031831
CREATED:20221128T065422Z
LAST-MODIFIED:20221128T065422Z
UID:2224-1670061600-1670065200@alaskademocrats.org
SUMMARY:Interior Democrats Brunch Fundraiser with Dermot Cole
DESCRIPTION:The Interior Democrats are throwing a fundraiser with Fairbanks’ favorite author\, Dermot Cole! Ashley Carrick\, Maxine Dibert\, Scott Kawasaki\, and Grier Hopkins will also be in attendance. There will be silent auction tables and plenty of food!
URL:https://alaskademocrats.org/event/interior-democrats-brunch-fundraiser-with-dermot-cole/
LOCATION:IBEW Hall Fairbanks\, 2000 Airport Way\, Fairbanks
CATEGORIES:Fundraiser
ORGANIZER;CN="Interior Democrats":MAILTO:interiordems@gmail.com
END:VEVENT
BEGIN:VEVENT
DTSTART;TZID=America/Anchorage:20221111T110000
DTEND;TZID=America/Anchorage:20221111T120000
DTSTAMP:20260421T031831
CREATED:20221110T192747Z
LAST-MODIFIED:20221110T192747Z
UID:2149-1668164400-1668168000@alaskademocrats.org
SUMMARY:Interior Democrats of Alaska ZOOM Fahrenkamp Lunchtime Meeting
DESCRIPTION:The Interior Democrats invite you to a scheduled Zoom meeting.\n\nTopic: Interior Democrats Fahrenkamp Speaker Series presents an Election Day breakdown with Alex Hirsch and Nate Bauer! Click the Zoom link below!
URL:https://alaskademocrats.org/event/interior-democrats-of-alaska-zoom-fahrenkamp-lunchtime-meeting-2/
LOCATION:Zoom
CATEGORIES:Event,Monthly Meeting
ORGANIZER;CN="Interior Democrats":MAILTO:interiordems@gmail.com
END:VEVENT
BEGIN:VEVENT
DTSTART;TZID=America/Anchorage:20221027T160000
DTEND;TZID=America/Anchorage:20221027T170000
DTSTAMP:20260421T031831
CREATED:20221021T225157Z
LAST-MODIFIED:20221021T225157Z
UID:2082-1666886400-1666890000@alaskademocrats.org
SUMMARY:Statewide virtual fundraiser for Education Champion\, Maxine Dibert!
DESCRIPTION:Join community leaders and supporters of Alaska’s educators for a fundraiser to support one of our own\, Maxine Dibert for State House! Sign up at the link below!
URL:https://alaskademocrats.org/event/statewide-virtual-fundraiser-for-education-champion-maxine-dibert/
LOCATION:Zoom
CATEGORIES:Fundraiser
END:VEVENT
BEGIN:VEVENT
DTSTART;TZID=America/Anchorage:20221027T143000
DTEND;TZID=America/Anchorage:20221027T160000
DTSTAMP:20260421T031831
CREATED:20221024T173715Z
LAST-MODIFIED:20221024T173715Z
UID:2091-1666881000-1666886400@alaskademocrats.org
SUMMARY:Cordova Meet & Greet with Jessica Cook
DESCRIPTION:Please swing by the Reluctant Fisherman\, Thursday\, Oct 27th from 4:30-6:00 pm. Bring your questions\, and see how the EDUCATION POSITIVE team of Gara & Cook wants to help Alaskans. Learn what they want to bring to the table FOR Alaskans.
URL:https://alaskademocrats.org/event/cordova-meet-greet-with-jessica-cook/
LOCATION:The Reluctant Fisherman\, 407 Railroad Avenue\, Cordova\, Alaska
ORGANIZER;CN="Les Gara For Governor":MAILTO:les@lesgara.com
END:VEVENT
BEGIN:VEVENT
DTSTART;TZID=America/Anchorage:20221026T163000
DTEND;TZID=America/Anchorage:20221026T173000
DTSTAMP:20260421T031831
CREATED:20221019T213922Z
LAST-MODIFIED:20221019T214414Z
UID:2073-1666801800-1666805400@alaskademocrats.org
SUMMARY:Interior Democrats Monthly Meeting
DESCRIPTION:This meeting is an update on committee work\, upcoming events\, finances\, and the business matters of the organization.
URL:https://alaskademocrats.org/event/interior-democrats-monthly-meeting/
LOCATION:IBEW Hall Fairbanks\, 2000 Airport Way\, Fairbanks
CATEGORIES:Monthly Meeting
ORGANIZER;CN="Interior Democrats":MAILTO:interiordems@gmail.com
END:VEVENT
BEGIN:VEVENT
DTSTART;TZID=America/Anchorage:20221026T153000
DTEND;TZID=America/Anchorage:20221026T163000
DTSTAMP:20260421T031831
CREATED:20221021T173336Z
LAST-MODIFIED:20221021T173336Z
UID:2079-1666798200-1666801800@alaskademocrats.org
SUMMARY:Virtual Fundraiser for Scott Kawasaki
DESCRIPTION:Join Scott Kawasaki\, Princess Daazhraii Johnson\, Piper Perabo\, and other surprise guests on  Wednesday\, October 26\, for a statewide virtual fundraiser! Sign up at the link below!
URL:https://alaskademocrats.org/event/virtual-fundraiser-for-scott-kawasaki/
LOCATION:Zoom
CATEGORIES:Fundraiser
END:VEVENT
BEGIN:VEVENT
DTSTART;TZID=America/Anchorage:20221022T070000
DTEND;TZID=America/Anchorage:20221022T080000
DTSTAMP:20260421T031831
CREATED:20221019T214242Z
LAST-MODIFIED:20221019T214242Z
UID:2075-1666422000-1666425600@alaskademocrats.org
SUMMARY:Saturday Coffee Chat With Donna Mears: Education Funding
DESCRIPTION:Join Donna Mears at Cafecito Bonito this Saturday at 9 AM for Donna’s weekly Coffee Chat. The topic of conversation this week will be education funding and the proposed closing of Nunaka Valley Elementary and five other schools. Everyone is welcome to attend – Come share your thoughts and enjoy a great coffee or tea!
URL:https://alaskademocrats.org/event/saturday-coffee-chat-with-donna-mears-education-funding/
LOCATION:Cafecito Bonito\, 6307 Debarr Road\, Anchorage
END:VEVENT
BEGIN:VEVENT
DTSTART;TZID=America/Anchorage:20221019T160000
DTEND;TZID=America/Anchorage:20221019T170000
DTSTAMP:20260421T031831
CREATED:20221014T202908Z
LAST-MODIFIED:20221014T202908Z
UID:2052-1666195200-1666198800@alaskademocrats.org
SUMMARY:U.S. Senate Candidate Pat Chesbro's Birthday Fundraiser!
DESCRIPTION:On October 19 you can help Pat Chesbro inform voters about her candidacy for U.S. Senate by attending her virtual birthday fundraiser! The best birthday hat wins a prize! Register at the link below!
URL:https://alaskademocrats.org/event/u-s-senate-candidate-pat-chesbros-birthday-fundraiser/
LOCATION:Zoom
ORGANIZER;CN="Chesbro For Alaska":MAILTO:info@chesbroforalaska.com
END:VEVENT
BEGIN:VEVENT
DTSTART;TZID=America/Anchorage:20221018T153000
DTEND;TZID=America/Anchorage:20221018T170000
DTSTAMP:20260421T031831
CREATED:20221017T175237Z
LAST-MODIFIED:20221017T175237Z
UID:2055-1666107000-1666112400@alaskademocrats.org
SUMMARY:Help Elect Walter Featherly Fundraiser
DESCRIPTION:Join us for an event hosted by Tim and Kristina Woolston to help elect Walter Featherly to the Alaska State House.
URL:https://alaskademocrats.org/event/help-elect-walter-featherly-fundraiser/
LOCATION:16268 Noble Point Drive\, 16268 Noble Point Drive\, Anchorage\, Alaska
END:VEVENT
BEGIN:VEVENT
DTSTART;TZID=America/Anchorage:20221015T100000
DTEND;TZID=America/Anchorage:20221015T123000
DTSTAMP:20260421T031831
CREATED:20221012T181122Z
LAST-MODIFIED:20221012T181313Z
UID:2047-1665828000-1665837000@alaskademocrats.org
SUMMARY:Meet & Greet Fundraiser for Roselynn Cacy
DESCRIPTION:Join State Senate candidate Roselynn Cacy at Bombay South this Saturday 10/15 from 12:30 to 2:30. Let’s talk about Alaska and the issues that are important to us here in south Anchorage.
URL:https://alaskademocrats.org/event/meet-greet-fundraiser-for-roselynn-cacy/
LOCATION:Bombay South\, 1120 Huffman Road\, Suite 4\, Anchorage\, Alaska
END:VEVENT
BEGIN:VEVENT
DTSTART;TZID=America/Anchorage:20221014T100000
DTEND;TZID=America/Anchorage:20221014T110000
DTSTAMP:20260421T031831
CREATED:20221007T052336Z
LAST-MODIFIED:20221007T052336Z
UID:2024-1665741600-1665745200@alaskademocrats.org
SUMMARY:Interior Democrats Fahrenkamp Luncheon - Meet and Greet with the Interior Candidates
DESCRIPTION:Join the Interior Democrats for their online Fahrenkamp Luncheon and an opportunity to meet the Interior Candidates running for office!
URL:https://alaskademocrats.org/event/interior-democrats-fahrenkamp-luncheon-meet-and-greet-with-the-interior-candidates/
LOCATION:Zoom
ORGANIZER;CN="Interior Democrats":MAILTO:interiordems@gmail.com
END:VEVENT
BEGIN:VEVENT
DTSTART;TZID=America/Anchorage:20221013T153000
DTEND;TZID=America/Anchorage:20221013T173000
DTSTAMP:20260421T031831
CREATED:20221005T173428Z
LAST-MODIFIED:20221005T173428Z
UID:2016-1665675000-1665682200@alaskademocrats.org
SUMMARY:October Fundraiser for Caroline Storm
DESCRIPTION:Join us for an October Fundraiser to support Caroline Storm for State House hosted at the home of John Levy and Beth Rose. Light food and beverages provided. Masks encouraged.
URL:https://alaskademocrats.org/event/october-fundraiser-for-caroline-storm/
LOCATION:440 Oceanview Drive\, 440 Oceanview Drive\, Anchorage\, Alaska
END:VEVENT
BEGIN:VEVENT
DTSTART;TZID=America/Anchorage:20221013T153000
DTEND;TZID=America/Anchorage:20221013T170000
DTSTAMP:20260421T031831
CREATED:20221007T193702Z
LAST-MODIFIED:20221007T193728Z
UID:2029-1665675000-1665680400@alaskademocrats.org
SUMMARY:Ted Eischeid for Alaska Fundraiser with George Martinez
DESCRIPTION:Join State House candidate Ted Eischeid at the home of George Martinez on October 13 for a fundraiser in support of Ted’s candidacy!
URL:https://alaskademocrats.org/event/ted-eischeid-fundraiser-with-george-martinez/
LOCATION:6608 Mink Ave\, 6608 Mink Ave\, Anchorage\, Alaska\, 99504
END:VEVENT
BEGIN:VEVENT
DTSTART;TZID=America/Anchorage:20221010T153000
DTEND;TZID=America/Anchorage:20221010T163000
DTSTAMP:20260421T031831
CREATED:20221004T180515Z
LAST-MODIFIED:20221004T180521Z
UID:2010-1665415800-1665419400@alaskademocrats.org
SUMMARY:Statewide Virtual Fundraiser for Gara-Cook
DESCRIPTION:Help put Les Gara and Jessica Cook over the top! With more than 40 co-hosts\, you won’t want to miss this online event!
URL:https://alaskademocrats.org/event/statewide-virtual-fundraiser-for-gara-cook/
LOCATION:Zoom
CATEGORIES:Fundraiser
ORGANIZER;CN="Les Gara For Governor":MAILTO:les@lesgara.com
END:VEVENT
BEGIN:VEVENT
DTSTART;TZID=America/Anchorage:20221010T150000
DTEND;TZID=America/Anchorage:20221010T170000
DTSTAMP:20260421T031831
CREATED:20221007T051958Z
LAST-MODIFIED:20221007T051958Z
UID:2021-1665414000-1665421200@alaskademocrats.org
SUMMARY:Fundraiser for 4
DESCRIPTION:Join four candidates for Alaska State House as they fight to save the House Majority and protect progressive values in the Interior! We will be meeting on Monday\, October 10th from 5-7 pm at Salty’s on 2nd in Downtown Fairbanks. We hope to see you there! Can’t make it but want to support their campaigns? Donate by clicking the links below!\n\nGrier: https://www.grierhopkins.com/checkout/donate…\n\nAshley: https://secure.actblue.com/donate/ashleyforalaska\n\nVan: https://secure.actblue.com/donate/van-for-state-house-1/\n\nMaxine: https://secure.anedot.com/maxine/donate
URL:https://alaskademocrats.org/event/fundraiser-for-4/
LOCATION:Salty’s\, 706 2nd Ave\, Fairbanks\, Alaska
END:VEVENT
BEGIN:VEVENT
DTSTART;TZID=America/Anchorage:20221008T070000
DTEND;TZID=America/Anchorage:20221008T080000
DTSTAMP:20260421T031831
CREATED:20221001T223805Z
LAST-MODIFIED:20221001T223805Z
UID:1997-1665212400-1665216000@alaskademocrats.org
SUMMARY:Bill & Ted's EXCELLENT Meet and Greet
DESCRIPTION:Come out to Kava’s and meet Bill Wielechowski and Ted Eischeid!
URL:https://alaskademocrats.org/event/bill-teds-excellent-meet-and-greet/
LOCATION:Kava’s\, 100 Muldoon Road\, Anchorage\, Alaska
END:VEVENT
BEGIN:VEVENT
DTSTART;TZID=America/Anchorage:20221006T153000
DTEND;TZID=America/Anchorage:20221006T163000
DTSTAMP:20260421T031831
CREATED:20221004T175959Z
LAST-MODIFIED:20221004T180103Z
UID:2007-1665070200-1665073800@alaskademocrats.org
SUMMARY:Virtual Fundraiser for Calvin Schrage\, Grier Hopkins\, and Andy Josephson
DESCRIPTION:Join a fantastic list of co-hosts from across Alaska this Thursday in support of Calvin Schrage\, Grier Hopkins\, and Andy Josephson! With your support\, we can re-elect these three great legislators and protect the House Coalition. 
URL:https://alaskademocrats.org/event/virtual-fundraiser-for-calvin-schrage-grier-hopkins-and-andy-josephson/
LOCATION:Zoom
END:VEVENT
BEGIN:VEVENT
DTSTART;TZID=America/Anchorage:20221005T163000
DTEND;TZID=America/Anchorage:20221005T173000
DTSTAMP:20260421T031831
CREATED:20220929T182640Z
LAST-MODIFIED:20221003T210024Z
UID:1986-1664987400-1664991000@alaskademocrats.org
SUMMARY:Statewide Fundraiser for Pat Chesbro
DESCRIPTION:Join Pat Chesbro\, Democratic candidate for US Senate\, for a virtual statewide fundraiser.\n\n\nPat believes in sustainable economic development\, abortion access for all Alaskans\, protecting our environment for our children and grandchildren\, equal rights for all Alaskans\, and curbing senseless gun violence in our communities.\n\n\nPat will be there to talk about her campaign and why you should rank her #1 in November.\n\n\nRegister at the link below!
URL:https://alaskademocrats.org/event/statewide-fundraiser-for-pat-chesbro/
LOCATION:Zoom
CATEGORIES:Fundraiser
ORGANIZER;CN="Chesbro For Alaska":MAILTO:info@chesbroforalaska.com
END:VEVENT
BEGIN:VEVENT
DTSTART;TZID=America/Anchorage:20221005T153000
DTEND;TZID=America/Anchorage:20221005T160000
DTSTAMP:20260421T031831
CREATED:20220929T183446Z
LAST-MODIFIED:20220929T183519Z
UID:1989-1664983800-1664985600@alaskademocrats.org
SUMMARY:Zoom Fundraiser for Andrew Gray for State House
DESCRIPTION:A zoom fundraiser with amazing speakers: former Houston Mayor Annise Parker and Anchorage Assembly Chair Suzanne LaFrance! Register at the link below!
URL:https://alaskademocrats.org/event/zoom-fundraiser-for-andrew-gray-for-state-house/
LOCATION:Zoom
END:VEVENT
BEGIN:VEVENT
DTSTART;TZID=America/Anchorage:20221002T140000
DTEND;TZID=America/Anchorage:20221002T160000
DTSTAMP:20260421T031831
CREATED:20220926T225038Z
LAST-MODIFIED:20220926T225038Z
UID:1967-1664719200-1664726400@alaskademocrats.org
SUMMARY:OctoberFest Fundraiser For Les Gara & Jessica Cook
DESCRIPTION:Join the only pro-choice candidates in this race for an OctoberFest Fundraiser.\n\nGerman-inspired food & drinks including Sen. Bill Wielechowski’s award-winning home-brewed beer will be on hand!
URL:https://alaskademocrats.org/event/octoberfest-fundraiser-for-les-gara-jessica-cook/
LOCATION:7501 Hennings Way\, Anchorage\, 7501 Hennings Way\, Anchorage\, Anchorage\, Alaska\, 99504
ORGANIZER;CN="Les Gara For Governor":MAILTO:les@lesgara.com
END:VEVENT
BEGIN:VEVENT
DTSTART;TZID=America/Anchorage:20221001T140000
DTEND;TZID=America/Anchorage:20221001T160000
DTSTAMP:20260421T031831
CREATED:20220924T224537Z
LAST-MODIFIED:20220924T224537Z
UID:1958-1664632800-1664640000@alaskademocrats.org
SUMMARY:Homer Meet and Greet with Les & Jess
DESCRIPTION:What: Homer Meet and Greet with Les & Jess\n\nWhen: Saturday\, October 1st from 4 to 6 PM
URL:https://alaskademocrats.org/event/homer-meet-and-greet-with-les-jess/
LOCATION:53597 Easement Ave.\, 53597 Easement Ave.\, Homer\, Alaska\, 99603
CATEGORIES:Candidate Event
ORGANIZER;CN="Les Gara For Governor":MAILTO:les@lesgara.com
END:VEVENT
BEGIN:VEVENT
DTSTART;TZID=America/Anchorage:20220930T160000
DTEND;TZID=America/Anchorage:20220930T180000
DTSTAMP:20260421T031831
CREATED:20220926T205716Z
LAST-MODIFIED:20220926T205716Z
UID:1961-1664553600-1664560800@alaskademocrats.org
SUMMARY:Fundraiser for Genevieve Mina for State House
DESCRIPTION:You’re invited! Please join hosts Evelyn Abello and Christine Marasigan for a fundraiser to support Genevieve Mina for State House. This gathering is a special opportunity to support a young Filipino American candidate for State House\, and you won’t want to miss it!
URL:https://alaskademocrats.org/event/fundraiser-for-genevieve-mina-for-state-house/
LOCATION:920 R Street\, 920 R Street\, Anchorage\, Alaska\, 99501
END:VEVENT
BEGIN:VEVENT
DTSTART;TZID=America/Anchorage:20220929T160000
DTEND;TZID=America/Anchorage:20220929T170000
DTSTAMP:20260421T031831
CREATED:20220928T200743Z
LAST-MODIFIED:20220928T200743Z
UID:1980-1664467200-1664470800@alaskademocrats.org
SUMMARY:Virtual Fundraiser for Forrest Dunbar
DESCRIPTION:Help Forrest and his team finish the month of September strong by joining us for a statewide virtual fundraiser! Forrest is running to represent the newly created Senate District J\, and community leaders from across Alaska are lining up to support him.\n\nRegister for the event at the link below.
URL:https://alaskademocrats.org/event/virtual-fundraiser-for-forrest-dunbar/
LOCATION:Zoom
CATEGORIES:Fundraiser
END:VEVENT
BEGIN:VEVENT
DTSTART;TZID=America/Anchorage:20220928T180000
DTEND;TZID=America/Anchorage:20220928T180000
DTSTAMP:20260421T031831
CREATED:20220926T205932Z
LAST-MODIFIED:20220926T205932Z
UID:1965-1664388000-1664388000@alaskademocrats.org
SUMMARY:Virtual Phone Bank for Matt Claman
DESCRIPTION:Help us elect Matt Claman for State Senate by joining our weekly virtual phone banks!
URL:https://alaskademocrats.org/event/virtual-phone-bank-for-matt-claman/
LOCATION:Zoom
CATEGORIES:Candidate Event
END:VEVENT
BEGIN:VEVENT
DTSTART;TZID=America/Anchorage:20220928T173000
DTEND;TZID=America/Anchorage:20220928T173000
DTSTAMP:20260421T031831
CREATED:20220927T015817Z
LAST-MODIFIED:20220927T015817Z
UID:1969-1664386200-1664386200@alaskademocrats.org
SUMMARY:Mat-Su Fundraiser for Pat Chesbro
DESCRIPTION:Join Pat Chesbro\, Democratic candidate for US Senate\, at the Moonstone Farm Railcar Tasting Room. Pat will be there to talk about her campaign and why you should rank her #1 in November.
URL:https://alaskademocrats.org/event/mat-su-fundraiser-for-pat-chesbro/
LOCATION:Moonstone Farm\, 2141 S Church St\, Gateway\, Alaska\, 99645
CATEGORIES:Fundraiser
ORGANIZER;CN="Chesbro For Alaska":MAILTO:info@chesbroforalaska.com
END:VEVENT
BEGIN:VEVENT
DTSTART;TZID=America/Anchorage:20220928T163000
DTEND;TZID=America/Anchorage:20220928T183000
DTSTAMP:20260421T031831
CREATED:20220924T062606Z
LAST-MODIFIED:20220924T062606Z
UID:1947-1664382600-1664389800@alaskademocrats.org
SUMMARY:Interior Democrats - Rally Round the Candidates
DESCRIPTION:Last chance to get together with all our Municipal Candidates and help Get Out the Vote with a Chili Feed and\na great big show of support!
URL:https://alaskademocrats.org/event/interior-democrats-rally-round-the-candidates/
LOCATION:Interior Democrats HQ\, 510 Noble Street\, Fairbanks\, Alaska
CATEGORIES:Event
ORGANIZER;CN="Interior Democrats":MAILTO:interiordems@gmail.com
END:VEVENT
BEGIN:VEVENT
DTSTART;TZID=America/Anchorage:20220928T160000
DTEND;TZID=America/Anchorage:20220928T170000
DTSTAMP:20260421T031831
CREATED:20220924T172927Z
LAST-MODIFIED:20220924T172927Z
UID:1955-1664380800-1664384400@alaskademocrats.org
SUMMARY:Statewide Fundraiser for Cliff Groh
DESCRIPTION:Join a slew of fabulous co-hosts for a statewide virtual fundraiser on September 28th!
URL:https://alaskademocrats.org/event/statewide-fundraiser-for-cliff-groh/
LOCATION:Zoom
CATEGORIES:Fundraiser
END:VEVENT
BEGIN:VEVENT
DTSTART;TZID=America/Anchorage:20220926T153000
DTEND;TZID=America/Anchorage:20220926T173000
DTSTAMP:20260421T031831
CREATED:20220922T212200Z
LAST-MODIFIED:20220922T212200Z
UID:1936-1664206200-1664213400@alaskademocrats.org
SUMMARY:Hello\, Utqiagvik! Join Jessica Cook for Cookies & Coffee
DESCRIPTION:Join candidate for Alaska Lieutenant Governor\, Jessica Cook\, at a meet & greet in Utqiagvik!
URL:https://alaskademocrats.org/event/hello-utqiagvik-join-jessica-cook-for-cookies-coffee/
LOCATION:4725 Ahkovak Street\, 4725 Ahkovak Street\, Barrow\, Alaska
ORGANIZER;CN="Les Gara For Governor":MAILTO:les@lesgara.com
END:VEVENT
END:VCALENDAR