BEGIN:VCALENDAR
VERSION:2.0
PRODID:-//Alaska Democrats - ECPv6.15.20//NONSGML v1.0//EN
CALSCALE:GREGORIAN
METHOD:PUBLISH
X-ORIGINAL-URL:https://alaskademocrats.org
X-WR-CALDESC:Events for Alaska Democrats
REFRESH-INTERVAL;VALUE=DURATION:PT1H
X-Robots-Tag:noindex
X-PUBLISHED-TTL:PT1H
BEGIN:VTIMEZONE
TZID:America/Anchorage
BEGIN:DAYLIGHT
TZOFFSETFROM:-0900
TZOFFSETTO:-0800
TZNAME:AKDT
DTSTART:20250309T110000
END:DAYLIGHT
BEGIN:STANDARD
TZOFFSETFROM:-0800
TZOFFSETTO:-0900
TZNAME:AKST
DTSTART:20251102T100000
END:STANDARD
BEGIN:DAYLIGHT
TZOFFSETFROM:-0900
TZOFFSETTO:-0800
TZNAME:AKDT
DTSTART:20260308T110000
END:DAYLIGHT
BEGIN:STANDARD
TZOFFSETFROM:-0800
TZOFFSETTO:-0900
TZNAME:AKST
DTSTART:20261101T100000
END:STANDARD
BEGIN:DAYLIGHT
TZOFFSETFROM:-0900
TZOFFSETTO:-0800
TZNAME:AKDT
DTSTART:20270314T110000
END:DAYLIGHT
BEGIN:STANDARD
TZOFFSETFROM:-0800
TZOFFSETTO:-0900
TZNAME:AKST
DTSTART:20271107T100000
END:STANDARD
END:VTIMEZONE
BEGIN:VEVENT
DTSTART;TZID=America/Anchorage:20260407T070000
DTEND;TZID=America/Anchorage:20260407T083000
DTSTAMP:20260422T042854
CREATED:20260407T012414Z
LAST-MODIFIED:20260407T013208Z
UID:24046-1775545200-1775550600@alaskademocrats.org
SUMMARY:Wave Signs for Anna Brawley
DESCRIPTION:The election is over in a few days – and it’s time for a fun Anchorage tradition\, standing on the street corner waving signs! Sign waving alone doesn’t win elections\, but it shows strong support – and Anna needs you to show up Monday and Tuesday! Tuesday 4/7\, 7-8:30am: Benson & Minnesota (Carrs corner)We will get there a bit early\, and have coffee & snacks to wake you up!
URL:https://alaskademocrats.org/event/wave-signs-for-anna-brawley-2/
LOCATION:Benson And Minnesota\, 2903 Minnesota Dr\, Anchorage\, AK\, 99503-366\, United States
CATEGORIES:Candidate Event,Event
ATTACH;FMTTYPE=image/jpeg:https://alaskademocrats.org/wp-content/uploads/2026/04/663374004_930381779904514_7937907595211344588_n.jpg
END:VEVENT
BEGIN:VEVENT
DTSTART;TZID=America/Anchorage:20260407T163000
DTEND;TZID=America/Anchorage:20260407T180000
DTSTAMP:20260422T042854
CREATED:20260407T012849Z
LAST-MODIFIED:20260407T012849Z
UID:24049-1775579400-1775584800@alaskademocrats.org
SUMMARY:Wave Signs for Anna Brawley
DESCRIPTION:The election is over in a few days – and it’s time for a fun Anchorage tradition\, standing on the street corner waving signs!Sign waving alone doesn’t win elections\, but it shows strong support – and Anna needs you to show up Monday and Tuesday!Tuesday 4/7\, 4:30 pm to 6:00 pm: West Dimond\, by Siam Cuisine (north side of street)
URL:https://alaskademocrats.org/event/wave-signs-for-anna-brawley-3/
LOCATION:West Dimond\, by Siam Cuisine\, Siam Cuisine\, 1911 W Dimond Blvd\, Anchorage\, 99502\, United States
CATEGORIES:Candidate Event,Event
ATTACH;FMTTYPE=image/jpeg:https://alaskademocrats.org/wp-content/uploads/2026/04/660481588_930375556571803_5480540743710965464_n.jpg
END:VEVENT
BEGIN:VEVENT
DTSTART;TZID=America/Anchorage:20260407T173000
DTEND;TZID=America/Anchorage:20260407T193000
DTSTAMP:20260422T042854
CREATED:20260407T063853Z
LAST-MODIFIED:20260407T065410Z
UID:24055-1775583000-1775590200@alaskademocrats.org
SUMMARY:AK First Anchorage Volunteer Meeting
DESCRIPTION:Alaska First Coordinated Campaign\, in support of Mary Peltola\, is holding a volunteer meeting in Anchorage.  We need your help to reach your neighbors\, build momentum\, and win this race for the future of our state. This campaign is powered by regular Alaskans\, not big money or outside interests. But we can’t do it alone. We need your help to reach your neighbors\, build momentum\, and grow this movement.
URL:https://alaskademocrats.org/event/anchorage-volunteer-meeting/
LOCATION:Anchorage Public Library\, 3600 Denali St\, Anchorage\, AK\, 99503\, United States
CATEGORIES:Event
ATTACH;FMTTYPE=image/png:https://alaskademocrats.org/wp-content/uploads/2026/04/AlaskaFirst_Horizontal_-AnchorageVolunteerMeeting.png
END:VEVENT
BEGIN:VEVENT
DTSTART;TZID=America/Anchorage:20260407T180000
DTEND;TZID=America/Anchorage:20260407T190000
DTSTAMP:20260422T042854
CREATED:20260119T183842Z
LAST-MODIFIED:20260316T170858Z
UID:22741-1775584800-1775588400@alaskademocrats.org
SUMMARY:Virtual Listening Session with Matt Schultz
DESCRIPTION:Listening session hosted by Matt Schultz for Fairbanks. Attend the session via zoom:https://us06web.zoom.us/meeting/register/yJ5GUjOAS-2d99objJYSZw
URL:https://alaskademocrats.org/event/virtual-listening-session-with-matt-schultz-11/
CATEGORIES:Event
END:VEVENT
END:VCALENDAR