BEGIN:VCALENDAR
VERSION:2.0
PRODID:-//Alaska Democrats - ECPv6.15.20//NONSGML v1.0//EN
CALSCALE:GREGORIAN
METHOD:PUBLISH
X-WR-CALNAME:Alaska Democrats
X-ORIGINAL-URL:https://alaskademocrats.org
X-WR-CALDESC:Events for Alaska Democrats
REFRESH-INTERVAL;VALUE=DURATION:PT1H
X-Robots-Tag:noindex
X-PUBLISHED-TTL:PT1H
BEGIN:VTIMEZONE
TZID:America/Anchorage
BEGIN:DAYLIGHT
TZOFFSETFROM:-0900
TZOFFSETTO:-0800
TZNAME:AKDT
DTSTART:20250309T110000
END:DAYLIGHT
BEGIN:STANDARD
TZOFFSETFROM:-0800
TZOFFSETTO:-0900
TZNAME:AKST
DTSTART:20251102T100000
END:STANDARD
BEGIN:DAYLIGHT
TZOFFSETFROM:-0900
TZOFFSETTO:-0800
TZNAME:AKDT
DTSTART:20260308T110000
END:DAYLIGHT
BEGIN:STANDARD
TZOFFSETFROM:-0800
TZOFFSETTO:-0900
TZNAME:AKST
DTSTART:20261101T100000
END:STANDARD
BEGIN:DAYLIGHT
TZOFFSETFROM:-0900
TZOFFSETTO:-0800
TZNAME:AKDT
DTSTART:20270314T110000
END:DAYLIGHT
BEGIN:STANDARD
TZOFFSETFROM:-0800
TZOFFSETTO:-0900
TZNAME:AKST
DTSTART:20271107T100000
END:STANDARD
END:VTIMEZONE
BEGIN:VEVENT
DTSTART;TZID=America/Anchorage:20260308T160000
DTEND;TZID=America/Anchorage:20260308T160000
DTSTAMP:20260421T002120
CREATED:20260302T202233Z
LAST-MODIFIED:20260302T202233Z
UID:23194-1772985600-1772985600@alaskademocrats.org
SUMMARY:Gulf Coast Democrats Meeting
DESCRIPTION:The Gulf Coast Democrats (regional organization) will be having elections for their chair\, vice chair\, secretary\, & treasurer on Sunday\, March 8th at 4:00pm over Zoom.  We have 4 people who are willing to fill these roles\, but anyone (who is a registered Democrat) can run for these positions.  If you are interested in running or voting\, come to the meeting on March 8th.   Here’s the Zoom link: https://us02web.zoom.us/j/81645977011?pwd=LZ5ryoOr9zFQB3BnvDk2FLolUckn2D.1
URL:https://alaskademocrats.org/event/gulf-coast-democrats-meeting/
CATEGORIES:Event
ORGANIZER;CN="Gulf Coast Democrats":MAILTO:northgulfakdems@gmail.com
END:VEVENT
END:VCALENDAR