BEGIN:VCALENDAR
VERSION:2.0
PRODID:-//Alaska Democrats - ECPv6.15.20//NONSGML v1.0//EN
CALSCALE:GREGORIAN
METHOD:PUBLISH
X-WR-CALNAME:Alaska Democrats
X-ORIGINAL-URL:https://alaskademocrats.org
X-WR-CALDESC:Events for Alaska Democrats
REFRESH-INTERVAL;VALUE=DURATION:PT1H
X-Robots-Tag:noindex
X-PUBLISHED-TTL:PT1H
BEGIN:VTIMEZONE
TZID:America/Anchorage
BEGIN:DAYLIGHT
TZOFFSETFROM:-0900
TZOFFSETTO:-0800
TZNAME:AKDT
DTSTART:20230312T110000
END:DAYLIGHT
BEGIN:STANDARD
TZOFFSETFROM:-0800
TZOFFSETTO:-0900
TZNAME:AKST
DTSTART:20231105T100000
END:STANDARD
BEGIN:DAYLIGHT
TZOFFSETFROM:-0900
TZOFFSETTO:-0800
TZNAME:AKDT
DTSTART:20240310T110000
END:DAYLIGHT
BEGIN:STANDARD
TZOFFSETFROM:-0800
TZOFFSETTO:-0900
TZNAME:AKST
DTSTART:20241103T100000
END:STANDARD
BEGIN:DAYLIGHT
TZOFFSETFROM:-0900
TZOFFSETTO:-0800
TZNAME:AKDT
DTSTART:20250309T110000
END:DAYLIGHT
BEGIN:STANDARD
TZOFFSETFROM:-0800
TZOFFSETTO:-0900
TZNAME:AKST
DTSTART:20251102T100000
END:STANDARD
END:VTIMEZONE
BEGIN:VEVENT
DTSTART;TZID=America/Anchorage:20240916T180000
DTEND;TZID=America/Anchorage:20240916T200000
DTSTAMP:20260423T182821
CREATED:20240916T230939Z
LAST-MODIFIED:20240916T230939Z
UID:13075-1726509600-1726516800@alaskademocrats.org
SUMMARY:Virtual Fundraiser to Re-Elect Young Dems!
DESCRIPTION:Join your elected Alaska Young Democrats who are currently serving in the Alaska State House and are running for re-election for a statewide virtual fundraiser. During the 33rd Legislature\, Representatives Ashley Carrick (Fairbanks)\, CJ McCormick (Bethel)\, and Genevieve Mina (Anchorage) worked hard advancing the priorities of ALL Alaskans\, young and old. They are running for re-election and need your support.Register here before the event for the Zoom link: https://us06web.zoom.us/meeting/register/upYqdOypqTkpEt346wI1uswwo8e09XIQNv49?fbclid=IwY2xjawFVluVleHRuA2FlbQIxMAABHV6sk-0lCThXa5A6bS7pV2hT_KMjTlZDUWS0IgTe_b3bBU-l3HK3JaHKUw_aem_-Q7mBRP3CLwd6CAoUZ7_vw#/registrationDonate to Genevieve Mina: https://secure.anedot.com/genevieve/youngdemsDonate to Ashley Carrick: https://secure.actblue.com/donate/ashleyforalaskaDonate to CJ McCormick: https://secure.actblue.com/donate/cjmccormickd38
URL:https://alaskademocrats.org/event/virtual-fundraiser-to-re-elect-young-dems/
LOCATION:Zoom
CATEGORIES:Fundraiser
END:VEVENT
END:VCALENDAR