BEGIN:VCALENDAR
VERSION:2.0
PRODID:-//Alaska Democrats - ECPv6.15.20//NONSGML v1.0//EN
CALSCALE:GREGORIAN
METHOD:PUBLISH
X-WR-CALNAME:Alaska Democrats
X-ORIGINAL-URL:https://alaskademocrats.org
X-WR-CALDESC:Events for Alaska Democrats
REFRESH-INTERVAL;VALUE=DURATION:PT1H
X-Robots-Tag:noindex
X-PUBLISHED-TTL:PT1H
BEGIN:VTIMEZONE
TZID:America/Anchorage
BEGIN:DAYLIGHT
TZOFFSETFROM:-0900
TZOFFSETTO:-0800
TZNAME:AKDT
DTSTART:20230312T110000
END:DAYLIGHT
BEGIN:STANDARD
TZOFFSETFROM:-0800
TZOFFSETTO:-0900
TZNAME:AKST
DTSTART:20231105T100000
END:STANDARD
BEGIN:DAYLIGHT
TZOFFSETFROM:-0900
TZOFFSETTO:-0800
TZNAME:AKDT
DTSTART:20240310T110000
END:DAYLIGHT
BEGIN:STANDARD
TZOFFSETFROM:-0800
TZOFFSETTO:-0900
TZNAME:AKST
DTSTART:20241103T100000
END:STANDARD
BEGIN:DAYLIGHT
TZOFFSETFROM:-0900
TZOFFSETTO:-0800
TZNAME:AKDT
DTSTART:20250309T110000
END:DAYLIGHT
BEGIN:STANDARD
TZOFFSETFROM:-0800
TZOFFSETTO:-0900
TZNAME:AKST
DTSTART:20251102T100000
END:STANDARD
END:VTIMEZONE
BEGIN:VEVENT
DTSTART;TZID=America/Anchorage:20240803T130000
DTEND;TZID=America/Anchorage:20240803T150000
DTSTAMP:20260421T142405
CREATED:20240723T160257Z
LAST-MODIFIED:20240801T034052Z
UID:11311-1722690000-1722697200@alaskademocrats.org
SUMMARY:Zoom Fundraiser with CJ McCormick and Robyn Burke
DESCRIPTION: Join two great candidates for rural Alaska on Zoom for an online fundraiser! https://us06web.zoom.us/j/82492186470?pwd=0qscbukLDKXpGULYgcBaBgwSf5IDrW.1If you are unable to attend but would like to donate to their campaigns\, you can do so here: CJ McCormick for House District 38: https://secure.actblue.com/donate/cjmccormickd38 Robyn Burke for House District 40: https://secure.anedot.com/robyn-burke/8-3vr_frThank you to our amazing cohosts:Rep. Andrew Gray\, Rep. Maxine Dibert\, Rep. Genevieve Mina\, Rep. Calvin Schrage\, Rep. Donna Mears\, Rep. Ashley Carrick\, Rep. Bryce Edgmon\, Rep. Zack Fields\, Erik Gunderson\, Sophie Swope\, Remington Purnell\,Anna Hutchinson\, Scott Kendall\, Scott Maxwell\, Stuart Relay\, Kevin Groh\, Katy Giorgio\, Shannon Mason\, Josh Smith\, Kim Hays\, David Song\, Wigi Tozzi\, Lynette Pham\, Ted Eischeid\, Cameron Ebersold\, Elstun Lauesen\, Ron Meehan\, Kim King Jones\, Janice Park\, Camilla Hussein\, Andy Holleman\, Patrick FitzGerald\, Carl Jacobs\, James Metcalfe\, Sarah Sledge\, Kelly Lessens\, Anna Brawley\, Hollis French\, Joelle Hall\, Jacqui Lambert\, Austen Suluŋaq Erickson\, Jake Calderwood\, Kay Brown\, Frieda Tiġiġluk Nageak\, Jonathan Kreiss-Tomkins\, Justina Wilhelm\, Bronson Frye\, Tom Begich\, Ky Holland\, Brandon Putuuqti Kowalski\, and Deborah Bonito.Paid for by Robyn Burke for House District 40\, PO Box 1557\, Utqiagvik\, AK 99723Paid for by CJ McCormick for House 38\, PO Box 150 Bethel\, AK 99559
URL:https://alaskademocrats.org/event/virtual-fundraiser-for-cj-mccormick-robyn-burke/
CATEGORIES:Fundraiser
ORGANIZER;CN="Alaska Democratic Party":MAILTO:info@anchoragedems.org
END:VEVENT
END:VCALENDAR