BEGIN:VCALENDAR
VERSION:2.0
PRODID:-//Alaska Democrats - ECPv6.15.20//NONSGML v1.0//EN
CALSCALE:GREGORIAN
METHOD:PUBLISH
X-WR-CALNAME:Alaska Democrats
X-ORIGINAL-URL:https://alaskademocrats.org
X-WR-CALDESC:Events for Alaska Democrats
REFRESH-INTERVAL;VALUE=DURATION:PT1H
X-Robots-Tag:noindex
X-PUBLISHED-TTL:PT1H
BEGIN:VTIMEZONE
TZID:America/Anchorage
BEGIN:DAYLIGHT
TZOFFSETFROM:-0900
TZOFFSETTO:-0800
TZNAME:AKDT
DTSTART:20230312T110000
END:DAYLIGHT
BEGIN:STANDARD
TZOFFSETFROM:-0800
TZOFFSETTO:-0900
TZNAME:AKST
DTSTART:20231105T100000
END:STANDARD
BEGIN:DAYLIGHT
TZOFFSETFROM:-0900
TZOFFSETTO:-0800
TZNAME:AKDT
DTSTART:20240310T110000
END:DAYLIGHT
BEGIN:STANDARD
TZOFFSETFROM:-0800
TZOFFSETTO:-0900
TZNAME:AKST
DTSTART:20241103T100000
END:STANDARD
BEGIN:DAYLIGHT
TZOFFSETFROM:-0900
TZOFFSETTO:-0800
TZNAME:AKDT
DTSTART:20250309T110000
END:DAYLIGHT
BEGIN:STANDARD
TZOFFSETFROM:-0800
TZOFFSETTO:-0900
TZNAME:AKST
DTSTART:20251102T100000
END:STANDARD
END:VTIMEZONE
BEGIN:VEVENT
DTSTART;TZID=America/Anchorage:20241001T163000
DTEND;TZID=America/Anchorage:20241001T190000
DTSTAMP:20260421T112050
CREATED:20240930T203844Z
LAST-MODIFIED:20240930T203844Z
UID:13626-1727800200-1727809200@alaskademocrats.org
SUMMARY:Vice Presidential Debate Watch Party with Interior Democrats
DESCRIPTION:Come watch the vice presidential debate with the Interior Democrats at The Cabin!Debate starts at 5 PM AKDT\, doors open at 4:30 PM. All are invited! Be there or be square.RSVP here: https://www.facebook.com/share/KH6iN8wmXeh6z3Q5/
URL:https://alaskademocrats.org/event/vice-presidential-debate-watch-party-with-interior-democrats/
LOCATION:The Cabin\, 901 Old Steese Hwy\, Fairbanks\, AK\, 99701\, United States
CATEGORIES:Event
ORGANIZER;CN="Interior Democrats":MAILTO:interiordems@gmail.com
END:VEVENT
END:VCALENDAR