BEGIN:VCALENDAR
VERSION:2.0
PRODID:-//Alaska Democrats - ECPv6.15.20//NONSGML v1.0//EN
CALSCALE:GREGORIAN
METHOD:PUBLISH
X-WR-CALNAME:Alaska Democrats
X-ORIGINAL-URL:https://alaskademocrats.org
X-WR-CALDESC:Events for Alaska Democrats
REFRESH-INTERVAL;VALUE=DURATION:PT1H
X-Robots-Tag:noindex
X-PUBLISHED-TTL:PT1H
BEGIN:VTIMEZONE
TZID:America/Anchorage
BEGIN:DAYLIGHT
TZOFFSETFROM:-0900
TZOFFSETTO:-0800
TZNAME:AKDT
DTSTART:20220313T110000
END:DAYLIGHT
BEGIN:STANDARD
TZOFFSETFROM:-0800
TZOFFSETTO:-0900
TZNAME:AKST
DTSTART:20221106T100000
END:STANDARD
BEGIN:DAYLIGHT
TZOFFSETFROM:-0900
TZOFFSETTO:-0800
TZNAME:AKDT
DTSTART:20230312T110000
END:DAYLIGHT
BEGIN:STANDARD
TZOFFSETFROM:-0800
TZOFFSETTO:-0900
TZNAME:AKST
DTSTART:20231105T100000
END:STANDARD
BEGIN:DAYLIGHT
TZOFFSETFROM:-0900
TZOFFSETTO:-0800
TZNAME:AKDT
DTSTART:20240310T110000
END:DAYLIGHT
BEGIN:STANDARD
TZOFFSETFROM:-0800
TZOFFSETTO:-0900
TZNAME:AKST
DTSTART:20241103T100000
END:STANDARD
END:VTIMEZONE
BEGIN:VEVENT
DTSTART;TZID=America/Anchorage:20230917T100000
DTEND;TZID=America/Anchorage:20230917T140000
DTSTAMP:20260421T083810
CREATED:20230915T231514Z
LAST-MODIFIED:20230915T231514Z
UID:5816-1694944800-1694959200@alaskademocrats.org
SUMMARY:Tuck Campaign HQ Grand Opening!
DESCRIPTION:Join Chris Tuck at his new campaign HQ! This is a family-friendly event – Everyone is invited! We’ll have food and drinks\, other snacks\, a play area for young kids\, and lots more! Parking is available in front of our office\, and in the lot to the south of our building.
URL:https://alaskademocrats.org/event/tuck-campaign-hq-grand-opening/
LOCATION:Tuck HQ\, 6140 Old Seward Highway\,\, Anchorage\, AK\, 99518\, United States
CATEGORIES:Candidate Event
END:VEVENT
END:VCALENDAR