BEGIN:VCALENDAR
VERSION:2.0
PRODID:-//Alaska Democrats - ECPv6.15.20//NONSGML v1.0//EN
CALSCALE:GREGORIAN
METHOD:PUBLISH
X-WR-CALNAME:Alaska Democrats
X-ORIGINAL-URL:https://alaskademocrats.org
X-WR-CALDESC:Events for Alaska Democrats
REFRESH-INTERVAL;VALUE=DURATION:PT1H
X-Robots-Tag:noindex
X-PUBLISHED-TTL:PT1H
BEGIN:VTIMEZONE
TZID:America/Anchorage
BEGIN:DAYLIGHT
TZOFFSETFROM:-0900
TZOFFSETTO:-0800
TZNAME:AKDT
DTSTART:20240310T110000
END:DAYLIGHT
BEGIN:STANDARD
TZOFFSETFROM:-0800
TZOFFSETTO:-0900
TZNAME:AKST
DTSTART:20241103T100000
END:STANDARD
BEGIN:DAYLIGHT
TZOFFSETFROM:-0900
TZOFFSETTO:-0800
TZNAME:AKDT
DTSTART:20250309T110000
END:DAYLIGHT
BEGIN:STANDARD
TZOFFSETFROM:-0800
TZOFFSETTO:-0900
TZNAME:AKST
DTSTART:20251102T100000
END:STANDARD
BEGIN:DAYLIGHT
TZOFFSETFROM:-0900
TZOFFSETTO:-0800
TZNAME:AKDT
DTSTART:20260308T110000
END:DAYLIGHT
BEGIN:STANDARD
TZOFFSETFROM:-0800
TZOFFSETTO:-0900
TZNAME:AKST
DTSTART:20261101T100000
END:STANDARD
END:VTIMEZONE
BEGIN:VEVENT
DTSTART;TZID=America/Anchorage:20250702T173000
DTEND;TZID=America/Anchorage:20250702T183000
DTSTAMP:20260421T033555
CREATED:20250627T223944Z
LAST-MODIFIED:20250702T223434Z
UID:19162-1751477400-1751481000@alaskademocrats.org
SUMMARY:People's Town Hall: Alaska Democratic Party
DESCRIPTION:Alaska’s federal delegation are failing Alaska. The “Big Beautiful Bill” is inching one step closer to Trump’s desk. If Rep. Nick Begich doesn’t act now\, many Alaskans will be at risk of losing their access to health care and food assistance. The time for action is now. If the delegation refuses to hear our voices\, we will raise them in unison. This is about more than politics – this is about defending our way of life. ➡️ It’s time to take a stand. Join us\, our panel of State Legislators\, and special guest\, U.S. Sen. Reuben Gallego\, at our emergency town hall TODAY\, July 2nd\, from 5:30 PM – 6:30 PM.Register for the webinar here.
URL:https://alaskademocrats.org/event/town-hall/
LOCATION:Zoom
CATEGORIES:Event
ORGANIZER;CN="Alaska Democratic Party":MAILTO:info@anchoragedems.org
END:VEVENT
END:VCALENDAR