BEGIN:VCALENDAR
VERSION:2.0
PRODID:-//Alaska Democrats - ECPv6.15.20//NONSGML v1.0//EN
CALSCALE:GREGORIAN
METHOD:PUBLISH
X-WR-CALNAME:Alaska Democrats
X-ORIGINAL-URL:https://alaskademocrats.org
X-WR-CALDESC:Events for Alaska Democrats
REFRESH-INTERVAL;VALUE=DURATION:PT1H
X-Robots-Tag:noindex
X-PUBLISHED-TTL:PT1H
BEGIN:VTIMEZONE
TZID:America/Anchorage
BEGIN:DAYLIGHT
TZOFFSETFROM:-0900
TZOFFSETTO:-0800
TZNAME:AKDT
DTSTART:20230312T110000
END:DAYLIGHT
BEGIN:STANDARD
TZOFFSETFROM:-0800
TZOFFSETTO:-0900
TZNAME:AKST
DTSTART:20231105T100000
END:STANDARD
BEGIN:DAYLIGHT
TZOFFSETFROM:-0900
TZOFFSETTO:-0800
TZNAME:AKDT
DTSTART:20240310T110000
END:DAYLIGHT
BEGIN:STANDARD
TZOFFSETFROM:-0800
TZOFFSETTO:-0900
TZNAME:AKST
DTSTART:20241103T100000
END:STANDARD
BEGIN:DAYLIGHT
TZOFFSETFROM:-0900
TZOFFSETTO:-0800
TZNAME:AKDT
DTSTART:20250309T110000
END:DAYLIGHT
BEGIN:STANDARD
TZOFFSETFROM:-0800
TZOFFSETTO:-0900
TZNAME:AKST
DTSTART:20251102T100000
END:STANDARD
END:VTIMEZONE
BEGIN:VEVENT
DTSTART;TZID=America/Anchorage:20240716T150000
DTEND;TZID=America/Anchorage:20240716T170000
DTSTAMP:20260421T045854
CREATED:20240708T153932Z
LAST-MODIFIED:20240708T153932Z
UID:9097-1721142000-1721149200@alaskademocrats.org
SUMMARY:Support the West Anchorage Democrats - Claman\, Wells\, and Hall
DESCRIPTION:Fundraiser to Support Democratic Candidates for West AnchorageEvent Description: Join us for an evening of community and conversation as we support three Democratic candidates running to represent West Anchorage in the state legislature! Your presence and support are crucial to electing leaders who can make real positive change and establish a bipartisan\, veto-proof majority.Candidates:Matt Claman – Current Senator for District HDenny Wells – Candidate for House District 15Carolyn Hall – Candidate for House District 16Event Details: 📅 Date: Tuesday\, July 16th🕔 Time: 5:00 PM – 7:00 PM🏡 Location: Home of Barbara Norton and Bradley Cruz📍 Address: 1964 Loussac Dr\, Anchorage\, AKJoin us to meet the candidates\, learn about their platforms\, and show your support for a brighter future for West Anchorage. Together\, we can make a difference!Can’t make it\, please consider donating online:Matt Claman:https://www.mattclaman.com/donateDenny Wellshttps://secure.actblue.com/…/dennywellsforalaska-2024…Carolyn Hallhttps://secure.actblue.com/donate/carolyn-for-alaska-1
URL:https://alaskademocrats.org/event/support-the-west-anchorage-democrats-claman-wells-and-hall/
LOCATION:1964 Loussac Dr\, Anchorage\, AK 99517
ORGANIZER;CN="Alaska Democratic Party":MAILTO:info@anchoragedems.org
END:VEVENT
END:VCALENDAR