BEGIN:VCALENDAR
VERSION:2.0
PRODID:-//Alaska Democrats - ECPv6.15.20//NONSGML v1.0//EN
CALSCALE:GREGORIAN
METHOD:PUBLISH
X-WR-CALNAME:Alaska Democrats
X-ORIGINAL-URL:https://alaskademocrats.org
X-WR-CALDESC:Events for Alaska Democrats
REFRESH-INTERVAL;VALUE=DURATION:PT1H
X-Robots-Tag:noindex
X-PUBLISHED-TTL:PT1H
BEGIN:VTIMEZONE
TZID:America/Anchorage
BEGIN:DAYLIGHT
TZOFFSETFROM:-0900
TZOFFSETTO:-0800
TZNAME:AKDT
DTSTART:20240310T110000
END:DAYLIGHT
BEGIN:STANDARD
TZOFFSETFROM:-0800
TZOFFSETTO:-0900
TZNAME:AKST
DTSTART:20241103T100000
END:STANDARD
BEGIN:DAYLIGHT
TZOFFSETFROM:-0900
TZOFFSETTO:-0800
TZNAME:AKDT
DTSTART:20250309T110000
END:DAYLIGHT
BEGIN:STANDARD
TZOFFSETFROM:-0800
TZOFFSETTO:-0900
TZNAME:AKST
DTSTART:20251102T100000
END:STANDARD
BEGIN:DAYLIGHT
TZOFFSETFROM:-0900
TZOFFSETTO:-0800
TZNAME:AKDT
DTSTART:20260308T110000
END:DAYLIGHT
BEGIN:STANDARD
TZOFFSETFROM:-0800
TZOFFSETTO:-0900
TZNAME:AKST
DTSTART:20261101T100000
END:STANDARD
END:VTIMEZONE
BEGIN:VEVENT
DTSTART;TZID=America/Anchorage:20250710T173000
DTEND;TZID=America/Anchorage:20250710T193000
DTSTAMP:20260421T031624
CREATED:20250710T004848Z
LAST-MODIFIED:20250710T004848Z
UID:19215-1752168600-1752175800@alaskademocrats.org
SUMMARY:Summer Re-election Fundraiser for Donna Mears
DESCRIPTION:Please join Donna Mears and host\, Rachel Morse\, for a re-election campaign fundraiser.Co-hosts include: Senator Bill Wielechowski\, Representative Ted Eischeid\, Representative Andrew Gray\, Representative Genevieve Mina\, Assembly member George Martinez\, Assembly Member Yarrow Silvers\, ASD School Board President Carl Jacobs\, Kevin Groh\, Daniel Clift\, James K Brown III\, Nelta Edwards\, Tyler Watson\, Mark Wiggin\, Sam Cason\, and Donovan Russoniello.Donna is representing her South Muldoon House district in the Alaska State Legislature and is looking forward to continuing the work for her neighbors in the district and across the state. She is a consistent supporter of public education\, workforce development\, and as co-chair of the House Energy Committee she is committed to long-term solutions for Alaskan energy throughout the state.RSVP HERE.
URL:https://alaskademocrats.org/event/summer-re-election-fundraiser-for-donna-mears/
LOCATION:3312 Robin Street\, 3312 Robin Street\, Anchorage\, AK\, 99504\, United States
CATEGORIES:Candidate Event
END:VEVENT
END:VCALENDAR