BEGIN:VCALENDAR
VERSION:2.0
PRODID:-//Alaska Democrats - ECPv6.15.20//NONSGML v1.0//EN
CALSCALE:GREGORIAN
METHOD:PUBLISH
X-WR-CALNAME:Alaska Democrats
X-ORIGINAL-URL:https://alaskademocrats.org
X-WR-CALDESC:Events for Alaska Democrats
REFRESH-INTERVAL;VALUE=DURATION:PT1H
X-Robots-Tag:noindex
X-PUBLISHED-TTL:PT1H
BEGIN:VTIMEZONE
TZID:America/Anchorage
BEGIN:DAYLIGHT
TZOFFSETFROM:-0900
TZOFFSETTO:-0800
TZNAME:AKDT
DTSTART:20210314T110000
END:DAYLIGHT
BEGIN:STANDARD
TZOFFSETFROM:-0800
TZOFFSETTO:-0900
TZNAME:AKST
DTSTART:20211107T100000
END:STANDARD
BEGIN:DAYLIGHT
TZOFFSETFROM:-0900
TZOFFSETTO:-0800
TZNAME:AKDT
DTSTART:20220313T110000
END:DAYLIGHT
BEGIN:STANDARD
TZOFFSETFROM:-0800
TZOFFSETTO:-0900
TZNAME:AKST
DTSTART:20221106T100000
END:STANDARD
BEGIN:DAYLIGHT
TZOFFSETFROM:-0900
TZOFFSETTO:-0800
TZNAME:AKDT
DTSTART:20230312T110000
END:DAYLIGHT
BEGIN:STANDARD
TZOFFSETFROM:-0800
TZOFFSETTO:-0900
TZNAME:AKST
DTSTART:20231105T100000
END:STANDARD
END:VTIMEZONE
BEGIN:VEVENT
DTSTART;TZID=America/Anchorage:20221005T163000
DTEND;TZID=America/Anchorage:20221005T173000
DTSTAMP:20260420T202436
CREATED:20220929T182640Z
LAST-MODIFIED:20221003T210024Z
UID:1986-1664987400-1664991000@alaskademocrats.org
SUMMARY:Statewide Fundraiser for Pat Chesbro
DESCRIPTION:Join Pat Chesbro\, Democratic candidate for US Senate\, for a virtual statewide fundraiser.\n\n\nPat believes in sustainable economic development\, abortion access for all Alaskans\, protecting our environment for our children and grandchildren\, equal rights for all Alaskans\, and curbing senseless gun violence in our communities.\n\n\nPat will be there to talk about her campaign and why you should rank her #1 in November.\n\n\nRegister at the link below!
URL:https://alaskademocrats.org/event/statewide-fundraiser-for-pat-chesbro/
LOCATION:Zoom
CATEGORIES:Fundraiser
ORGANIZER;CN="Chesbro For Alaska":MAILTO:info@chesbroforalaska.com
END:VEVENT
END:VCALENDAR