BEGIN:VCALENDAR
VERSION:2.0
PRODID:-//Alaska Democrats - ECPv6.15.20//NONSGML v1.0//EN
CALSCALE:GREGORIAN
METHOD:PUBLISH
X-WR-CALNAME:Alaska Democrats
X-ORIGINAL-URL:https://alaskademocrats.org
X-WR-CALDESC:Events for Alaska Democrats
REFRESH-INTERVAL;VALUE=DURATION:PT1H
X-Robots-Tag:noindex
X-PUBLISHED-TTL:PT1H
BEGIN:VTIMEZONE
TZID:America/Anchorage
BEGIN:DAYLIGHT
TZOFFSETFROM:-0900
TZOFFSETTO:-0800
TZNAME:AKDT
DTSTART:20220313T110000
END:DAYLIGHT
BEGIN:STANDARD
TZOFFSETFROM:-0800
TZOFFSETTO:-0900
TZNAME:AKST
DTSTART:20221106T100000
END:STANDARD
BEGIN:DAYLIGHT
TZOFFSETFROM:-0900
TZOFFSETTO:-0800
TZNAME:AKDT
DTSTART:20230312T110000
END:DAYLIGHT
BEGIN:STANDARD
TZOFFSETFROM:-0800
TZOFFSETTO:-0900
TZNAME:AKST
DTSTART:20231105T100000
END:STANDARD
BEGIN:DAYLIGHT
TZOFFSETFROM:-0900
TZOFFSETTO:-0800
TZNAME:AKDT
DTSTART:20240310T110000
END:DAYLIGHT
BEGIN:STANDARD
TZOFFSETFROM:-0800
TZOFFSETTO:-0900
TZNAME:AKST
DTSTART:20241103T100000
END:STANDARD
END:VTIMEZONE
BEGIN:VEVENT
DTSTART;TZID=America/Anchorage:20230203T130000
DTEND;TZID=America/Anchorage:20230205T120000
DTSTAMP:20260420T023056
CREATED:20230109T215247Z
LAST-MODIFIED:20230109T224940Z
UID:2239-1675429200-1675598400@alaskademocrats.org
SUMMARY:State Central Committee Meeting
DESCRIPTION:The Alaska Democratic Party State Central Committee will meet the first weekend of February. Events include:\n\nFriday\, February 3rd:\n\n 	Executive Committee meeting (1pm)\n 	Capital Tour (3:30pm)\n 	Mary McKinnon Fundraiser (5:30pm)\n\nSaturday\, February 4th:\n\n 	State Central Committee Business Meeting (8am – 5pm)\n 	Tongass Democrats Winter Auction (6pm)\n\nSunday\, February 5th:\n\n 	Caucus meetings (10am)\n\nCLICK HERE TO REGISTER.  Registration includes access to all events and breakfast\, lunch and snacks on Saturday as well as light refreshments Sunday morning.\n\nA virtual option is available for those who cannot attend in person. Click here to register for virtual attendance on Saturday.
URL:https://alaskademocrats.org/event/state-central-committee-meeting/
LOCATION:Jueau\, AK\, Juneau\, Alaska
ORGANIZER;CN="Tongass Democrats":MAILTO:tongassdemocrats@gmail.com
END:VEVENT
END:VCALENDAR