BEGIN:VCALENDAR
VERSION:2.0
PRODID:-//Alaska Democrats - ECPv6.15.20//NONSGML v1.0//EN
CALSCALE:GREGORIAN
METHOD:PUBLISH
X-WR-CALNAME:Alaska Democrats
X-ORIGINAL-URL:https://alaskademocrats.org
X-WR-CALDESC:Events for Alaska Democrats
REFRESH-INTERVAL;VALUE=DURATION:PT1H
X-Robots-Tag:noindex
X-PUBLISHED-TTL:PT1H
BEGIN:VTIMEZONE
TZID:America/Anchorage
BEGIN:DAYLIGHT
TZOFFSETFROM:-0900
TZOFFSETTO:-0800
TZNAME:AKDT
DTSTART:20250309T110000
END:DAYLIGHT
BEGIN:STANDARD
TZOFFSETFROM:-0800
TZOFFSETTO:-0900
TZNAME:AKST
DTSTART:20251102T100000
END:STANDARD
BEGIN:DAYLIGHT
TZOFFSETFROM:-0900
TZOFFSETTO:-0800
TZNAME:AKDT
DTSTART:20260308T110000
END:DAYLIGHT
BEGIN:STANDARD
TZOFFSETFROM:-0800
TZOFFSETTO:-0900
TZNAME:AKST
DTSTART:20261101T100000
END:STANDARD
BEGIN:DAYLIGHT
TZOFFSETFROM:-0900
TZOFFSETTO:-0800
TZNAME:AKDT
DTSTART:20270314T110000
END:DAYLIGHT
BEGIN:STANDARD
TZOFFSETFROM:-0800
TZOFFSETTO:-0900
TZNAME:AKST
DTSTART:20271107T100000
END:STANDARD
END:VTIMEZONE
BEGIN:VEVENT
DTSTART;TZID=America/Anchorage:20260422T160000
DTEND;TZID=America/Anchorage:20260422T173000
DTSTAMP:20260422T135907
CREATED:20260422T175013Z
LAST-MODIFIED:20260422T175150Z
UID:24273-1776873600-1776879000@alaskademocrats.org
SUMMARY:Soldotna Meet & Greet with JKT for Gov
DESCRIPTION:Join us for a meet & greet with candidate for governor Jonathan Kreiss-Tomkins.Swing by and say hey—we’d love to see you there!
URL:https://alaskademocrats.org/event/soldotna-meet-greet-with-jkt-for-gov/
LOCATION:The Goods\, 45015 Kalifornsky Beach Rd ste a\, Soldtona\, AK\, 99669\, United States
CATEGORIES:Candidate Event,Event
ATTACH;FMTTYPE=image/jpeg:https://alaskademocrats.org/wp-content/uploads/2026/04/672684897_1344558414161697_8452408989692889290_n.jpg
END:VEVENT
END:VCALENDAR