BEGIN:VCALENDAR
VERSION:2.0
PRODID:-//Alaska Democrats - ECPv6.15.20//NONSGML v1.0//EN
CALSCALE:GREGORIAN
METHOD:PUBLISH
X-WR-CALNAME:Alaska Democrats
X-ORIGINAL-URL:https://alaskademocrats.org
X-WR-CALDESC:Events for Alaska Democrats
REFRESH-INTERVAL;VALUE=DURATION:PT1H
X-Robots-Tag:noindex
X-PUBLISHED-TTL:PT1H
BEGIN:VTIMEZONE
TZID:America/Anchorage
BEGIN:DAYLIGHT
TZOFFSETFROM:-0900
TZOFFSETTO:-0800
TZNAME:AKDT
DTSTART:20210314T110000
END:DAYLIGHT
BEGIN:STANDARD
TZOFFSETFROM:-0800
TZOFFSETTO:-0900
TZNAME:AKST
DTSTART:20211107T100000
END:STANDARD
BEGIN:DAYLIGHT
TZOFFSETFROM:-0900
TZOFFSETTO:-0800
TZNAME:AKDT
DTSTART:20220313T110000
END:DAYLIGHT
BEGIN:STANDARD
TZOFFSETFROM:-0800
TZOFFSETTO:-0900
TZNAME:AKST
DTSTART:20221106T100000
END:STANDARD
BEGIN:DAYLIGHT
TZOFFSETFROM:-0900
TZOFFSETTO:-0800
TZNAME:AKDT
DTSTART:20230312T110000
END:DAYLIGHT
BEGIN:STANDARD
TZOFFSETFROM:-0800
TZOFFSETTO:-0900
TZNAME:AKST
DTSTART:20231105T100000
END:STANDARD
END:VTIMEZONE
BEGIN:VEVENT
DTSTART;TZID=America/Anchorage:20220924T150000
DTEND;TZID=America/Anchorage:20220924T190000
DTSTAMP:20260421T065545
CREATED:20220907T165525Z
LAST-MODIFIED:20220907T165525Z
UID:1810-1664031600-1664046000@alaskademocrats.org
SUMMARY:Sat Night Disco - Fun Fundraiser to Re-Elect Andy Josephson
DESCRIPTION:On Saturday\, September 24th\, the campaign to re-elect Andy Josephson to State House is going to put the FUN back in fundraiser.
URL:https://alaskademocrats.org/event/sat-night-disco-fun-fundraiser-to-re-elect-andy-josephson/
LOCATION:6140 Old Seward Hwy\, 6140 Old Seward Hwy\, Anchorage\, Alaska\, 99518
END:VEVENT
END:VCALENDAR