BEGIN:VCALENDAR
VERSION:2.0
PRODID:-//Alaska Democrats - ECPv6.15.20//NONSGML v1.0//EN
CALSCALE:GREGORIAN
METHOD:PUBLISH
X-WR-CALNAME:Alaska Democrats
X-ORIGINAL-URL:https://alaskademocrats.org
X-WR-CALDESC:Events for Alaska Democrats
REFRESH-INTERVAL;VALUE=DURATION:PT1H
X-Robots-Tag:noindex
X-PUBLISHED-TTL:PT1H
BEGIN:VTIMEZONE
TZID:America/Anchorage
BEGIN:DAYLIGHT
TZOFFSETFROM:-0900
TZOFFSETTO:-0800
TZNAME:AKDT
DTSTART:20230312T110000
END:DAYLIGHT
BEGIN:STANDARD
TZOFFSETFROM:-0800
TZOFFSETTO:-0900
TZNAME:AKST
DTSTART:20231105T100000
END:STANDARD
BEGIN:DAYLIGHT
TZOFFSETFROM:-0900
TZOFFSETTO:-0800
TZNAME:AKDT
DTSTART:20240310T110000
END:DAYLIGHT
BEGIN:STANDARD
TZOFFSETFROM:-0800
TZOFFSETTO:-0900
TZNAME:AKST
DTSTART:20241103T100000
END:STANDARD
BEGIN:DAYLIGHT
TZOFFSETFROM:-0900
TZOFFSETTO:-0800
TZNAME:AKDT
DTSTART:20250309T110000
END:DAYLIGHT
BEGIN:STANDARD
TZOFFSETFROM:-0800
TZOFFSETTO:-0900
TZNAME:AKST
DTSTART:20251102T100000
END:STANDARD
END:VTIMEZONE
BEGIN:VEVENT
DTSTART;TZID=America/Anchorage:20240820T183000
DTEND;TZID=America/Anchorage:20240820T200000
DTSTAMP:20260421T142446
CREATED:20240815T222447Z
LAST-MODIFIED:20240815T230228Z
UID:12385-1724178600-1724184000@alaskademocrats.org
SUMMARY:Primary Night Party with Team Mary & the Alaska Dems
DESCRIPTION:LOCATION CHANGE: Join us in the basement room of The Broken Blender in Anchorage!Join the Alaska Democrats and Team Mary in Anchorage for food and drinks to celebrate the results of the 2024 Primary election and to gear up for the fall!RSVP here: https://www.mobilize.us/marypeltolaforcongress/event/667282/
URL:https://alaskademocrats.org/event/primary-night-party-with-team-mary-the-alaska-dems/
LOCATION:The Broken Blender\, 535 W 3rd Ave\, Anchorage\, AK\, 99501\, United States
CATEGORIES:Event
ORGANIZER;CN="Alaska Democratic Party":MAILTO:info@anchoragedems.org
END:VEVENT
END:VCALENDAR