BEGIN:VCALENDAR
VERSION:2.0
PRODID:-//Alaska Democrats - ECPv6.15.20//NONSGML v1.0//EN
CALSCALE:GREGORIAN
METHOD:PUBLISH
X-WR-CALNAME:Alaska Democrats
X-ORIGINAL-URL:https://alaskademocrats.org
X-WR-CALDESC:Events for Alaska Democrats
REFRESH-INTERVAL;VALUE=DURATION:PT1H
X-Robots-Tag:noindex
X-PUBLISHED-TTL:PT1H
BEGIN:VTIMEZONE
TZID:America/Anchorage
BEGIN:DAYLIGHT
TZOFFSETFROM:-0900
TZOFFSETTO:-0800
TZNAME:AKDT
DTSTART:20230312T110000
END:DAYLIGHT
BEGIN:STANDARD
TZOFFSETFROM:-0800
TZOFFSETTO:-0900
TZNAME:AKST
DTSTART:20231105T100000
END:STANDARD
BEGIN:DAYLIGHT
TZOFFSETFROM:-0900
TZOFFSETTO:-0800
TZNAME:AKDT
DTSTART:20240310T110000
END:DAYLIGHT
BEGIN:STANDARD
TZOFFSETFROM:-0800
TZOFFSETTO:-0900
TZNAME:AKST
DTSTART:20241103T100000
END:STANDARD
BEGIN:DAYLIGHT
TZOFFSETFROM:-0900
TZOFFSETTO:-0800
TZNAME:AKDT
DTSTART:20250309T110000
END:DAYLIGHT
BEGIN:STANDARD
TZOFFSETFROM:-0800
TZOFFSETTO:-0900
TZNAME:AKST
DTSTART:20251102T100000
END:STANDARD
END:VTIMEZONE
BEGIN:VEVENT
DTSTART;TZID=America/Anchorage:20241103T150000
DTEND;TZID=America/Anchorage:20241103T180000
DTSTAMP:20260421T063625
CREATED:20241028T211608Z
LAST-MODIFIED:20241028T211608Z
UID:15217-1730646000-1730656800@alaskademocrats.org
SUMMARY:Phonebank to Get out the Vote for Ted Eischeid!
DESCRIPTION:It’s crunch time in this critical race – join us to help call voters to get out the vote for Ted Eischeid’s campaign! Join Ted and Team Ted for this important get out the vote phonebank. There will be a full training and light refreshments – all you need to bring is a charged phone.
URL:https://alaskademocrats.org/event/phonebank-to-get-out-the-vote-for-ted-eischeid-2/
LOCATION:1423 Atkinson Dr\, Anchorage\, Alaska\, 1423 Atkinson Dr\, Anchorage\, AK\, 99504\, United States
CATEGORIES:Candidate Event
END:VEVENT
END:VCALENDAR