BEGIN:VCALENDAR
VERSION:2.0
PRODID:-//Alaska Democrats - ECPv6.15.20//NONSGML v1.0//EN
CALSCALE:GREGORIAN
METHOD:PUBLISH
X-WR-CALNAME:Alaska Democrats
X-ORIGINAL-URL:https://alaskademocrats.org
X-WR-CALDESC:Events for Alaska Democrats
REFRESH-INTERVAL;VALUE=DURATION:PT1H
X-Robots-Tag:noindex
X-PUBLISHED-TTL:PT1H
BEGIN:VTIMEZONE
TZID:America/Anchorage
BEGIN:DAYLIGHT
TZOFFSETFROM:-0900
TZOFFSETTO:-0800
TZNAME:AKDT
DTSTART:20230312T110000
END:DAYLIGHT
BEGIN:STANDARD
TZOFFSETFROM:-0800
TZOFFSETTO:-0900
TZNAME:AKST
DTSTART:20231105T100000
END:STANDARD
BEGIN:DAYLIGHT
TZOFFSETFROM:-0900
TZOFFSETTO:-0800
TZNAME:AKDT
DTSTART:20240310T110000
END:DAYLIGHT
BEGIN:STANDARD
TZOFFSETFROM:-0800
TZOFFSETTO:-0900
TZNAME:AKST
DTSTART:20241103T100000
END:STANDARD
BEGIN:DAYLIGHT
TZOFFSETFROM:-0900
TZOFFSETTO:-0800
TZNAME:AKDT
DTSTART:20250309T110000
END:DAYLIGHT
BEGIN:STANDARD
TZOFFSETFROM:-0800
TZOFFSETTO:-0900
TZNAME:AKST
DTSTART:20251102T100000
END:STANDARD
END:VTIMEZONE
BEGIN:VEVENT
DTSTART;TZID=America/Anchorage:20240108T080000
DTEND;TZID=America/Anchorage:20240108T090000
DTSTAMP:20260421T193028
CREATED:20231220T023529Z
LAST-MODIFIED:20231220T023529Z
UID:6189-1704700800-1704704400@alaskademocrats.org
SUMMARY:National Democratic Training Committee: So You Want to Run for Office?
DESCRIPTION:Join the National Democratic Training Committee on Monday\, January 8th from 1-2 pm ET\, (9-10AM AKST) for a free virtual live training on So You Want to Run for Office. We’re here to help\, so join us to learn the following: Understand the steps necessary to run for office Explain best practices for choosing which office to run for Identify what support you’ll need from your team Prepare for sharing your decision to run with friends and family
URL:https://alaskademocrats.org/event/national-democratic-training-committee-so-you-want-to-run-for-office/
LOCATION:Zoom
CATEGORIES:Event
END:VEVENT
END:VCALENDAR