BEGIN:VCALENDAR
VERSION:2.0
PRODID:-//Alaska Democrats - ECPv6.15.20//NONSGML v1.0//EN
CALSCALE:GREGORIAN
METHOD:PUBLISH
X-WR-CALNAME:Alaska Democrats
X-ORIGINAL-URL:https://alaskademocrats.org
X-WR-CALDESC:Events for Alaska Democrats
REFRESH-INTERVAL;VALUE=DURATION:PT1H
X-Robots-Tag:noindex
X-PUBLISHED-TTL:PT1H
BEGIN:VTIMEZONE
TZID:America/Anchorage
BEGIN:DAYLIGHT
TZOFFSETFROM:-0900
TZOFFSETTO:-0800
TZNAME:AKDT
DTSTART:20220313T110000
END:DAYLIGHT
BEGIN:STANDARD
TZOFFSETFROM:-0800
TZOFFSETTO:-0900
TZNAME:AKST
DTSTART:20221106T100000
END:STANDARD
BEGIN:DAYLIGHT
TZOFFSETFROM:-0900
TZOFFSETTO:-0800
TZNAME:AKDT
DTSTART:20230312T110000
END:DAYLIGHT
BEGIN:STANDARD
TZOFFSETFROM:-0800
TZOFFSETTO:-0900
TZNAME:AKST
DTSTART:20231105T100000
END:STANDARD
BEGIN:DAYLIGHT
TZOFFSETFROM:-0900
TZOFFSETTO:-0800
TZNAME:AKDT
DTSTART:20240310T110000
END:DAYLIGHT
BEGIN:STANDARD
TZOFFSETFROM:-0800
TZOFFSETTO:-0900
TZNAME:AKST
DTSTART:20241103T100000
END:STANDARD
END:VTIMEZONE
BEGIN:VEVENT
DTSTART;TZID=America/Anchorage:20231028T100000
DTEND;TZID=America/Anchorage:20231028T120000
DTSTAMP:20260421T064726
CREATED:20231016T201434Z
LAST-MODIFIED:20231016T201626Z
UID:5968-1698487200-1698494400@alaskademocrats.org
SUMMARY:Milkshakes with Representative Cliff Groh
DESCRIPTION:Saturday Milkshakes with Cliff will continue at its usual time of 12 to 2 p.m. Saturday at the Lucky Wishbone\, located at 1033 E. 5th and as always\, your first milkshake is on Rep. Groh!
URL:https://alaskademocrats.org/event/milkshakes-with-representative-cliff-groh-2/
LOCATION:Lucky Wishbone\, 1033 E. 5th Ave\, Anchorage\, AK\, 99501\, United States
CATEGORIES:Candidate Event
END:VEVENT
END:VCALENDAR