BEGIN:VCALENDAR
VERSION:2.0
PRODID:-//Alaska Democrats - ECPv6.15.20//NONSGML v1.0//EN
CALSCALE:GREGORIAN
METHOD:PUBLISH
X-WR-CALNAME:Alaska Democrats
X-ORIGINAL-URL:https://alaskademocrats.org
X-WR-CALDESC:Events for Alaska Democrats
REFRESH-INTERVAL;VALUE=DURATION:PT1H
X-Robots-Tag:noindex
X-PUBLISHED-TTL:PT1H
BEGIN:VTIMEZONE
TZID:America/Anchorage
BEGIN:DAYLIGHT
TZOFFSETFROM:-0900
TZOFFSETTO:-0800
TZNAME:AKDT
DTSTART:20220313T110000
END:DAYLIGHT
BEGIN:STANDARD
TZOFFSETFROM:-0800
TZOFFSETTO:-0900
TZNAME:AKST
DTSTART:20221106T100000
END:STANDARD
BEGIN:DAYLIGHT
TZOFFSETFROM:-0900
TZOFFSETTO:-0800
TZNAME:AKDT
DTSTART:20230312T110000
END:DAYLIGHT
BEGIN:STANDARD
TZOFFSETFROM:-0800
TZOFFSETTO:-0900
TZNAME:AKST
DTSTART:20231105T100000
END:STANDARD
BEGIN:DAYLIGHT
TZOFFSETFROM:-0900
TZOFFSETTO:-0800
TZNAME:AKDT
DTSTART:20240310T110000
END:DAYLIGHT
BEGIN:STANDARD
TZOFFSETFROM:-0800
TZOFFSETTO:-0900
TZNAME:AKST
DTSTART:20241103T100000
END:STANDARD
END:VTIMEZONE
BEGIN:VEVENT
DTSTART;TZID=America/Anchorage:20230624T110000
DTEND;TZID=America/Anchorage:20230624T123000
DTSTAMP:20260419T091923
CREATED:20230620T182139Z
LAST-MODIFIED:20230620T182139Z
UID:5383-1687604400-1687609800@alaskademocrats.org
SUMMARY:Mary Peltola Fundraiser
DESCRIPTION:Celebrate PRIDE on the park strip then join us for a bird’s eye view on the rooftop for a fundraiser\, food\, and good conversation! \nWhen: Saturday\, June 24\, 1:00 pm – 2:30 pm AKST \nWhere: Campaign Office Rooftop at 810 N St\, Anchorage\, AK 99501
URL:https://alaskademocrats.org/event/mary-peltola-fundraiser/
LOCATION:Mary Peltola Campaign Office\, 810 N St\, Anchorage\, AK\, 99501\, United States
CATEGORIES:Fundraiser
END:VEVENT
END:VCALENDAR