BEGIN:VCALENDAR
VERSION:2.0
PRODID:-//Alaska Democrats - ECPv6.15.20//NONSGML v1.0//EN
CALSCALE:GREGORIAN
METHOD:PUBLISH
X-WR-CALNAME:Alaska Democrats
X-ORIGINAL-URL:https://alaskademocrats.org
X-WR-CALDESC:Events for Alaska Democrats
REFRESH-INTERVAL;VALUE=DURATION:PT1H
X-Robots-Tag:noindex
X-PUBLISHED-TTL:PT1H
BEGIN:VTIMEZONE
TZID:America/Anchorage
BEGIN:DAYLIGHT
TZOFFSETFROM:-0900
TZOFFSETTO:-0800
TZNAME:AKDT
DTSTART:20210314T110000
END:DAYLIGHT
BEGIN:STANDARD
TZOFFSETFROM:-0800
TZOFFSETTO:-0900
TZNAME:AKST
DTSTART:20211107T100000
END:STANDARD
BEGIN:DAYLIGHT
TZOFFSETFROM:-0900
TZOFFSETTO:-0800
TZNAME:AKDT
DTSTART:20220313T110000
END:DAYLIGHT
BEGIN:STANDARD
TZOFFSETFROM:-0800
TZOFFSETTO:-0900
TZNAME:AKST
DTSTART:20221106T100000
END:STANDARD
BEGIN:DAYLIGHT
TZOFFSETFROM:-0900
TZOFFSETTO:-0800
TZNAME:AKDT
DTSTART:20230312T110000
END:DAYLIGHT
BEGIN:STANDARD
TZOFFSETFROM:-0800
TZOFFSETTO:-0900
TZNAME:AKST
DTSTART:20231105T100000
END:STANDARD
END:VTIMEZONE
BEGIN:VEVENT
DTSTART;TZID=America/Anchorage:20220915T150000
DTEND;TZID=America/Anchorage:20220915T170000
DTSTAMP:20260421T064802
CREATED:20220907T065509Z
LAST-MODIFIED:20220907T070041Z
UID:1786-1663254000-1663261200@alaskademocrats.org
SUMMARY:Les Gara & Jessica Cook Conservation Fundraiser
DESCRIPTION:Les and Jess will champion clean\, renewable energy to lower costs\, reduce climate impacts\, and boost employment.\nThey’ll protect our fish and communities\, and will fight the Pebble Mine.
URL:https://alaskademocrats.org/event/les-gara-jessica-cook-conservation-fundraiser/
LOCATION:3521 Admiralty Bay Drive\, 3521 Admiralty Bay Drive\, Anchorage\, Alaska
CATEGORIES:Fundraiser
ORGANIZER;CN="Les Gara For Governor":MAILTO:les@lesgara.com
END:VEVENT
END:VCALENDAR