BEGIN:VCALENDAR
VERSION:2.0
PRODID:-//Alaska Democrats - ECPv6.15.20//NONSGML v1.0//EN
CALSCALE:GREGORIAN
METHOD:PUBLISH
X-WR-CALNAME:Alaska Democrats
X-ORIGINAL-URL:https://alaskademocrats.org
X-WR-CALDESC:Events for Alaska Democrats
REFRESH-INTERVAL;VALUE=DURATION:PT1H
X-Robots-Tag:noindex
X-PUBLISHED-TTL:PT1H
BEGIN:VTIMEZONE
TZID:America/Anchorage
BEGIN:DAYLIGHT
TZOFFSETFROM:-0900
TZOFFSETTO:-0800
TZNAME:AKDT
DTSTART:20230312T110000
END:DAYLIGHT
BEGIN:STANDARD
TZOFFSETFROM:-0800
TZOFFSETTO:-0900
TZNAME:AKST
DTSTART:20231105T100000
END:STANDARD
BEGIN:DAYLIGHT
TZOFFSETFROM:-0900
TZOFFSETTO:-0800
TZNAME:AKDT
DTSTART:20240310T110000
END:DAYLIGHT
BEGIN:STANDARD
TZOFFSETFROM:-0800
TZOFFSETTO:-0900
TZNAME:AKST
DTSTART:20241103T100000
END:STANDARD
BEGIN:DAYLIGHT
TZOFFSETFROM:-0900
TZOFFSETTO:-0800
TZNAME:AKDT
DTSTART:20250309T110000
END:DAYLIGHT
BEGIN:STANDARD
TZOFFSETFROM:-0800
TZOFFSETTO:-0900
TZNAME:AKST
DTSTART:20251102T100000
END:STANDARD
END:VTIMEZONE
BEGIN:VEVENT
DTSTART;TZID=America/Anchorage:20240115T163000
DTEND;TZID=America/Anchorage:20240115T183000
DTSTAMP:20260421T192406
CREATED:20240110T195048Z
LAST-MODIFIED:20240110T195048Z
UID:6275-1705336200-1705343400@alaskademocrats.org
SUMMARY:House and Senate Democratic Campaign Committees Annual Fundraiser
DESCRIPTION:Join the House and Senate Democratic Campaign Committees on January 15th in-person or virtually from 5:30-7:30pm for their Annual Fundraiser! If you’re in Juneau you can join in-person at the home of Mark & Sun Choate located at 230 W. 8th St. If you’re not in Juneau but still want to participate\, make sure to register to join on Zoom: https://us06web.zoom.us/…/tZUvcOqsqzgpEtLbl0E7ol3UtGgD…Don’t miss out on this opportunity to kick off the 2024 election season before the legislative session starts!
URL:https://alaskademocrats.org/event/house-and-senate-democratic-campaign-committees-annual-fundraiser/
LOCATION:230 W. 8th St\, 230 W. 8th St\, Juneau\, AK\, 99801\, United States
CATEGORIES:Fundraiser
END:VEVENT
END:VCALENDAR