BEGIN:VCALENDAR
VERSION:2.0
PRODID:-//Alaska Democrats - ECPv6.15.20//NONSGML v1.0//EN
CALSCALE:GREGORIAN
METHOD:PUBLISH
X-WR-CALNAME:Alaska Democrats
X-ORIGINAL-URL:https://alaskademocrats.org
X-WR-CALDESC:Events for Alaska Democrats
REFRESH-INTERVAL;VALUE=DURATION:PT1H
X-Robots-Tag:noindex
X-PUBLISHED-TTL:PT1H
BEGIN:VTIMEZONE
TZID:America/Anchorage
BEGIN:DAYLIGHT
TZOFFSETFROM:-0900
TZOFFSETTO:-0800
TZNAME:AKDT
DTSTART:20220313T110000
END:DAYLIGHT
BEGIN:STANDARD
TZOFFSETFROM:-0800
TZOFFSETTO:-0900
TZNAME:AKST
DTSTART:20221106T100000
END:STANDARD
BEGIN:DAYLIGHT
TZOFFSETFROM:-0900
TZOFFSETTO:-0800
TZNAME:AKDT
DTSTART:20230312T110000
END:DAYLIGHT
BEGIN:STANDARD
TZOFFSETFROM:-0800
TZOFFSETTO:-0900
TZNAME:AKST
DTSTART:20231105T100000
END:STANDARD
BEGIN:DAYLIGHT
TZOFFSETFROM:-0900
TZOFFSETTO:-0800
TZNAME:AKDT
DTSTART:20240310T110000
END:DAYLIGHT
BEGIN:STANDARD
TZOFFSETFROM:-0800
TZOFFSETTO:-0900
TZNAME:AKST
DTSTART:20241103T100000
END:STANDARD
END:VTIMEZONE
BEGIN:VEVENT
DTSTART;TZID=America/Anchorage:20231008T080000
DTEND;TZID=America/Anchorage:20231008T083000
DTSTAMP:20260421T102454
CREATED:20230905T182657Z
LAST-MODIFIED:20230905T182657Z
UID:5752-1696752000-1696753800@alaskademocrats.org
SUMMARY:HD20 Dems Meeting
DESCRIPTION:Join Dems from House District 20 over Zoom to learn more about about upcoming volunteer opportunities and the endorsement process for the Anchorage Municipal Election.Please email HD Chair Leon Jaimes at alaskahd20dems@anchoragedems.org for more information on how to join the meeting!
URL:https://alaskademocrats.org/event/hd20-dems-meeting/
LOCATION:Zoom
CATEGORIES:Event
ORGANIZER;CN="House District 20":MAILTO:alaskahd20dems@anchoragedems.org
END:VEVENT
END:VCALENDAR