BEGIN:VCALENDAR
VERSION:2.0
PRODID:-//Alaska Democrats - ECPv6.15.20//NONSGML v1.0//EN
CALSCALE:GREGORIAN
METHOD:PUBLISH
X-WR-CALNAME:Alaska Democrats
X-ORIGINAL-URL:https://alaskademocrats.org
X-WR-CALDESC:Events for Alaska Democrats
REFRESH-INTERVAL;VALUE=DURATION:PT1H
X-Robots-Tag:noindex
X-PUBLISHED-TTL:PT1H
BEGIN:VTIMEZONE
TZID:America/Anchorage
BEGIN:DAYLIGHT
TZOFFSETFROM:-0900
TZOFFSETTO:-0800
TZNAME:AKDT
DTSTART:20240310T110000
END:DAYLIGHT
BEGIN:STANDARD
TZOFFSETFROM:-0800
TZOFFSETTO:-0900
TZNAME:AKST
DTSTART:20241103T100000
END:STANDARD
BEGIN:DAYLIGHT
TZOFFSETFROM:-0900
TZOFFSETTO:-0800
TZNAME:AKDT
DTSTART:20250309T110000
END:DAYLIGHT
BEGIN:STANDARD
TZOFFSETFROM:-0800
TZOFFSETTO:-0900
TZNAME:AKST
DTSTART:20251102T100000
END:STANDARD
BEGIN:DAYLIGHT
TZOFFSETFROM:-0900
TZOFFSETTO:-0800
TZNAME:AKDT
DTSTART:20260308T110000
END:DAYLIGHT
BEGIN:STANDARD
TZOFFSETFROM:-0800
TZOFFSETTO:-0900
TZNAME:AKST
DTSTART:20261101T100000
END:STANDARD
END:VTIMEZONE
BEGIN:VEVENT
DTSTART;TZID=America/Anchorage:20251010T123000
DTEND;TZID=America/Anchorage:20251010T140000
DTSTAMP:20260419T085119
CREATED:20251003T030048Z
LAST-MODIFIED:20251003T030048Z
UID:20643-1760099400-1760104800@alaskademocrats.org
SUMMARY:Haines Town Hall with Sen. Jesse Kiehl and Rep. Andi Story
DESCRIPTION:Come talk with Sen. Jesse Kiehl and Rep. Andi Story during office hours at the Haines Public Library! They’re eager to answer your questions\, listen\, learn\, and discuss the issues.
URL:https://alaskademocrats.org/event/haines-town-hall-with-sen-jesse-kiehl-and-rep-andi-story/
LOCATION:Haines Borough Public Library\, 111 3rd Ave\, Haines\, AK\, 99827\, United States
ATTACH;FMTTYPE=image/png:https://alaskademocrats.org/wp-content/uploads/2025/10/Screenshot-2025-10-02-at-80014-PM.png
END:VEVENT
END:VCALENDAR