BEGIN:VCALENDAR
VERSION:2.0
PRODID:-//Alaska Democrats - ECPv6.15.20//NONSGML v1.0//EN
CALSCALE:GREGORIAN
METHOD:PUBLISH
X-WR-CALNAME:Alaska Democrats
X-ORIGINAL-URL:https://alaskademocrats.org
X-WR-CALDESC:Events for Alaska Democrats
REFRESH-INTERVAL;VALUE=DURATION:PT1H
X-Robots-Tag:noindex
X-PUBLISHED-TTL:PT1H
BEGIN:VTIMEZONE
TZID:America/Anchorage
BEGIN:DAYLIGHT
TZOFFSETFROM:-0900
TZOFFSETTO:-0800
TZNAME:AKDT
DTSTART:20230312T110000
END:DAYLIGHT
BEGIN:STANDARD
TZOFFSETFROM:-0800
TZOFFSETTO:-0900
TZNAME:AKST
DTSTART:20231105T100000
END:STANDARD
BEGIN:DAYLIGHT
TZOFFSETFROM:-0900
TZOFFSETTO:-0800
TZNAME:AKDT
DTSTART:20240310T110000
END:DAYLIGHT
BEGIN:STANDARD
TZOFFSETFROM:-0800
TZOFFSETTO:-0900
TZNAME:AKST
DTSTART:20241103T100000
END:STANDARD
BEGIN:DAYLIGHT
TZOFFSETFROM:-0900
TZOFFSETTO:-0800
TZNAME:AKDT
DTSTART:20250309T110000
END:DAYLIGHT
BEGIN:STANDARD
TZOFFSETFROM:-0800
TZOFFSETTO:-0900
TZNAME:AKST
DTSTART:20251102T100000
END:STANDARD
END:VTIMEZONE
BEGIN:VEVENT
DTSTART;TZID=America/Anchorage:20241103T130000
DTEND;TZID=America/Anchorage:20241103T150000
DTSTAMP:20260421T063517
CREATED:20241028T201200Z
LAST-MODIFIED:20241028T201200Z
UID:15190-1730638800-1730646000@alaskademocrats.org
SUMMARY:GOTV Door Knocking with Denny Wells
DESCRIPTION:Join us TWO days before the Nov. 5th Election! Join Denny and an amazing group of volunteers as we head out to talk to friends and neighbors about the upcoming election!Paid for by Denny Wells for Alaska\, PO Box 242261\, Anchorage AK 99524
URL:https://alaskademocrats.org/event/gotv-door-knocking-with-denny-wells-3/
LOCATION:3309 North Shore Drive\, 3309 North Shore Drive\, Anchorage\, AK\, 99502\, United States
CATEGORIES:Candidate Event
END:VEVENT
END:VCALENDAR