BEGIN:VCALENDAR
VERSION:2.0
PRODID:-//Alaska Democrats - ECPv6.15.20//NONSGML v1.0//EN
CALSCALE:GREGORIAN
METHOD:PUBLISH
X-WR-CALNAME:Alaska Democrats
X-ORIGINAL-URL:https://alaskademocrats.org
X-WR-CALDESC:Events for Alaska Democrats
REFRESH-INTERVAL;VALUE=DURATION:PT1H
X-Robots-Tag:noindex
X-PUBLISHED-TTL:PT1H
BEGIN:VTIMEZONE
TZID:America/Anchorage
BEGIN:DAYLIGHT
TZOFFSETFROM:-0900
TZOFFSETTO:-0800
TZNAME:AKDT
DTSTART:20240310T110000
END:DAYLIGHT
BEGIN:STANDARD
TZOFFSETFROM:-0800
TZOFFSETTO:-0900
TZNAME:AKST
DTSTART:20241103T100000
END:STANDARD
BEGIN:DAYLIGHT
TZOFFSETFROM:-0900
TZOFFSETTO:-0800
TZNAME:AKDT
DTSTART:20250309T110000
END:DAYLIGHT
BEGIN:STANDARD
TZOFFSETFROM:-0800
TZOFFSETTO:-0900
TZNAME:AKST
DTSTART:20251102T100000
END:STANDARD
BEGIN:DAYLIGHT
TZOFFSETFROM:-0900
TZOFFSETTO:-0800
TZNAME:AKDT
DTSTART:20260308T110000
END:DAYLIGHT
BEGIN:STANDARD
TZOFFSETFROM:-0800
TZOFFSETTO:-0900
TZNAME:AKST
DTSTART:20261101T100000
END:STANDARD
END:VTIMEZONE
BEGIN:VEVENT
DTSTART;TZID=America/Anchorage:20250329T110000
DTEND;TZID=America/Anchorage:20250329T160000
DTSTAMP:20260419T110144
CREATED:20250326T221438Z
LAST-MODIFIED:20250326T221438Z
UID:18082-1743246000-1743264000@alaskademocrats.org
SUMMARY:Get Out The Vote for Kameron Perez-Verdia
DESCRIPTION:Kameron needs your support as he seeks re-election to the Anchorage Assembly! Join Team Kameron on March 29th for volunteer rally at The Writer’s Block. There will be a short training and then we will knock doors to remind voters of the Municipal election on April 1st.You can RSVP here.
URL:https://alaskademocrats.org/event/get-out-the-vote-for-kameron-perez-verdia/
LOCATION:The Writer’s Block Bookstore & Cafe\, 3956 Spenard Rd\, Anchorage\, AK\, 99517\, United States
CATEGORIES:Candidate Event
END:VEVENT
END:VCALENDAR