BEGIN:VCALENDAR
VERSION:2.0
PRODID:-//Alaska Democrats - ECPv6.15.20//NONSGML v1.0//EN
CALSCALE:GREGORIAN
METHOD:PUBLISH
X-WR-CALNAME:Alaska Democrats
X-ORIGINAL-URL:https://alaskademocrats.org
X-WR-CALDESC:Events for Alaska Democrats
REFRESH-INTERVAL;VALUE=DURATION:PT1H
X-Robots-Tag:noindex
X-PUBLISHED-TTL:PT1H
BEGIN:VTIMEZONE
TZID:America/Anchorage
BEGIN:DAYLIGHT
TZOFFSETFROM:-0900
TZOFFSETTO:-0800
TZNAME:AKDT
DTSTART:20210314T110000
END:DAYLIGHT
BEGIN:STANDARD
TZOFFSETFROM:-0800
TZOFFSETTO:-0900
TZNAME:AKST
DTSTART:20211107T100000
END:STANDARD
BEGIN:DAYLIGHT
TZOFFSETFROM:-0900
TZOFFSETTO:-0800
TZNAME:AKDT
DTSTART:20220313T110000
END:DAYLIGHT
BEGIN:STANDARD
TZOFFSETFROM:-0800
TZOFFSETTO:-0900
TZNAME:AKST
DTSTART:20221106T100000
END:STANDARD
BEGIN:DAYLIGHT
TZOFFSETFROM:-0900
TZOFFSETTO:-0800
TZNAME:AKDT
DTSTART:20230312T110000
END:DAYLIGHT
BEGIN:STANDARD
TZOFFSETFROM:-0800
TZOFFSETTO:-0900
TZNAME:AKST
DTSTART:20231105T100000
END:STANDARD
END:VTIMEZONE
BEGIN:VEVENT
DTSTART;TZID=America/Anchorage:20220908T153000
DTEND;TZID=America/Anchorage:20220908T180000
DTSTAMP:20260421T084649
CREATED:20220907T170139Z
LAST-MODIFIED:20220907T170140Z
UID:1814-1662651000-1662660000@alaskademocrats.org
SUMMARY:Gathering with Mary Peltola in Bethel
DESCRIPTION:While we planned to celebrate our victory in Bethel before going to D.C.\, our current priority is to be with friends and family to support the ongoing search and rescue. While we’re there\, we’ll also be gathering with some community members. Please join us if you can.
URL:https://alaskademocrats.org/event/gathering-with-mary-peltola-in-bethel/
LOCATION:Yupiit Piciryarait Cultural Center\, 420 Chief Eddie Hoffman Hwy\, Bethel\, Alaska\, 99559
END:VEVENT
END:VCALENDAR