BEGIN:VCALENDAR
VERSION:2.0
PRODID:-//Alaska Democrats - ECPv6.15.20//NONSGML v1.0//EN
CALSCALE:GREGORIAN
METHOD:PUBLISH
X-WR-CALNAME:Alaska Democrats
X-ORIGINAL-URL:https://alaskademocrats.org
X-WR-CALDESC:Events for Alaska Democrats
REFRESH-INTERVAL;VALUE=DURATION:PT1H
X-Robots-Tag:noindex
X-PUBLISHED-TTL:PT1H
BEGIN:VTIMEZONE
TZID:America/Anchorage
BEGIN:DAYLIGHT
TZOFFSETFROM:-0900
TZOFFSETTO:-0800
TZNAME:AKDT
DTSTART:20220313T110000
END:DAYLIGHT
BEGIN:STANDARD
TZOFFSETFROM:-0800
TZOFFSETTO:-0900
TZNAME:AKST
DTSTART:20221106T100000
END:STANDARD
BEGIN:DAYLIGHT
TZOFFSETFROM:-0900
TZOFFSETTO:-0800
TZNAME:AKDT
DTSTART:20230312T110000
END:DAYLIGHT
BEGIN:STANDARD
TZOFFSETFROM:-0800
TZOFFSETTO:-0900
TZNAME:AKST
DTSTART:20231105T100000
END:STANDARD
BEGIN:DAYLIGHT
TZOFFSETFROM:-0900
TZOFFSETTO:-0800
TZNAME:AKDT
DTSTART:20240310T110000
END:DAYLIGHT
BEGIN:STANDARD
TZOFFSETFROM:-0800
TZOFFSETTO:-0900
TZNAME:AKST
DTSTART:20241103T100000
END:STANDARD
END:VTIMEZONE
BEGIN:VEVENT
DTSTART;TZID=America/Anchorage:20230728T150000
DTEND;TZID=America/Anchorage:20230728T173000
DTSTAMP:20260421T014443
CREATED:20230721T222447Z
LAST-MODIFIED:20230721T222504Z
UID:5623-1690556400-1690565400@alaskademocrats.org
SUMMARY:Fundraiser to elect Paul to the Assembly
DESCRIPTION:Join School Board Member Will Muldoon\, Former School Board Member Lisa Worl\, Former Commissioner Ed Flanagan\, Cindy Spanyers\, Brenda Knapp\, and King Lam to rally and fundraise to elect Paul Kelly to Juneau Assembly! 
URL:https://alaskademocrats.org/event/fundraiser-to-elect-paul-to-the-assembly/
LOCATION:1940 Fritz Cove Road\, 1940 Fritz Cove Road\, Juneau\, AK\, 99801\, United States
CATEGORIES:Candidate Event,Fundraiser
END:VEVENT
END:VCALENDAR