BEGIN:VCALENDAR
VERSION:2.0
PRODID:-//Alaska Democrats - ECPv6.15.20//NONSGML v1.0//EN
CALSCALE:GREGORIAN
METHOD:PUBLISH
X-WR-CALNAME:Alaska Democrats
X-ORIGINAL-URL:https://alaskademocrats.org
X-WR-CALDESC:Events for Alaska Democrats
REFRESH-INTERVAL;VALUE=DURATION:PT1H
X-Robots-Tag:noindex
X-PUBLISHED-TTL:PT1H
BEGIN:VTIMEZONE
TZID:America/Anchorage
BEGIN:DAYLIGHT
TZOFFSETFROM:-0900
TZOFFSETTO:-0800
TZNAME:AKDT
DTSTART:20210314T110000
END:DAYLIGHT
BEGIN:STANDARD
TZOFFSETFROM:-0800
TZOFFSETTO:-0900
TZNAME:AKST
DTSTART:20211107T100000
END:STANDARD
BEGIN:DAYLIGHT
TZOFFSETFROM:-0900
TZOFFSETTO:-0800
TZNAME:AKDT
DTSTART:20220313T110000
END:DAYLIGHT
BEGIN:STANDARD
TZOFFSETFROM:-0800
TZOFFSETTO:-0900
TZNAME:AKST
DTSTART:20221106T100000
END:STANDARD
BEGIN:DAYLIGHT
TZOFFSETFROM:-0900
TZOFFSETTO:-0800
TZNAME:AKDT
DTSTART:20230312T110000
END:DAYLIGHT
BEGIN:STANDARD
TZOFFSETFROM:-0800
TZOFFSETTO:-0900
TZNAME:AKST
DTSTART:20231105T100000
END:STANDARD
END:VTIMEZONE
BEGIN:VEVENT
DTSTART;TZID=America/Anchorage:20220930T160000
DTEND;TZID=America/Anchorage:20220930T180000
DTSTAMP:20260421T045821
CREATED:20220926T205716Z
LAST-MODIFIED:20220926T205716Z
UID:1961-1664553600-1664560800@alaskademocrats.org
SUMMARY:Fundraiser for Genevieve Mina for State House
DESCRIPTION:You’re invited! Please join hosts Evelyn Abello and Christine Marasigan for a fundraiser to support Genevieve Mina for State House. This gathering is a special opportunity to support a young Filipino American candidate for State House\, and you won’t want to miss it!
URL:https://alaskademocrats.org/event/fundraiser-for-genevieve-mina-for-state-house/
LOCATION:920 R Street\, 920 R Street\, Anchorage\, Alaska\, 99501
END:VEVENT
END:VCALENDAR