BEGIN:VCALENDAR
VERSION:2.0
PRODID:-//Alaska Democrats - ECPv6.15.20//NONSGML v1.0//EN
CALSCALE:GREGORIAN
METHOD:PUBLISH
X-WR-CALNAME:Alaska Democrats
X-ORIGINAL-URL:https://alaskademocrats.org
X-WR-CALDESC:Events for Alaska Democrats
REFRESH-INTERVAL;VALUE=DURATION:PT1H
X-Robots-Tag:noindex
X-PUBLISHED-TTL:PT1H
BEGIN:VTIMEZONE
TZID:America/Anchorage
BEGIN:DAYLIGHT
TZOFFSETFROM:-0900
TZOFFSETTO:-0800
TZNAME:AKDT
DTSTART:20230312T110000
END:DAYLIGHT
BEGIN:STANDARD
TZOFFSETFROM:-0800
TZOFFSETTO:-0900
TZNAME:AKST
DTSTART:20231105T100000
END:STANDARD
BEGIN:DAYLIGHT
TZOFFSETFROM:-0900
TZOFFSETTO:-0800
TZNAME:AKDT
DTSTART:20240310T110000
END:DAYLIGHT
BEGIN:STANDARD
TZOFFSETFROM:-0800
TZOFFSETTO:-0900
TZNAME:AKST
DTSTART:20241103T100000
END:STANDARD
BEGIN:DAYLIGHT
TZOFFSETFROM:-0900
TZOFFSETTO:-0800
TZNAME:AKDT
DTSTART:20250309T110000
END:DAYLIGHT
BEGIN:STANDARD
TZOFFSETFROM:-0800
TZOFFSETTO:-0900
TZNAME:AKST
DTSTART:20251102T100000
END:STANDARD
END:VTIMEZONE
BEGIN:VEVENT
DTSTART;TZID=America/Anchorage:20241030T180000
DTEND;TZID=America/Anchorage:20241030T193000
DTSTAMP:20260422T081916
CREATED:20241028T210827Z
LAST-MODIFIED:20241028T210827Z
UID:15210-1730311200-1730316600@alaskademocrats.org
SUMMARY:Friendbank for Ted Eischeid!
DESCRIPTION:Ted Eischeid’s race is one of the closest legislative races in Alaska this year! Join us for a friendbank – we are going to be meeting up to reach out to our friends and neighbors in the district to tell people why we are voting for Ted\, and to work to get out the vote! Snacks and light refreshments will be provided. Note: this event is best for volunteers with connections/relationships with folks in East Anchorage! We will be asking you to talk to the people in your life about Ted Eischeid’s campaign.
URL:https://alaskademocrats.org/event/friendbank-for-ted-eischeid/
LOCATION:1423 Atkinson Dr\, Anchorage\, Alaska\, 1423 Atkinson Dr\, Anchorage\, AK\, 99504\, United States
CATEGORIES:Candidate Event
END:VEVENT
END:VCALENDAR