BEGIN:VCALENDAR
VERSION:2.0
PRODID:-//Alaska Democrats - ECPv6.15.20//NONSGML v1.0//EN
CALSCALE:GREGORIAN
METHOD:PUBLISH
X-WR-CALNAME:Alaska Democrats
X-ORIGINAL-URL:https://alaskademocrats.org
X-WR-CALDESC:Events for Alaska Democrats
REFRESH-INTERVAL;VALUE=DURATION:PT1H
X-Robots-Tag:noindex
X-PUBLISHED-TTL:PT1H
BEGIN:VTIMEZONE
TZID:America/Anchorage
BEGIN:DAYLIGHT
TZOFFSETFROM:-0900
TZOFFSETTO:-0800
TZNAME:AKDT
DTSTART:20220313T110000
END:DAYLIGHT
BEGIN:STANDARD
TZOFFSETFROM:-0800
TZOFFSETTO:-0900
TZNAME:AKST
DTSTART:20221106T100000
END:STANDARD
BEGIN:DAYLIGHT
TZOFFSETFROM:-0900
TZOFFSETTO:-0800
TZNAME:AKDT
DTSTART:20230312T110000
END:DAYLIGHT
BEGIN:STANDARD
TZOFFSETFROM:-0800
TZOFFSETTO:-0900
TZNAME:AKST
DTSTART:20231105T100000
END:STANDARD
BEGIN:DAYLIGHT
TZOFFSETFROM:-0900
TZOFFSETTO:-0800
TZNAME:AKDT
DTSTART:20240310T110000
END:DAYLIGHT
BEGIN:STANDARD
TZOFFSETFROM:-0800
TZOFFSETTO:-0900
TZNAME:AKST
DTSTART:20241103T100000
END:STANDARD
END:VTIMEZONE
BEGIN:VEVENT
DTSTART;TZID=America/Anchorage:20231020T153000
DTEND;TZID=America/Anchorage:20231020T173000
DTSTAMP:20260421T100708
CREATED:20231016T193315Z
LAST-MODIFIED:20231016T193315Z
UID:5960-1697815800-1697823000@alaskademocrats.org
SUMMARY:Fiesta Fantástica with Dora Wilson!
DESCRIPTION:Get your party hats out and your appetite ready\, because we’re having – Fiesta Fantástica\, a caliente\, caliente\, caliente fundraiser for La Señora Dora Wilson’s Anchorage School Board re-election campaign!When: Friday\, October 20th\, 5:30 – 7:30 PMWhere: Las Margaritas\, 541 W. Dimond Blvd.In the Las Margaritas Party Room\, you’ll enjoy the free Taco Bar and meet & mingle with more than 100 incredible cohosts who know that re-electing Dora is essential to ensuring that our schools remain strong and that our children are provided with the best possible opportunities to succeed!If you can’t attend but want to support Dora\, click to donate! https://secure.anedot.com/dora-wilson/social
URL:https://alaskademocrats.org/event/fiesta-fantastica-with-dora-wilson/
LOCATION:Las Margaritas\, 541 W Dimond Blvd.\, Anchorage\, AK\, 99515\, United States
CATEGORIES:Candidate Event,Fundraiser
END:VEVENT
END:VCALENDAR