BEGIN:VCALENDAR
VERSION:2.0
PRODID:-//Alaska Democrats - ECPv6.15.20//NONSGML v1.0//EN
CALSCALE:GREGORIAN
METHOD:PUBLISH
X-WR-CALNAME:Alaska Democrats
X-ORIGINAL-URL:https://alaskademocrats.org
X-WR-CALDESC:Events for Alaska Democrats
REFRESH-INTERVAL;VALUE=DURATION:PT1H
X-Robots-Tag:noindex
X-PUBLISHED-TTL:PT1H
BEGIN:VTIMEZONE
TZID:America/Anchorage
BEGIN:DAYLIGHT
TZOFFSETFROM:-0900
TZOFFSETTO:-0800
TZNAME:AKDT
DTSTART:20240310T110000
END:DAYLIGHT
BEGIN:STANDARD
TZOFFSETFROM:-0800
TZOFFSETTO:-0900
TZNAME:AKST
DTSTART:20241103T100000
END:STANDARD
BEGIN:DAYLIGHT
TZOFFSETFROM:-0900
TZOFFSETTO:-0800
TZNAME:AKDT
DTSTART:20250309T110000
END:DAYLIGHT
BEGIN:STANDARD
TZOFFSETFROM:-0800
TZOFFSETTO:-0900
TZNAME:AKST
DTSTART:20251102T100000
END:STANDARD
BEGIN:DAYLIGHT
TZOFFSETFROM:-0900
TZOFFSETTO:-0800
TZNAME:AKDT
DTSTART:20260308T110000
END:DAYLIGHT
BEGIN:STANDARD
TZOFFSETFROM:-0800
TZOFFSETTO:-0900
TZNAME:AKST
DTSTART:20261101T100000
END:STANDARD
END:VTIMEZONE
BEGIN:VEVENT
DTSTART;TZID=America/Anchorage:20250326T160000
DTEND;TZID=America/Anchorage:20250326T171500
DTSTAMP:20260419T082631
CREATED:20250326T225853Z
LAST-MODIFIED:20250326T225853Z
UID:18099-1743004800-1743009300@alaskademocrats.org
SUMMARY:Evening Sign Waving with Kameron Perez-Verdia and Kelly Lessens
DESCRIPTION:Join Team Kameron and Team Kelly to sign wave in support of Kameron for Assembly and Kelly for School Board! They will meet at the corner of Minnesota and Northern Lights and will have signs for you to wave. Just bring yourself and dress for the weather.You can RSVP here.
URL:https://alaskademocrats.org/event/evening-sign-waving-with-kameron-perez-verdia-and-kelly-lessens/
LOCATION:Corner of Minnesota and Northern Lights
CATEGORIES:Candidate Event
END:VEVENT
END:VCALENDAR