BEGIN:VCALENDAR
VERSION:2.0
PRODID:-//Alaska Democrats - ECPv6.15.20//NONSGML v1.0//EN
CALSCALE:GREGORIAN
METHOD:PUBLISH
X-WR-CALNAME:Alaska Democrats
X-ORIGINAL-URL:https://alaskademocrats.org
X-WR-CALDESC:Events for Alaska Democrats
REFRESH-INTERVAL;VALUE=DURATION:PT1H
X-Robots-Tag:noindex
X-PUBLISHED-TTL:PT1H
BEGIN:VTIMEZONE
TZID:America/Anchorage
BEGIN:DAYLIGHT
TZOFFSETFROM:-0900
TZOFFSETTO:-0800
TZNAME:AKDT
DTSTART:20230312T110000
END:DAYLIGHT
BEGIN:STANDARD
TZOFFSETFROM:-0800
TZOFFSETTO:-0900
TZNAME:AKST
DTSTART:20231105T100000
END:STANDARD
BEGIN:DAYLIGHT
TZOFFSETFROM:-0900
TZOFFSETTO:-0800
TZNAME:AKDT
DTSTART:20240310T110000
END:DAYLIGHT
BEGIN:STANDARD
TZOFFSETFROM:-0800
TZOFFSETTO:-0900
TZNAME:AKST
DTSTART:20241103T100000
END:STANDARD
BEGIN:DAYLIGHT
TZOFFSETFROM:-0900
TZOFFSETTO:-0800
TZNAME:AKDT
DTSTART:20250309T110000
END:DAYLIGHT
BEGIN:STANDARD
TZOFFSETFROM:-0800
TZOFFSETTO:-0900
TZNAME:AKST
DTSTART:20251102T100000
END:STANDARD
END:VTIMEZONE
BEGIN:VEVENT
DTSTART;TZID=America/Anchorage:20241105T100000
DTEND;TZID=America/Anchorage:20241105T190000
DTSTAMP:20260421T063517
CREATED:20241029T225441Z
LAST-MODIFIED:20241029T225441Z
UID:15263-1730800800-1730833200@alaskademocrats.org
SUMMARY:Election Day GOTV in the Mat-Su!
DESCRIPTION:It’s the final push to Election Day as we work to protect the Mat-Su from our extreme opponent. Take action to re-elect Mary today! Join Team Mary on the three weekends leading up to November 5 to Get Out the Vote in Wasilla!! Wasilla canvass launches will be held every weekend\, Saturday AND Sunday\, at 10am\, 1pm\, and 4pm at our Wasilla office. All you need to bring is a fully charged smartphone and some warm clothes! Sign up for a shift here: https://www.mobilize.us/marypeltolaforcongress/event/716820/
URL:https://alaskademocrats.org/event/election-day-gotv-in-the-mat-su/
LOCATION:Mary Peltola Wasilla Field Office\, 231 E Swanson Ave\, Wasilla\, 99654\, United States
CATEGORIES:Candidate Event
ORGANIZER;CN="Alaska Democratic Party":MAILTO:info@anchoragedems.org
END:VEVENT
END:VCALENDAR