BEGIN:VCALENDAR
VERSION:2.0
PRODID:-//Alaska Democrats - ECPv6.15.20//NONSGML v1.0//EN
CALSCALE:GREGORIAN
METHOD:PUBLISH
X-WR-CALNAME:Alaska Democrats
X-ORIGINAL-URL:https://alaskademocrats.org
X-WR-CALDESC:Events for Alaska Democrats
REFRESH-INTERVAL;VALUE=DURATION:PT1H
X-Robots-Tag:noindex
X-PUBLISHED-TTL:PT1H
BEGIN:VTIMEZONE
TZID:America/Anchorage
BEGIN:DAYLIGHT
TZOFFSETFROM:-0900
TZOFFSETTO:-0800
TZNAME:AKDT
DTSTART:20230312T110000
END:DAYLIGHT
BEGIN:STANDARD
TZOFFSETFROM:-0800
TZOFFSETTO:-0900
TZNAME:AKST
DTSTART:20231105T100000
END:STANDARD
BEGIN:DAYLIGHT
TZOFFSETFROM:-0900
TZOFFSETTO:-0800
TZNAME:AKDT
DTSTART:20240310T110000
END:DAYLIGHT
BEGIN:STANDARD
TZOFFSETFROM:-0800
TZOFFSETTO:-0900
TZNAME:AKST
DTSTART:20241103T100000
END:STANDARD
BEGIN:DAYLIGHT
TZOFFSETFROM:-0900
TZOFFSETTO:-0800
TZNAME:AKDT
DTSTART:20250309T110000
END:DAYLIGHT
BEGIN:STANDARD
TZOFFSETFROM:-0800
TZOFFSETTO:-0900
TZNAME:AKST
DTSTART:20251102T100000
END:STANDARD
END:VTIMEZONE
BEGIN:VEVENT
DTSTART;TZID=America/Anchorage:20241025T170000
DTEND;TZID=America/Anchorage:20241025T193000
DTSTAMP:20260421T153853
CREATED:20241002T232212Z
LAST-MODIFIED:20241002T232212Z
UID:13638-1729875600-1729884600@alaskademocrats.org
SUMMARY:East Side ROCKS Volunteer Rally
DESCRIPTION:The final countdown to Election Day has begun and we need all hands on deck! Join us for the East Side Rocks Volunteer Rally with our East Side Anchorage candidates – Andrew Gray\, Genevieve Mina\, Donna Mears\, Cliff Groh\, Ted Eischeid\, and Forrest Dunbar! We will have food\, drinks\, entertainment\, good conversation\, and resources to get you involved in the final days of election season. Let’s finish strong! The rally will be on October 25th from 5 PM – 7:30 PM at the Dr. Lidia Selkregg Chalet at Russian Jack Springs Park.RSVP HERE: https://www.mobilize.us/akdems/event/715427/
URL:https://alaskademocrats.org/event/east-side-rocks-volunteer-rally/
LOCATION:Dr. Lidia Selkregg Chalet at Russian Jack Springs Park\, 1600 Lidia Selkregg Ln\, Anchorage\, AK\, 99504\, United States
CATEGORIES:Candidate Event
END:VEVENT
END:VCALENDAR