BEGIN:VCALENDAR
VERSION:2.0
PRODID:-//Alaska Democrats - ECPv6.15.20//NONSGML v1.0//EN
CALSCALE:GREGORIAN
METHOD:PUBLISH
X-WR-CALNAME:Alaska Democrats
X-ORIGINAL-URL:https://alaskademocrats.org
X-WR-CALDESC:Events for Alaska Democrats
REFRESH-INTERVAL;VALUE=DURATION:PT1H
X-Robots-Tag:noindex
X-PUBLISHED-TTL:PT1H
BEGIN:VTIMEZONE
TZID:America/Anchorage
BEGIN:DAYLIGHT
TZOFFSETFROM:-0900
TZOFFSETTO:-0800
TZNAME:AKDT
DTSTART:20230312T110000
END:DAYLIGHT
BEGIN:STANDARD
TZOFFSETFROM:-0800
TZOFFSETTO:-0900
TZNAME:AKST
DTSTART:20231105T100000
END:STANDARD
BEGIN:DAYLIGHT
TZOFFSETFROM:-0900
TZOFFSETTO:-0800
TZNAME:AKDT
DTSTART:20240310T110000
END:DAYLIGHT
BEGIN:STANDARD
TZOFFSETFROM:-0800
TZOFFSETTO:-0900
TZNAME:AKST
DTSTART:20241103T100000
END:STANDARD
BEGIN:DAYLIGHT
TZOFFSETFROM:-0900
TZOFFSETTO:-0800
TZNAME:AKDT
DTSTART:20250309T110000
END:DAYLIGHT
BEGIN:STANDARD
TZOFFSETFROM:-0800
TZOFFSETTO:-0900
TZNAME:AKST
DTSTART:20251102T100000
END:STANDARD
END:VTIMEZONE
BEGIN:VEVENT
DTSTART;TZID=America/Anchorage:20240928T110000
DTEND;TZID=America/Anchorage:20240928T130000
DTSTAMP:20260421T130831
CREATED:20240928T000231Z
LAST-MODIFIED:20240928T000231Z
UID:13527-1727521200-1727528400@alaskademocrats.org
SUMMARY:Door Knocking with Denny Wells
DESCRIPTION:We’re weeks away from the Nov. 5thElection! Join Denny and an amazing group of volunteers and supporters as we talk with friends and neighbors about the importance of this race. When: Saturday\, Sept. 28th from 11 am to 1 pm. Where: 3309 North Shore Drive\, Anchorage\, AK 99502
URL:https://alaskademocrats.org/event/door-knocking-with-denny-wells/
LOCATION:3309 North Shore Drive\, 3309 North Shore Drive\, Anchorage\, AK\, 99502\, United States
CATEGORIES:Candidate Event
END:VEVENT
END:VCALENDAR