BEGIN:VCALENDAR
VERSION:2.0
PRODID:-//Alaska Democrats - ECPv6.15.20//NONSGML v1.0//EN
CALSCALE:GREGORIAN
METHOD:PUBLISH
X-WR-CALNAME:Alaska Democrats
X-ORIGINAL-URL:https://alaskademocrats.org
X-WR-CALDESC:Events for Alaska Democrats
REFRESH-INTERVAL;VALUE=DURATION:PT1H
X-Robots-Tag:noindex
X-PUBLISHED-TTL:PT1H
BEGIN:VTIMEZONE
TZID:America/Anchorage
BEGIN:DAYLIGHT
TZOFFSETFROM:-0900
TZOFFSETTO:-0800
TZNAME:AKDT
DTSTART:20220313T110000
END:DAYLIGHT
BEGIN:STANDARD
TZOFFSETFROM:-0800
TZOFFSETTO:-0900
TZNAME:AKST
DTSTART:20221106T100000
END:STANDARD
BEGIN:DAYLIGHT
TZOFFSETFROM:-0900
TZOFFSETTO:-0800
TZNAME:AKDT
DTSTART:20230312T110000
END:DAYLIGHT
BEGIN:STANDARD
TZOFFSETFROM:-0800
TZOFFSETTO:-0900
TZNAME:AKST
DTSTART:20231105T100000
END:STANDARD
BEGIN:DAYLIGHT
TZOFFSETFROM:-0900
TZOFFSETTO:-0800
TZNAME:AKDT
DTSTART:20240310T110000
END:DAYLIGHT
BEGIN:STANDARD
TZOFFSETFROM:-0800
TZOFFSETTO:-0900
TZNAME:AKST
DTSTART:20241103T100000
END:STANDARD
END:VTIMEZONE
BEGIN:VEVENT
DTSTART;TZID=America/Anchorage:20231118T083000
DTEND;TZID=America/Anchorage:20231118T100000
DTSTAMP:20260421T145828
CREATED:20231114T210823Z
LAST-MODIFIED:20231114T210823Z
UID:6086-1700296200-1700301600@alaskademocrats.org
SUMMARY:District I constituent meeting with Senator Löki Gale Tobin
DESCRIPTION:Please join Senator Löki Gale Tobin Saturday\, November 18th for a cup of coffee and some lively discussion about the issues of the day. There are definitely some issues to talk about\, but more importantly\, Senator Tobin wants to hear from you. (weather permitting!) 
URL:https://alaskademocrats.org/event/district-i-constituent-meeting-with-senator-loki-gale-tobin/
LOCATION:New Sagaya City Market\, 900 W 13th Avenue\, Anchorage\, Alaska\, 99501
END:VEVENT
END:VCALENDAR