BEGIN:VCALENDAR
VERSION:2.0
PRODID:-//Alaska Democrats - ECPv6.15.20//NONSGML v1.0//EN
CALSCALE:GREGORIAN
METHOD:PUBLISH
X-WR-CALNAME:Alaska Democrats
X-ORIGINAL-URL:https://alaskademocrats.org
X-WR-CALDESC:Events for Alaska Democrats
REFRESH-INTERVAL;VALUE=DURATION:PT1H
X-Robots-Tag:noindex
X-PUBLISHED-TTL:PT1H
BEGIN:VTIMEZONE
TZID:America/Anchorage
BEGIN:DAYLIGHT
TZOFFSETFROM:-0900
TZOFFSETTO:-0800
TZNAME:AKDT
DTSTART:20220313T110000
END:DAYLIGHT
BEGIN:STANDARD
TZOFFSETFROM:-0800
TZOFFSETTO:-0900
TZNAME:AKST
DTSTART:20221106T100000
END:STANDARD
BEGIN:DAYLIGHT
TZOFFSETFROM:-0900
TZOFFSETTO:-0800
TZNAME:AKDT
DTSTART:20230312T110000
END:DAYLIGHT
BEGIN:STANDARD
TZOFFSETFROM:-0800
TZOFFSETTO:-0900
TZNAME:AKST
DTSTART:20231105T100000
END:STANDARD
BEGIN:DAYLIGHT
TZOFFSETFROM:-0900
TZOFFSETTO:-0800
TZNAME:AKDT
DTSTART:20240310T110000
END:DAYLIGHT
BEGIN:STANDARD
TZOFFSETFROM:-0800
TZOFFSETTO:-0900
TZNAME:AKST
DTSTART:20241103T100000
END:STANDARD
END:VTIMEZONE
BEGIN:VEVENT
DTSTART;TZID=America/Anchorage:20231203T130000
DTEND;TZID=America/Anchorage:20231203T150000
DTSTAMP:20260420T065232
CREATED:20231127T214823Z
LAST-MODIFIED:20231127T214823Z
UID:6113-1701608400-1701615600@alaskademocrats.org
SUMMARY:Ashley for Alaska Re-election Kickoff
DESCRIPTION:Join Rep. Ashley Carrick at her re-election kick off Sunday\, December 3\, 2-4PM! Last year\, Rep. Carrick ran an “All In For Alaska” campaign to promote Alaska’s economic future\, preserve access to education and higher education\, and protect the public health\, safety\, and wellbeing of all Alaskans. Come learn how I have been working on these priorities and let me know how I can continue to serve our community best in the State House. I am so excited to see you there! #allinforak #ashleyforalaskaYou are welcome to make contributions online at: https://secure.actblue.com/donate/ashleyforalaska
URL:https://alaskademocrats.org/event/ashley-for-alaska-re-election-kickoff/
LOCATION:Little Owl Café\, 1755 Westwood Wat\, Ste 2\, Fairbanks\, 99709\, United States
CATEGORIES:Candidate Event
END:VEVENT
END:VCALENDAR