BEGIN:VCALENDAR
VERSION:2.0
PRODID:-//Alaska Democrats - ECPv6.15.20//NONSGML v1.0//EN
CALSCALE:GREGORIAN
METHOD:PUBLISH
X-WR-CALNAME:Alaska Democrats
X-ORIGINAL-URL:https://alaskademocrats.org
X-WR-CALDESC:Events for Alaska Democrats
REFRESH-INTERVAL;VALUE=DURATION:PT1H
X-Robots-Tag:noindex
X-PUBLISHED-TTL:PT1H
BEGIN:VTIMEZONE
TZID:America/Anchorage
BEGIN:DAYLIGHT
TZOFFSETFROM:-0900
TZOFFSETTO:-0800
TZNAME:AKDT
DTSTART:20220313T110000
END:DAYLIGHT
BEGIN:STANDARD
TZOFFSETFROM:-0800
TZOFFSETTO:-0900
TZNAME:AKST
DTSTART:20221106T100000
END:STANDARD
BEGIN:DAYLIGHT
TZOFFSETFROM:-0900
TZOFFSETTO:-0800
TZNAME:AKDT
DTSTART:20230312T110000
END:DAYLIGHT
BEGIN:STANDARD
TZOFFSETFROM:-0800
TZOFFSETTO:-0900
TZNAME:AKST
DTSTART:20231105T100000
END:STANDARD
BEGIN:DAYLIGHT
TZOFFSETFROM:-0900
TZOFFSETTO:-0800
TZNAME:AKDT
DTSTART:20240310T110000
END:DAYLIGHT
BEGIN:STANDARD
TZOFFSETFROM:-0800
TZOFFSETTO:-0900
TZNAME:AKST
DTSTART:20241103T100000
END:STANDARD
END:VTIMEZONE
BEGIN:VEVENT
DTSTART;TZID=America/Anchorage:20231214T170000
DTEND;TZID=America/Anchorage:20231214T190000
DTSTAMP:20260420T034018
CREATED:20231103T020752Z
LAST-MODIFIED:20231113T213157Z
UID:6038-1702573200-1702580400@alaskademocrats.org
SUMMARY:Annual Holiday Auction
DESCRIPTION:Please join us at 6PM on December 14th at the Alaska Native Heritage Center for the Alaska Democratic Party’s Annual Holiday Auction to gear up for 2024 elections! The event will feature guest speakers\, dinner\, and silent and live auction items! Live Auction items include trips to Hawaii for some fun in the sun\, quaint and quiet trips to Homer\, and many more unique experiences. Funds raised will support the Alaska Democratic Party’s activities to elect Democrats up and down the ticket through training\, digital\, mail and other efforts to re-elect Pres. Joe Biden\, Rep. Mary Peltola\, and to elect more democratic lawmakers in Juneau for a veto proof majority!Get your tickets here:https://secure.actblue.com/donate/2023adpauction
URL:https://alaskademocrats.org/event/annual-holiday-auction/
LOCATION:Alaska Native Heritage Center\, 8800 Heritage Center Drive\, Anchorage\, 99504\, United States
CATEGORIES:Event,Fundraiser
ORGANIZER;CN="Alaska Democratic Party":MAILTO:info@anchoragedems.org
END:VEVENT
END:VCALENDAR