BEGIN:VCALENDAR
VERSION:2.0
PRODID:-//Alaska Democrats - ECPv6.15.20//NONSGML v1.0//EN
CALSCALE:GREGORIAN
METHOD:PUBLISH
X-WR-CALNAME:Alaska Democrats
X-ORIGINAL-URL:https://alaskademocrats.org
X-WR-CALDESC:Events for Alaska Democrats
REFRESH-INTERVAL;VALUE=DURATION:PT1H
X-Robots-Tag:noindex
X-PUBLISHED-TTL:PT1H
BEGIN:VTIMEZONE
TZID:America/Anchorage
BEGIN:DAYLIGHT
TZOFFSETFROM:-0900
TZOFFSETTO:-0800
TZNAME:AKDT
DTSTART:20240310T110000
END:DAYLIGHT
BEGIN:STANDARD
TZOFFSETFROM:-0800
TZOFFSETTO:-0900
TZNAME:AKST
DTSTART:20241103T100000
END:STANDARD
BEGIN:DAYLIGHT
TZOFFSETFROM:-0900
TZOFFSETTO:-0800
TZNAME:AKDT
DTSTART:20250309T110000
END:DAYLIGHT
BEGIN:STANDARD
TZOFFSETFROM:-0800
TZOFFSETTO:-0900
TZNAME:AKST
DTSTART:20251102T100000
END:STANDARD
BEGIN:DAYLIGHT
TZOFFSETFROM:-0900
TZOFFSETTO:-0800
TZNAME:AKDT
DTSTART:20260308T110000
END:DAYLIGHT
BEGIN:STANDARD
TZOFFSETFROM:-0800
TZOFFSETTO:-0900
TZNAME:AKST
DTSTART:20261101T100000
END:STANDARD
END:VTIMEZONE
BEGIN:VEVENT
DTSTART;TZID=America/Anchorage:20250320T170000
DTEND;TZID=America/Anchorage:20250320T183000
DTSTAMP:20260419T064851
CREATED:20250318T003542Z
LAST-MODIFIED:20250318T003542Z
UID:17979-1742490000-1742495400@alaskademocrats.org
SUMMARY:Anchorage Municipal Election GOTV
DESCRIPTION:Drop off your ballot on your way or when you leave our GOTV event with guest speakers\, former Rep. Mary Peltola\, Mayor Suzanne LaFrance\, and Chairman Eric Croft.We are down to the final days before ballots must be returned\, and it’s time to get out the vote! We’ll have appetizers\, beverages\, and good conversation. If you would like to learn more about the candidates for the Anchorage Municipal Election\, you can find more here: https://alaskademocrats.org/municipal-candidates/When you get to the building\, you’ll find us on the second floor in suite 210! We hope to see you there.If you cannot attend in person but would like to hear from our guest speakers\, you can register here: https://us06web.zoom.us/…/register/qMTMo0_ySy6dh-whMR_3AQ
URL:https://alaskademocrats.org/event/anchorage-municipal-election-gotv/
LOCATION:Alaska Democrats Anchorage HQ\, 1500 W 33rd Ave\, Suite 210\, Anchorage\, AK\, 99503\, United States
CATEGORIES:Event
ORGANIZER;CN="Alaska Democratic Party":MAILTO:info@anchoragedems.org
END:VEVENT
END:VCALENDAR