BEGIN:VCALENDAR
VERSION:2.0
PRODID:-//Alaska Democrats - ECPv6.15.20//NONSGML v1.0//EN
CALSCALE:GREGORIAN
METHOD:PUBLISH
X-WR-CALNAME:Alaska Democrats
X-ORIGINAL-URL:https://alaskademocrats.org
X-WR-CALDESC:Events for Alaska Democrats
REFRESH-INTERVAL;VALUE=DURATION:PT1H
X-Robots-Tag:noindex
X-PUBLISHED-TTL:PT1H
BEGIN:VTIMEZONE
TZID:America/Anchorage
BEGIN:DAYLIGHT
TZOFFSETFROM:-0900
TZOFFSETTO:-0800
TZNAME:AKDT
DTSTART:20240310T110000
END:DAYLIGHT
BEGIN:STANDARD
TZOFFSETFROM:-0800
TZOFFSETTO:-0900
TZNAME:AKST
DTSTART:20241103T100000
END:STANDARD
BEGIN:DAYLIGHT
TZOFFSETFROM:-0900
TZOFFSETTO:-0800
TZNAME:AKDT
DTSTART:20250309T110000
END:DAYLIGHT
BEGIN:STANDARD
TZOFFSETFROM:-0800
TZOFFSETTO:-0900
TZNAME:AKST
DTSTART:20251102T100000
END:STANDARD
BEGIN:DAYLIGHT
TZOFFSETFROM:-0900
TZOFFSETTO:-0800
TZNAME:AKDT
DTSTART:20260308T110000
END:DAYLIGHT
BEGIN:STANDARD
TZOFFSETFROM:-0800
TZOFFSETTO:-0900
TZNAME:AKST
DTSTART:20261101T100000
END:STANDARD
END:VTIMEZONE
BEGIN:VEVENT
DTSTART;TZID=America/Anchorage:20250329T100000
DTEND;TZID=America/Anchorage:20250329T160000
DTSTAMP:20260419T094330
CREATED:20250326T220824Z
LAST-MODIFIED:20250326T220824Z
UID:18080-1743242400-1743264000@alaskademocrats.org
SUMMARY:Anchorage Community Canvass for Daniel Volland
DESCRIPTION:Join Team Volland for a community canvass in support of Daniel Volland as he runs for re-election to the Anchorage Assembly! They’ll be knocking on doors\, talking with neighbors\, and making sure voters know about Daniel’s commitment to public safety\, economic growth\, and a stronger Anchorage. No experience is needed! Team Volland will provide training\, scripts\, and all the materials you need. Just bring comfortable walking shoes and a passion for making a difference!You can RSVP here.
URL:https://alaskademocrats.org/event/anchorage-community-canvass-for-daniel-volland/
LOCATION:1432 Ingra St\, 1432 Ingra St\, Anchorage\, AK\, 99501\, United States
CATEGORIES:Candidate Event
END:VEVENT
END:VCALENDAR