BEGIN:VCALENDAR
VERSION:2.0
PRODID:-//Alaska Democrats - ECPv6.15.20//NONSGML v1.0//EN
CALSCALE:GREGORIAN
METHOD:PUBLISH
X-WR-CALNAME:Alaska Democrats
X-ORIGINAL-URL:https://alaskademocrats.org
X-WR-CALDESC:Events for Alaska Democrats
REFRESH-INTERVAL;VALUE=DURATION:PT1H
X-Robots-Tag:noindex
X-PUBLISHED-TTL:PT1H
BEGIN:VTIMEZONE
TZID:America/Anchorage
BEGIN:DAYLIGHT
TZOFFSETFROM:-0900
TZOFFSETTO:-0800
TZNAME:AKDT
DTSTART:20240310T110000
END:DAYLIGHT
BEGIN:STANDARD
TZOFFSETFROM:-0800
TZOFFSETTO:-0900
TZNAME:AKST
DTSTART:20241103T100000
END:STANDARD
BEGIN:DAYLIGHT
TZOFFSETFROM:-0900
TZOFFSETTO:-0800
TZNAME:AKDT
DTSTART:20250309T110000
END:DAYLIGHT
BEGIN:STANDARD
TZOFFSETFROM:-0800
TZOFFSETTO:-0900
TZNAME:AKST
DTSTART:20251102T100000
END:STANDARD
BEGIN:DAYLIGHT
TZOFFSETFROM:-0900
TZOFFSETTO:-0800
TZNAME:AKDT
DTSTART:20260308T110000
END:DAYLIGHT
BEGIN:STANDARD
TZOFFSETFROM:-0800
TZOFFSETTO:-0900
TZNAME:AKST
DTSTART:20261101T100000
END:STANDARD
END:VTIMEZONE
BEGIN:VEVENT
DTSTART;VALUE=DATE:20251010
DTEND;VALUE=DATE:20251013
DTSTAMP:20260423T193539
CREATED:20250731T142011Z
LAST-MODIFIED:20250731T142011Z
UID:19607-1760054400-1760313599@alaskademocrats.org
SUMMARY:Alaska Women Ascend 2025 Leadership Training
DESCRIPTION:This year\, Alaska Women Ascend (AWA) is hosting a statewide leadership training that prepares progressive women across Alaska to run\, lead\, and win. The event will be October 10–12\, 2025\, in person at Alaska Pacific University in Anchorage. Whether planning to run for office\, support a candidate\, manage campaign finances\, or volunteer for a candidate or cause\, this training will provide succinct and critical information.Since 2017\, nearly 400 women have completed AWA training—many now serve as legislators\, mayors\, assembly members\, nonprofit leaders\, and campaign professionals. The goal is to build a strong\, diverse bench of progressive leaders who are ready to step up and serve.Applications are open now and space is limited. The cost of the conference is $250 per attendee. Travel and conference scholarships are available based on need. Learn more and apply here.
URL:https://alaskademocrats.org/event/alaska-women-ascend-2025-leadership-training/
LOCATION:Alaska Pacific University\, 4101 University Dr\, Anchorage\, Alaska\, 99508
ATTACH;FMTTYPE=application/pdf:https://alaskademocrats.org/wp-content/uploads/2025/07/20251010_AlaskaWomenAscend_Conference.pdf
END:VEVENT
END:VCALENDAR