BEGIN:VCALENDAR
VERSION:2.0
PRODID:-//Alaska Democrats - ECPv6.15.20//NONSGML v1.0//EN
CALSCALE:GREGORIAN
METHOD:PUBLISH
X-WR-CALNAME:Alaska Democrats
X-ORIGINAL-URL:https://alaskademocrats.org
X-WR-CALDESC:Events for Alaska Democrats
REFRESH-INTERVAL;VALUE=DURATION:PT1H
X-Robots-Tag:noindex
X-PUBLISHED-TTL:PT1H
BEGIN:VTIMEZONE
TZID:America/Anchorage
BEGIN:DAYLIGHT
TZOFFSETFROM:-0900
TZOFFSETTO:-0800
TZNAME:AKDT
DTSTART:20240310T110000
END:DAYLIGHT
BEGIN:STANDARD
TZOFFSETFROM:-0800
TZOFFSETTO:-0900
TZNAME:AKST
DTSTART:20241103T100000
END:STANDARD
BEGIN:DAYLIGHT
TZOFFSETFROM:-0900
TZOFFSETTO:-0800
TZNAME:AKDT
DTSTART:20250309T110000
END:DAYLIGHT
BEGIN:STANDARD
TZOFFSETFROM:-0800
TZOFFSETTO:-0900
TZNAME:AKST
DTSTART:20251102T100000
END:STANDARD
BEGIN:DAYLIGHT
TZOFFSETFROM:-0900
TZOFFSETTO:-0800
TZNAME:AKDT
DTSTART:20260308T110000
END:DAYLIGHT
BEGIN:STANDARD
TZOFFSETFROM:-0800
TZOFFSETTO:-0900
TZNAME:AKST
DTSTART:20261101T100000
END:STANDARD
END:VTIMEZONE
BEGIN:VEVENT
DTSTART;TZID=America/Anchorage:20250315T160000
DTEND;TZID=America/Anchorage:20250315T180000
DTSTAMP:20260419T051006
CREATED:20250304T235634Z
LAST-MODIFIED:20250304T235634Z
UID:17410-1742054400-1742061600@alaskademocrats.org
SUMMARY:Alaska Democrats Fundraiser in the Interior
DESCRIPTION:Join the Alaska Democrats for a fundraiser in the Interior on March 15 from 4 – 6 PM. We’ll hear from our co-hosts\, including former Representative Mary Peltola\, Chairman Eric Croft\, and Mayor Grier Hopkins\, as we discuss our goals for 2025 and 2026. Other co-hosts include John Davies and Linda Schandelmeier. RSVP here: https://www.facebook.com/share/19wUipfeBS/We’re working to make sure that the progress Democrats made on the ground in 2024 continues to position us to fight Republicans’ extreme agenda and strengthen our party’s power. Together\, Alaska Democrats can win the Governorship\, U.S. House\, and Senate seats – AND keep control of our State House and Senate in 2026.But to do this\, we cannot sit on the sidelines. With your support\, we can continue to stay in the fight\, build the strongest Party possible\, and help elect leaders who will put people first.If you’re in Fairbanks\, please join us in person! If you cannot attend in person but would like to hear from our guest speakers\, you can register for the Zoom here: https://us06web.zoom.us/…/register/lPWLnQTvQM2Kpsn8ZAgSPgIf you can’t attend in person or virtually\, but would like to donate\, you can contribute here: https://secure.actblue.com/donate/interiorWe look forward to seeing you in person or via Zoom!
URL:https://alaskademocrats.org/event/alaska-democrats-fundraiser-in-the-interior/
LOCATION:Home of John Davies and Linda Schandelmeier\, 1998 Kittiwake Drive\, Fairbanks\, Alaska\, 99709
CATEGORIES:Fundraiser
ORGANIZER;CN="Alaska Democratic Party":MAILTO:info@anchoragedems.org
END:VEVENT
END:VCALENDAR